BEGIN:VCALENDAR
VERSION:2.0
PRODID:-//The Institute Library - ECPv6.15.13//NONSGML v1.0//EN
CALSCALE:GREGORIAN
METHOD:PUBLISH
X-ORIGINAL-URL:https://institutelibrary.org
X-WR-CALDESC:Events for The Institute Library
REFRESH-INTERVAL;VALUE=DURATION:PT1H
X-Robots-Tag:noindex
X-PUBLISHED-TTL:PT1H
BEGIN:VTIMEZONE
TZID:America/New_York
BEGIN:DAYLIGHT
TZOFFSETFROM:-0500
TZOFFSETTO:-0400
TZNAME:EDT
DTSTART:20210314T070000
END:DAYLIGHT
BEGIN:STANDARD
TZOFFSETFROM:-0400
TZOFFSETTO:-0500
TZNAME:EST
DTSTART:20211107T060000
END:STANDARD
BEGIN:DAYLIGHT
TZOFFSETFROM:-0500
TZOFFSETTO:-0400
TZNAME:EDT
DTSTART:20220313T070000
END:DAYLIGHT
BEGIN:STANDARD
TZOFFSETFROM:-0400
TZOFFSETTO:-0500
TZNAME:EST
DTSTART:20221106T060000
END:STANDARD
BEGIN:DAYLIGHT
TZOFFSETFROM:-0500
TZOFFSETTO:-0400
TZNAME:EDT
DTSTART:20230312T070000
END:DAYLIGHT
BEGIN:STANDARD
TZOFFSETFROM:-0400
TZOFFSETTO:-0500
TZNAME:EST
DTSTART:20231105T060000
END:STANDARD
END:VTIMEZONE
BEGIN:VEVENT
DTSTART;TZID=America/New_York:20220113T140000
DTEND;TZID=America/New_York:20220113T160000
DTSTAMP:20260425T085745
CREATED:20211210T224809Z
LAST-MODIFIED:20211210T225134Z
UID:3618-1642082400-1642089600@institutelibrary.org
SUMMARY:Institute Library Story-Sharing Group
DESCRIPTION:Join the Institute Library Story-Sharing group on Thursday\, January 13\, at 7:00 p.m. via  Zoom: https://us06web.zoom.us/j/82984857044 \nStory-Sharing meets the SECOND THURSDAY of the month. If you have any questions please reach out to Arnie Pritchard (apritchard01@snet.net) — see you there! \n 
URL:https://institutelibrary.org/event/story-sharing/
LOCATION:Institute Library via Zoom
CATEGORIES:Story Sharing
ATTACH;FMTTYPE=image/jpeg:https://institutelibrary.org/wp-content/uploads/2021/12/SG-LOGO.jpg
END:VEVENT
END:VCALENDAR