BEGIN:VCALENDAR
VERSION:2.0
PRODID:-//The Institute Library - ECPv6.15.13//NONSGML v1.0//EN
CALSCALE:GREGORIAN
METHOD:PUBLISH
X-WR-CALNAME:The Institute Library
X-ORIGINAL-URL:https://institutelibrary.org
X-WR-CALDESC:Events for The Institute Library
REFRESH-INTERVAL;VALUE=DURATION:PT1H
X-Robots-Tag:noindex
X-PUBLISHED-TTL:PT1H
BEGIN:VTIMEZONE
TZID:America/New_York
BEGIN:DAYLIGHT
TZOFFSETFROM:-0500
TZOFFSETTO:-0400
TZNAME:EDT
DTSTART:20230312T070000
END:DAYLIGHT
BEGIN:STANDARD
TZOFFSETFROM:-0400
TZOFFSETTO:-0500
TZNAME:EST
DTSTART:20231105T060000
END:STANDARD
BEGIN:DAYLIGHT
TZOFFSETFROM:-0500
TZOFFSETTO:-0400
TZNAME:EDT
DTSTART:20240310T070000
END:DAYLIGHT
BEGIN:STANDARD
TZOFFSETFROM:-0400
TZOFFSETTO:-0500
TZNAME:EST
DTSTART:20241103T060000
END:STANDARD
BEGIN:DAYLIGHT
TZOFFSETFROM:-0500
TZOFFSETTO:-0400
TZNAME:EDT
DTSTART:20250309T070000
END:DAYLIGHT
BEGIN:STANDARD
TZOFFSETFROM:-0400
TZOFFSETTO:-0500
TZNAME:EST
DTSTART:20251102T060000
END:STANDARD
BEGIN:DAYLIGHT
TZOFFSETFROM:-0500
TZOFFSETTO:-0400
TZNAME:EDT
DTSTART:20260308T070000
END:DAYLIGHT
BEGIN:STANDARD
TZOFFSETFROM:-0400
TZOFFSETTO:-0500
TZNAME:EST
DTSTART:20261101T060000
END:STANDARD
BEGIN:DAYLIGHT
TZOFFSETFROM:-0500
TZOFFSETTO:-0400
TZNAME:EDT
DTSTART:20270314T070000
END:DAYLIGHT
BEGIN:STANDARD
TZOFFSETFROM:-0400
TZOFFSETTO:-0500
TZNAME:EST
DTSTART:20271107T060000
END:STANDARD
END:VTIMEZONE
BEGIN:VEVENT
DTSTART;TZID=America/New_York:20250711T171500
DTEND;TZID=America/New_York:20250711T200000
DTSTAMP:20260423T044502
CREATED:20250708T135505Z
LAST-MODIFIED:20250708T140642Z
UID:5634-1752254100-1752264000@institutelibrary.org
SUMMARY:Jazz
DESCRIPTION:Although always subject to change as to artistic spotlight\, Friday Night Jazz will continue a swinging tour of that great American art form\, “LP Jazz”\, meeting at 5:15 or so every Friday\, in the third floor music room\, to consider\, contemplate and appreciate the wonders in the Collection. \nFriday Night Jazz is\, as always\, a BYOB\, BYO Snack evening; the crowd’s always appreciative and always excited to see what people bring. Updates to the schedule\, including inclement weather closures\, will be provided via the internal Jazz email list. Want to be added to that list? Let us know! \nPlease consider making a $5 donation when you come to Friday Jazz. \nFriday Night Jazz is presented with support from Jazz Haven www.jazzhaven.org
URL:https://institutelibrary.org/event/happy-hour-jazz-3-2/
LOCATION:The Institute LIbrary\, 847 Chapel Street\, New Haven\, CT\, 06510
CATEGORIES:Jazz at the Institute Library
ATTACH;FMTTYPE=image/jpeg:https://institutelibrary.org/wp-content/uploads/2025/02/FRI-nite-JAZZ-logo.jpg
END:VEVENT
BEGIN:VEVENT
DTSTART;VALUE=DATE:20260207
DTEND;VALUE=DATE:20260329
DTSTAMP:20260423T044502
CREATED:20260202T234409Z
LAST-MODIFIED:20260202T234752Z
UID:5823-1770422400-1774742399@institutelibrary.org
SUMMARY:In the Gallery | Forecast: Reading the Signs
DESCRIPTION:
URL:https://institutelibrary.org/event/in-the-gallery-forecast-reading-the-signs/
LOCATION:The Gallery Upstairs at The Institute Library\, 847 Chapel Street\, New Haven\, CT\, 06510\, United States
CATEGORIES:The Gallery Upstairs
ATTACH;FMTTYPE=image/jpeg:https://institutelibrary.org/wp-content/uploads/2026/02/forecast-poster-with-names-final-copy.jpg
END:VEVENT
BEGIN:VEVENT
DTSTART;TZID=America/New_York:20260207T170000
DTEND;TZID=America/New_York:20260207T190000
DTSTAMP:20260423T044502
CREATED:20260202T234133Z
LAST-MODIFIED:20260202T234721Z
UID:5819-1770483600-1770490800@institutelibrary.org
SUMMARY:Opening Reception | Forecast: Reading the Signs
DESCRIPTION:
URL:https://institutelibrary.org/event/opening-reception-forecast-reading-the-signs/
LOCATION:The Gallery Upstairs at The Institute Library\, 847 Chapel Street\, New Haven\, CT\, 06510\, United States
CATEGORIES:The Gallery Upstairs
ATTACH;FMTTYPE=image/jpeg:https://institutelibrary.org/wp-content/uploads/2026/02/forecast-poster-with-names-final-copy.jpg
END:VEVENT
BEGIN:VEVENT
DTSTART;TZID=America/New_York:20241014T190000
DTEND;TZID=America/New_York:20241014T203000
DTSTAMP:20260423T044502
CREATED:20241016T231930Z
LAST-MODIFIED:20241016T231930Z
UID:5268-1728932400-1728937800@institutelibrary.org
SUMMARY:BRIDGE
DESCRIPTION:A low key evening of bridge\, for people who know how and people who don’t know anything at all.
URL:https://institutelibrary.org/event/low-key-bridge-2-2-2/
LOCATION:The Institute LIbrary\, 847 Chapel Street\, New Haven\, CT\, 06510
CATEGORIES:BRIDGE
ATTACH;FMTTYPE=image/jpeg:https://institutelibrary.org/wp-content/uploads/2022/10/BRIDGE-ICON-SMALL.jpg
END:VEVENT
BEGIN:VEVENT
DTSTART;TZID=America/New_York:20260211T173000
DTEND;TZID=America/New_York:20260211T190000
DTSTAMP:20260423T044502
CREATED:20260203T000528Z
LAST-MODIFIED:20260223T025147Z
UID:5829-1770831000-1770836400@institutelibrary.org
SUMMARY:Illuminated Messages: A Gallery Upstairs Workshop at The Institute Library
DESCRIPTION:Spend an evening enjoying thoughtful calm at one of our tables: create your own message of love. To send to anyone. Everyone needs to be appreciated\, plain and simple — or elaborate and baroque! The curators of The Gallery Upstairs\, Martha Willette Lewis and Maxim Schmidt\, invite you to sit down and create a special message to a kind friend\, a sweet relative\, a lovely neighbor\, a helpful stranger\, a favorite artist… an idol of yours\, a famous star? A wonderful nonprofit? You get the idea: someone deserves a sweet message from you and we are giving you the chance to make it happen! The Gallery Upstairs will be providing supplies (paper\, envelopes\, stamps) but you are welcome to bring your own as well! Show the postal service some love\, make someone smile\, return a kindness with a handmade note\, share your appreciation & affection.
URL:https://institutelibrary.org/event/sending-love-an-evening-of-making-illuminated-letters/
LOCATION:The Gallery Upstairs at The Institute Library\, 847 Chapel Street\, New Haven\, CT\, 06510\, United States
CATEGORIES:The Gallery Upstairs
ATTACH;FMTTYPE=image/png:https://institutelibrary.org/wp-content/uploads/2026/02/Finding-Love.png
END:VEVENT
BEGIN:VEVENT
DTSTART;TZID=America/New_York:20250711T171500
DTEND;TZID=America/New_York:20250711T200000
DTSTAMP:20260423T044502
CREATED:20250708T135505Z
LAST-MODIFIED:20250708T140642Z
UID:5634-1752254100-1752264000@institutelibrary.org
SUMMARY:Jazz
DESCRIPTION:Although always subject to change as to artistic spotlight\, Friday Night Jazz will continue a swinging tour of that great American art form\, “LP Jazz”\, meeting at 5:15 or so every Friday\, in the third floor music room\, to consider\, contemplate and appreciate the wonders in the Collection. \nFriday Night Jazz is\, as always\, a BYOB\, BYO Snack evening; the crowd’s always appreciative and always excited to see what people bring. Updates to the schedule\, including inclement weather closures\, will be provided via the internal Jazz email list. Want to be added to that list? Let us know! \nPlease consider making a $5 donation when you come to Friday Jazz. \nFriday Night Jazz is presented with support from Jazz Haven www.jazzhaven.org
URL:https://institutelibrary.org/event/happy-hour-jazz-3-2/
LOCATION:The Institute LIbrary\, 847 Chapel Street\, New Haven\, CT\, 06510
CATEGORIES:Jazz at the Institute Library
ATTACH;FMTTYPE=image/jpeg:https://institutelibrary.org/wp-content/uploads/2025/02/FRI-nite-JAZZ-logo.jpg
END:VEVENT
BEGIN:VEVENT
DTSTART;TZID=America/New_York:20250711T171500
DTEND;TZID=America/New_York:20250711T200000
DTSTAMP:20260423T044502
CREATED:20250708T135505Z
LAST-MODIFIED:20250708T140642Z
UID:5634-1752254100-1752264000@institutelibrary.org
SUMMARY:Jazz
DESCRIPTION:Although always subject to change as to artistic spotlight\, Friday Night Jazz will continue a swinging tour of that great American art form\, “LP Jazz”\, meeting at 5:15 or so every Friday\, in the third floor music room\, to consider\, contemplate and appreciate the wonders in the Collection. \nFriday Night Jazz is\, as always\, a BYOB\, BYO Snack evening; the crowd’s always appreciative and always excited to see what people bring. Updates to the schedule\, including inclement weather closures\, will be provided via the internal Jazz email list. Want to be added to that list? Let us know! \nPlease consider making a $5 donation when you come to Friday Jazz. \nFriday Night Jazz is presented with support from Jazz Haven www.jazzhaven.org
URL:https://institutelibrary.org/event/happy-hour-jazz-3-2/
LOCATION:The Institute LIbrary\, 847 Chapel Street\, New Haven\, CT\, 06510
CATEGORIES:Jazz at the Institute Library
ATTACH;FMTTYPE=image/jpeg:https://institutelibrary.org/wp-content/uploads/2025/02/FRI-nite-JAZZ-logo.jpg
END:VEVENT
BEGIN:VEVENT
DTSTART;TZID=America/New_York:20250711T171500
DTEND;TZID=America/New_York:20250711T200000
DTSTAMP:20260423T044502
CREATED:20250708T135505Z
LAST-MODIFIED:20250708T140642Z
UID:5634-1752254100-1752264000@institutelibrary.org
SUMMARY:Jazz
DESCRIPTION:Although always subject to change as to artistic spotlight\, Friday Night Jazz will continue a swinging tour of that great American art form\, “LP Jazz”\, meeting at 5:15 or so every Friday\, in the third floor music room\, to consider\, contemplate and appreciate the wonders in the Collection. \nFriday Night Jazz is\, as always\, a BYOB\, BYO Snack evening; the crowd’s always appreciative and always excited to see what people bring. Updates to the schedule\, including inclement weather closures\, will be provided via the internal Jazz email list. Want to be added to that list? Let us know! \nPlease consider making a $5 donation when you come to Friday Jazz. \nFriday Night Jazz is presented with support from Jazz Haven www.jazzhaven.org
URL:https://institutelibrary.org/event/happy-hour-jazz-3-2/
LOCATION:The Institute LIbrary\, 847 Chapel Street\, New Haven\, CT\, 06510
CATEGORIES:Jazz at the Institute Library
ATTACH;FMTTYPE=image/jpeg:https://institutelibrary.org/wp-content/uploads/2025/02/FRI-nite-JAZZ-logo.jpg
END:VEVENT
END:VCALENDAR