BEGIN:VCALENDAR
VERSION:2.0
PRODID:-//The Institute Library - ECPv6.15.13//NONSGML v1.0//EN
CALSCALE:GREGORIAN
METHOD:PUBLISH
X-ORIGINAL-URL:https://institutelibrary.org
X-WR-CALDESC:Events for The Institute Library
REFRESH-INTERVAL;VALUE=DURATION:PT1H
X-Robots-Tag:noindex
X-PUBLISHED-TTL:PT1H
BEGIN:VTIMEZONE
TZID:America/New_York
BEGIN:DAYLIGHT
TZOFFSETFROM:-0500
TZOFFSETTO:-0400
TZNAME:EDT
DTSTART:20210314T070000
END:DAYLIGHT
BEGIN:STANDARD
TZOFFSETFROM:-0400
TZOFFSETTO:-0500
TZNAME:EST
DTSTART:20211107T060000
END:STANDARD
BEGIN:DAYLIGHT
TZOFFSETFROM:-0500
TZOFFSETTO:-0400
TZNAME:EDT
DTSTART:20220313T070000
END:DAYLIGHT
BEGIN:STANDARD
TZOFFSETFROM:-0400
TZOFFSETTO:-0500
TZNAME:EST
DTSTART:20221106T060000
END:STANDARD
BEGIN:DAYLIGHT
TZOFFSETFROM:-0500
TZOFFSETTO:-0400
TZNAME:EDT
DTSTART:20230312T070000
END:DAYLIGHT
BEGIN:STANDARD
TZOFFSETFROM:-0400
TZOFFSETTO:-0500
TZNAME:EST
DTSTART:20231105T060000
END:STANDARD
BEGIN:DAYLIGHT
TZOFFSETFROM:-0500
TZOFFSETTO:-0400
TZNAME:EDT
DTSTART:20240310T070000
END:DAYLIGHT
BEGIN:STANDARD
TZOFFSETFROM:-0400
TZOFFSETTO:-0500
TZNAME:EST
DTSTART:20241103T060000
END:STANDARD
BEGIN:DAYLIGHT
TZOFFSETFROM:-0500
TZOFFSETTO:-0400
TZNAME:EDT
DTSTART:20250309T070000
END:DAYLIGHT
BEGIN:STANDARD
TZOFFSETFROM:-0400
TZOFFSETTO:-0500
TZNAME:EST
DTSTART:20251102T060000
END:STANDARD
END:VTIMEZONE
BEGIN:VEVENT
DTSTART;TZID=America/New_York:20221021T131500
DTEND;TZID=America/New_York:20231021T150000
DTSTAMP:20260424T041445
CREATED:20221012T183638Z
LAST-MODIFIED:20240724T235327Z
UID:4127-1666358100-1697900400@institutelibrary.org
SUMMARY:Happy Hour Jazz
DESCRIPTION:
URL:https://institutelibrary.org/event/happy-hour-jazz-2/
LOCATION:The Institute LIbrary\, 847 Chapel Street\, New Haven\, CT\, 06510
CATEGORIES:Jazz at the Institute Library
ATTACH;FMTTYPE=image/jpeg:https://institutelibrary.org/wp-content/uploads/2022/05/FridayJazzLogo2.jpg
END:VEVENT
BEGIN:VEVENT
DTSTART;TZID=America/New_York:20221021T131500
DTEND;TZID=America/New_York:20231021T150000
DTSTAMP:20260424T041445
CREATED:20221012T183638Z
LAST-MODIFIED:20240724T235327Z
UID:4127-1666358100-1697900400@institutelibrary.org
SUMMARY:Happy Hour Jazz
DESCRIPTION:
URL:https://institutelibrary.org/event/happy-hour-jazz-2/
LOCATION:The Institute LIbrary\, 847 Chapel Street\, New Haven\, CT\, 06510
CATEGORIES:Jazz at the Institute Library
ATTACH;FMTTYPE=image/jpeg:https://institutelibrary.org/wp-content/uploads/2022/05/FridayJazzLogo2.jpg
END:VEVENT
BEGIN:VEVENT
DTSTART;TZID=America/New_York:20221021T131500
DTEND;TZID=America/New_York:20231021T150000
DTSTAMP:20260424T041445
CREATED:20221012T183638Z
LAST-MODIFIED:20240724T235327Z
UID:4127-1666358100-1697900400@institutelibrary.org
SUMMARY:Happy Hour Jazz
DESCRIPTION:
URL:https://institutelibrary.org/event/happy-hour-jazz-2/
LOCATION:The Institute LIbrary\, 847 Chapel Street\, New Haven\, CT\, 06510
CATEGORIES:Jazz at the Institute Library
ATTACH;FMTTYPE=image/jpeg:https://institutelibrary.org/wp-content/uploads/2022/05/FridayJazzLogo2.jpg
END:VEVENT
BEGIN:VEVENT
DTSTART;TZID=America/New_York:20221021T131500
DTEND;TZID=America/New_York:20231021T150000
DTSTAMP:20260424T041445
CREATED:20221012T183638Z
LAST-MODIFIED:20240724T235327Z
UID:4127-1666358100-1697900400@institutelibrary.org
SUMMARY:Happy Hour Jazz
DESCRIPTION:
URL:https://institutelibrary.org/event/happy-hour-jazz-2/
LOCATION:The Institute LIbrary\, 847 Chapel Street\, New Haven\, CT\, 06510
CATEGORIES:Jazz at the Institute Library
ATTACH;FMTTYPE=image/jpeg:https://institutelibrary.org/wp-content/uploads/2022/05/FridayJazzLogo2.jpg
END:VEVENT
BEGIN:VEVENT
DTSTART;TZID=America/New_York:20221021T131500
DTEND;TZID=America/New_York:20231021T150000
DTSTAMP:20260424T041445
CREATED:20221012T183638Z
LAST-MODIFIED:20240724T235327Z
UID:4127-1666358100-1697900400@institutelibrary.org
SUMMARY:Happy Hour Jazz
DESCRIPTION:
URL:https://institutelibrary.org/event/happy-hour-jazz-2/
LOCATION:The Institute LIbrary\, 847 Chapel Street\, New Haven\, CT\, 06510
CATEGORIES:Jazz at the Institute Library
ATTACH;FMTTYPE=image/jpeg:https://institutelibrary.org/wp-content/uploads/2022/05/FridayJazzLogo2.jpg
END:VEVENT
BEGIN:VEVENT
DTSTART;TZID=America/New_York:20221021T131500
DTEND;TZID=America/New_York:20231021T150000
DTSTAMP:20260424T041445
CREATED:20221012T183638Z
LAST-MODIFIED:20240724T235327Z
UID:4127-1666358100-1697900400@institutelibrary.org
SUMMARY:Happy Hour Jazz
DESCRIPTION:
URL:https://institutelibrary.org/event/happy-hour-jazz-2/
LOCATION:The Institute LIbrary\, 847 Chapel Street\, New Haven\, CT\, 06510
CATEGORIES:Jazz at the Institute Library
ATTACH;FMTTYPE=image/jpeg:https://institutelibrary.org/wp-content/uploads/2022/05/FridayJazzLogo2.jpg
END:VEVENT
BEGIN:VEVENT
DTSTART;TZID=America/New_York:20221021T131500
DTEND;TZID=America/New_York:20231021T150000
DTSTAMP:20260424T041445
CREATED:20221012T183638Z
LAST-MODIFIED:20240724T235327Z
UID:4127-1666358100-1697900400@institutelibrary.org
SUMMARY:Happy Hour Jazz
DESCRIPTION:
URL:https://institutelibrary.org/event/happy-hour-jazz-2/
LOCATION:The Institute LIbrary\, 847 Chapel Street\, New Haven\, CT\, 06510
CATEGORIES:Jazz at the Institute Library
ATTACH;FMTTYPE=image/jpeg:https://institutelibrary.org/wp-content/uploads/2022/05/FridayJazzLogo2.jpg
END:VEVENT
BEGIN:VEVENT
DTSTART;TZID=America/New_York:20221021T131500
DTEND;TZID=America/New_York:20231021T150000
DTSTAMP:20260424T041445
CREATED:20221012T183638Z
LAST-MODIFIED:20240724T235327Z
UID:4127-1666358100-1697900400@institutelibrary.org
SUMMARY:Happy Hour Jazz
DESCRIPTION:
URL:https://institutelibrary.org/event/happy-hour-jazz-2/
LOCATION:The Institute LIbrary\, 847 Chapel Street\, New Haven\, CT\, 06510
CATEGORIES:Jazz at the Institute Library
ATTACH;FMTTYPE=image/jpeg:https://institutelibrary.org/wp-content/uploads/2022/05/FridayJazzLogo2.jpg
END:VEVENT
BEGIN:VEVENT
DTSTART;TZID=America/New_York:20221021T131500
DTEND;TZID=America/New_York:20231021T150000
DTSTAMP:20260424T041445
CREATED:20221012T183638Z
LAST-MODIFIED:20240724T235327Z
UID:4127-1666358100-1697900400@institutelibrary.org
SUMMARY:Happy Hour Jazz
DESCRIPTION:
URL:https://institutelibrary.org/event/happy-hour-jazz-2/
LOCATION:The Institute LIbrary\, 847 Chapel Street\, New Haven\, CT\, 06510
CATEGORIES:Jazz at the Institute Library
ATTACH;FMTTYPE=image/jpeg:https://institutelibrary.org/wp-content/uploads/2022/05/FridayJazzLogo2.jpg
END:VEVENT
BEGIN:VEVENT
DTSTART;TZID=America/New_York:20221021T131500
DTEND;TZID=America/New_York:20231021T150000
DTSTAMP:20260424T041445
CREATED:20221012T183638Z
LAST-MODIFIED:20240724T235327Z
UID:4127-1666358100-1697900400@institutelibrary.org
SUMMARY:Happy Hour Jazz
DESCRIPTION:
URL:https://institutelibrary.org/event/happy-hour-jazz-2/
LOCATION:The Institute LIbrary\, 847 Chapel Street\, New Haven\, CT\, 06510
CATEGORIES:Jazz at the Institute Library
ATTACH;FMTTYPE=image/jpeg:https://institutelibrary.org/wp-content/uploads/2022/05/FridayJazzLogo2.jpg
END:VEVENT
BEGIN:VEVENT
DTSTART;TZID=America/New_York:20221021T131500
DTEND;TZID=America/New_York:20231021T150000
DTSTAMP:20260424T041445
CREATED:20221012T183638Z
LAST-MODIFIED:20240724T235327Z
UID:4127-1666358100-1697900400@institutelibrary.org
SUMMARY:Happy Hour Jazz
DESCRIPTION:
URL:https://institutelibrary.org/event/happy-hour-jazz-2/
LOCATION:The Institute LIbrary\, 847 Chapel Street\, New Haven\, CT\, 06510
CATEGORIES:Jazz at the Institute Library
ATTACH;FMTTYPE=image/jpeg:https://institutelibrary.org/wp-content/uploads/2022/05/FridayJazzLogo2.jpg
END:VEVENT
BEGIN:VEVENT
DTSTART;TZID=America/New_York:20221021T131500
DTEND;TZID=America/New_York:20231021T150000
DTSTAMP:20260424T041445
CREATED:20221012T183638Z
LAST-MODIFIED:20240724T235327Z
UID:4127-1666358100-1697900400@institutelibrary.org
SUMMARY:Happy Hour Jazz
DESCRIPTION:
URL:https://institutelibrary.org/event/happy-hour-jazz-2/
LOCATION:The Institute LIbrary\, 847 Chapel Street\, New Haven\, CT\, 06510
CATEGORIES:Jazz at the Institute Library
ATTACH;FMTTYPE=image/jpeg:https://institutelibrary.org/wp-content/uploads/2022/05/FridayJazzLogo2.jpg
END:VEVENT
BEGIN:VEVENT
DTSTART;TZID=America/New_York:20221021T131500
DTEND;TZID=America/New_York:20231021T150000
DTSTAMP:20260424T041445
CREATED:20221012T183638Z
LAST-MODIFIED:20240724T235327Z
UID:4127-1666358100-1697900400@institutelibrary.org
SUMMARY:Happy Hour Jazz
DESCRIPTION:
URL:https://institutelibrary.org/event/happy-hour-jazz-2/
LOCATION:The Institute LIbrary\, 847 Chapel Street\, New Haven\, CT\, 06510
CATEGORIES:Jazz at the Institute Library
ATTACH;FMTTYPE=image/jpeg:https://institutelibrary.org/wp-content/uploads/2022/05/FridayJazzLogo2.jpg
END:VEVENT
BEGIN:VEVENT
DTSTART;TZID=America/New_York:20221021T131500
DTEND;TZID=America/New_York:20231021T150000
DTSTAMP:20260424T041445
CREATED:20221012T183638Z
LAST-MODIFIED:20240724T235327Z
UID:4127-1666358100-1697900400@institutelibrary.org
SUMMARY:Happy Hour Jazz
DESCRIPTION:
URL:https://institutelibrary.org/event/happy-hour-jazz-2/
LOCATION:The Institute LIbrary\, 847 Chapel Street\, New Haven\, CT\, 06510
CATEGORIES:Jazz at the Institute Library
ATTACH;FMTTYPE=image/jpeg:https://institutelibrary.org/wp-content/uploads/2022/05/FridayJazzLogo2.jpg
END:VEVENT
BEGIN:VEVENT
DTSTART;TZID=America/New_York:20221021T131500
DTEND;TZID=America/New_York:20231021T150000
DTSTAMP:20260424T041445
CREATED:20221012T183638Z
LAST-MODIFIED:20240724T235327Z
UID:4127-1666358100-1697900400@institutelibrary.org
SUMMARY:Happy Hour Jazz
DESCRIPTION:
URL:https://institutelibrary.org/event/happy-hour-jazz-2/
LOCATION:The Institute LIbrary\, 847 Chapel Street\, New Haven\, CT\, 06510
CATEGORIES:Jazz at the Institute Library
ATTACH;FMTTYPE=image/jpeg:https://institutelibrary.org/wp-content/uploads/2022/05/FridayJazzLogo2.jpg
END:VEVENT
BEGIN:VEVENT
DTSTART;TZID=America/New_York:20221021T131500
DTEND;TZID=America/New_York:20231021T150000
DTSTAMP:20260424T041445
CREATED:20221012T183638Z
LAST-MODIFIED:20240724T235327Z
UID:4127-1666358100-1697900400@institutelibrary.org
SUMMARY:Happy Hour Jazz
DESCRIPTION:
URL:https://institutelibrary.org/event/happy-hour-jazz-2/
LOCATION:The Institute LIbrary\, 847 Chapel Street\, New Haven\, CT\, 06510
CATEGORIES:Jazz at the Institute Library
ATTACH;FMTTYPE=image/jpeg:https://institutelibrary.org/wp-content/uploads/2022/05/FridayJazzLogo2.jpg
END:VEVENT
BEGIN:VEVENT
DTSTART;TZID=America/New_York:20221021T131500
DTEND;TZID=America/New_York:20231021T150000
DTSTAMP:20260424T041445
CREATED:20221012T183638Z
LAST-MODIFIED:20240724T235327Z
UID:4127-1666358100-1697900400@institutelibrary.org
SUMMARY:Happy Hour Jazz
DESCRIPTION:
URL:https://institutelibrary.org/event/happy-hour-jazz-2/
LOCATION:The Institute LIbrary\, 847 Chapel Street\, New Haven\, CT\, 06510
CATEGORIES:Jazz at the Institute Library
ATTACH;FMTTYPE=image/jpeg:https://institutelibrary.org/wp-content/uploads/2022/05/FridayJazzLogo2.jpg
END:VEVENT
BEGIN:VEVENT
DTSTART;TZID=America/New_York:20221021T131500
DTEND;TZID=America/New_York:20231021T150000
DTSTAMP:20260424T041445
CREATED:20221012T183638Z
LAST-MODIFIED:20240724T235327Z
UID:4127-1666358100-1697900400@institutelibrary.org
SUMMARY:Happy Hour Jazz
DESCRIPTION:
URL:https://institutelibrary.org/event/happy-hour-jazz-2/
LOCATION:The Institute LIbrary\, 847 Chapel Street\, New Haven\, CT\, 06510
CATEGORIES:Jazz at the Institute Library
ATTACH;FMTTYPE=image/jpeg:https://institutelibrary.org/wp-content/uploads/2022/05/FridayJazzLogo2.jpg
END:VEVENT
BEGIN:VEVENT
DTSTART;TZID=America/New_York:20221021T131500
DTEND;TZID=America/New_York:20231021T150000
DTSTAMP:20260424T041445
CREATED:20221012T183638Z
LAST-MODIFIED:20240724T235327Z
UID:4127-1666358100-1697900400@institutelibrary.org
SUMMARY:Happy Hour Jazz
DESCRIPTION:
URL:https://institutelibrary.org/event/happy-hour-jazz-2/
LOCATION:The Institute LIbrary\, 847 Chapel Street\, New Haven\, CT\, 06510
CATEGORIES:Jazz at the Institute Library
ATTACH;FMTTYPE=image/jpeg:https://institutelibrary.org/wp-content/uploads/2022/05/FridayJazzLogo2.jpg
END:VEVENT
BEGIN:VEVENT
DTSTART;TZID=America/New_York:20221021T131500
DTEND;TZID=America/New_York:20231021T150000
DTSTAMP:20260424T041445
CREATED:20221012T183638Z
LAST-MODIFIED:20240724T235327Z
UID:4127-1666358100-1697900400@institutelibrary.org
SUMMARY:Happy Hour Jazz
DESCRIPTION:
URL:https://institutelibrary.org/event/happy-hour-jazz-2/
LOCATION:The Institute LIbrary\, 847 Chapel Street\, New Haven\, CT\, 06510
CATEGORIES:Jazz at the Institute Library
ATTACH;FMTTYPE=image/jpeg:https://institutelibrary.org/wp-content/uploads/2022/05/FridayJazzLogo2.jpg
END:VEVENT
BEGIN:VEVENT
DTSTART;TZID=America/New_York:20221021T131500
DTEND;TZID=America/New_York:20231021T150000
DTSTAMP:20260424T041445
CREATED:20221012T183638Z
LAST-MODIFIED:20240724T235327Z
UID:4127-1666358100-1697900400@institutelibrary.org
SUMMARY:Happy Hour Jazz
DESCRIPTION:
URL:https://institutelibrary.org/event/happy-hour-jazz-2/
LOCATION:The Institute LIbrary\, 847 Chapel Street\, New Haven\, CT\, 06510
CATEGORIES:Jazz at the Institute Library
ATTACH;FMTTYPE=image/jpeg:https://institutelibrary.org/wp-content/uploads/2022/05/FridayJazzLogo2.jpg
END:VEVENT
BEGIN:VEVENT
DTSTART;TZID=America/New_York:20221021T131500
DTEND;TZID=America/New_York:20231021T150000
DTSTAMP:20260424T041445
CREATED:20221012T183638Z
LAST-MODIFIED:20240724T235327Z
UID:4127-1666358100-1697900400@institutelibrary.org
SUMMARY:Happy Hour Jazz
DESCRIPTION:
URL:https://institutelibrary.org/event/happy-hour-jazz-2/
LOCATION:The Institute LIbrary\, 847 Chapel Street\, New Haven\, CT\, 06510
CATEGORIES:Jazz at the Institute Library
ATTACH;FMTTYPE=image/jpeg:https://institutelibrary.org/wp-content/uploads/2022/05/FridayJazzLogo2.jpg
END:VEVENT
BEGIN:VEVENT
DTSTART;VALUE=DATE:20231018
DTEND;VALUE=DATE:20240125
DTSTAMP:20260424T041445
CREATED:20230929T232658Z
LAST-MODIFIED:20230929T235648Z
UID:4700-1697659200-1706122799@institutelibrary.org
SUMMARY:Mysterious Circumstances
DESCRIPTION:
URL:https://institutelibrary.org/event/mysterious-circumstances/
LOCATION:The Gallery Upstairs at The Institute Library\, 847 Chapel Street\, New Haven\, CT\, 06510\, United States
CATEGORIES:The Gallery Upstairs
ATTACH;FMTTYPE=image/jpeg:https://institutelibrary.org/wp-content/uploads/2023/08/730d782f-322e-8e73-0c76-fbd2e7a4a349.jpg
END:VEVENT
BEGIN:VEVENT
DTSTART;TZID=America/New_York:20231104T090000
DTEND;TZID=America/New_York:20231104T110000
DTSTAMP:20260424T041445
CREATED:20231025T213721Z
LAST-MODIFIED:20231028T061952Z
UID:4740-1699088400-1699095600@institutelibrary.org
SUMMARY:RANDALL BEACH\, Local Chronicler of the Hyperlocal\, on Connecticut Characters
DESCRIPTION:Longtime New Haven journalist Randall Beach visits to talk about his recently published collection of profiles of New Haven area personalities\, Connecticut Characters: Rascals and Renegades. Copies of the book\, published by Globe Pequot\, will be available for purchase. This event is free and open to the public.
URL:https://institutelibrary.org/event/randall-beach-local-chronicler-of-the-hyperlocal-on-connecticut-characters/
LOCATION:The Institute LIbrary\, 847 Chapel Street\, New Haven\, CT\, 06510
CATEGORIES:Literary Event
ATTACH;FMTTYPE=image/png:https://institutelibrary.org/wp-content/uploads/2023/10/Screen-Shot-2023-10-25-at-1.43.40-PM.png
END:VEVENT
BEGIN:VEVENT
DTSTART;TZID=America/New_York:20231104T120000
DTEND;TZID=America/New_York:20231104T140000
DTSTAMP:20260424T041445
CREATED:20231025T214121Z
LAST-MODIFIED:20231025T214400Z
UID:4744-1699099200-1699106400@institutelibrary.org
SUMMARY:DAVID OTTENSTEIN and ROBERT LISAK\, Connecticut Photographers\, discuss their recently published book\, CAPITOL AMERICA: A Photographic Portrait of the 50 State Capitols
DESCRIPTION:Robert Lisak and David Ottenstein\, master photographers\, have seen their project of over a decade find fruition now in 2023 with the publication of this glorious collection of photographs. Hear them discuss their work\, the process\, and the beauty of the state capitols. This event is free and open to the public.
URL:https://institutelibrary.org/event/david-ottenstein-and-robert-lisak-connecticut-photographers-discuss-their-recently-published-book-capitol-america-a-photographic-portrait-of-the-50-state-capitols/
LOCATION:The Institute LIbrary\, 847 Chapel Street\, New Haven\, CT\, 06510
CATEGORIES:Literary Event
ATTACH;FMTTYPE=image/png:https://institutelibrary.org/wp-content/uploads/2023/10/Screen-Shot-2023-10-25-at-1.42.07-PM.png
END:VEVENT
BEGIN:VEVENT
DTSTART;TZID=America/New_York:20231109T110000
DTEND;TZID=America/New_York:20231109T120000
DTSTAMP:20260424T041445
CREATED:20231025T214940Z
LAST-MODIFIED:20231025T214940Z
UID:4748-1699527600-1699531200@institutelibrary.org
SUMMARY:SPENCER W. STUART\, Bibliophilic Advisor\, chats with The Institute Library Community via ZOOM EVENT
DESCRIPTION:Spencer Stuart\, author of Contemporary Issues in Rare Book and Manuscript Collecting: A Handbook for Collectors and the Trade\, \, speaks to questions of interest to today’s bibliophiles. Book collecting is not what it was 50\, or even 15\, years ago; Spencer will enlighten us as to the significance and opportunities afforded because of speedy evolution in the world of rare book collecting. What does it even mean\, now\, to collect rare books? It may not be what you think! \nThis is a Zoom-only event\, and ticket purchase and registration is required. Please visit https://secure.lglforms.com/form_engine/s/lM_z3E08cMvSgWYzljXpew?t=1697906605 to register. Registering gives you access to the Zoom link. Tickets are $5 for people with active memberships at the Library\, and $10 for others.
URL:https://institutelibrary.org/event/spencer-w-stuart-bibliophilic-advisor-chats-with-the-institute-library-community-via-zoom-event/
LOCATION:Institute Library via Zoom
ATTACH;FMTTYPE=image/png:https://institutelibrary.org/wp-content/uploads/2023/10/Screen-Shot-2023-10-25-at-1.48.00-PM.png
END:VEVENT
BEGIN:VEVENT
DTSTART;TZID=America/New_York:20230413T150000
DTEND;TZID=America/New_York:20230413T170000
DTSTAMP:20260424T041445
CREATED:20230407T231727Z
LAST-MODIFIED:20230922T010159Z
UID:4490-1681398000-1681405200@institutelibrary.org
SUMMARY:Institute Library "In-Person" Story-Sharing Group
DESCRIPTION:The Story Sharing Group welcomes everyone to tell stories or to listen.  We give feedback to those who choose.  We are informal\, friendly\, and fun. \nCome to the Institute Library in-person only if you are vaccinated. \nFor questions\, contact the group coordinator\, Arnie Pritchard\, at apritchard01@snet.net.
URL:https://institutelibrary.org/event/institute-library-story-sharing-group-6-5/
LOCATION:The Institute LIbrary\, 847 Chapel Street\, New Haven\, CT\, 06510
CATEGORIES:Story Sharing
ATTACH;FMTTYPE=image/jpeg:https://institutelibrary.org/wp-content/uploads/2021/12/SG-LOGO.jpg
ORGANIZER;CN="Arnie Pritchard":MAILTO:apritchard01@snet.net
END:VEVENT
BEGIN:VEVENT
DTSTART;TZID=America/New_York:20230518T150000
DTEND;TZID=America/New_York:20230518T170000
DTSTAMP:20260424T041445
CREATED:20230407T232601Z
LAST-MODIFIED:20230621T023142Z
UID:4492-1684422000-1684429200@institutelibrary.org
SUMMARY:Institute Library "ZOOM ONLY" Story-Sharing Group
DESCRIPTION:The Story Sharing Group welcomes everyone to tell stories or to listen.  We give feedback to those who choose.  We are informal\, friendly\, and fun. \nThis meeting is being offered as a ZOOM ONLY meeting.\nJoin the Institute Library Story-Sharing group via  Zoom: https://us06web.zoom.us/j/82984857044 \nFor questions\, contact the group coordinator\, Arnie Pritchard\, at apritchard01@snet.net.
URL:https://institutelibrary.org/event/institute-library-zoom-only-story-sharing-group/
LOCATION:Institute Library via Zoom
CATEGORIES:Story Sharing
ATTACH;FMTTYPE=image/jpeg:https://institutelibrary.org/wp-content/uploads/2021/12/SG-LOGO.jpg
ORGANIZER;CN="Arnie Pritchard":MAILTO:apritchard01@snet.net
END:VEVENT
BEGIN:VEVENT
DTSTART;TZID=America/New_York:20231117T123000
DTEND;TZID=America/New_York:20231117T140000
DTSTAMP:20260424T041445
CREATED:20231025T215844Z
LAST-MODIFIED:20231104T232305Z
UID:4752-1700224200-1700229600@institutelibrary.org
SUMMARY:CHRIS MOLANPHY\, Music and Culture Critic\, Visits to Discuss New Book about Lil Nas X’s OLD TOWN ROAD
DESCRIPTION:Chris Molanphy\, columnist for Slate and writer for publications including Rolling Stone\, Pitchfork\, New York Magazine\, NPR Music\, and the Village Voice\, visits the Institute Library to celebrate the publication of his new book\, from the Duke University Press Singles series\, about the Lil Nas X song Old Town Road. Critical acclaim from Emily Lordi: “Chris Molanphy provides a (typical for him) master class in understanding ‘Old Town Road’ as well as the interaction between race\, the charts\, and country music. A fascinating\, rigorous\, and joyful book.” Copies of Old Town Road will be for sale courtesy of New Haven’s own Possible Futures. This event is free and open to the public.
URL:https://institutelibrary.org/event/chris-molanphy-music-and-culture-critic-visits-to-discuss-new-book-about-lil-nas-xs-old-town-road/
LOCATION:The Institute LIbrary\, 847 Chapel Street\, New Haven\, CT\, 06510
CATEGORIES:Literary Event
ATTACH;FMTTYPE=image/png:https://institutelibrary.org/wp-content/uploads/2023/10/Screen-Shot-2023-10-25-at-1.57.07-PM.png
END:VEVENT
BEGIN:VEVENT
DTSTART;TZID=America/New_York:20231201T130000
DTEND;TZID=America/New_York:20231201T130000
DTSTAMP:20260424T041445
CREATED:20231025T221114Z
LAST-MODIFIED:20231110T073455Z
UID:4758-1701435600-1701435600@institutelibrary.org
SUMMARY:Holiday Party! with the Yale Alley Cats and special guest Malachi Dre Beasley
DESCRIPTION:Join us at the Institute Library to welcome in the holiday season featuring the Yale Alley Cats with special guest Malachi Dre Beasley. \n7:00pm: Malachi Dre Beasley\n7:45pm: Alley Cats \nA lovely gathering for all to enjoy — music\, drink\, quality nibbles\, and divine company. This is how to start the month of December! \n$10 Non-Members / FREE for members (Please RSVP) \nFor non-member use\, please click here to buy $10 tickets.\nFor folks with up-to-date memberships\, please click here to simply RSVP.\n 
URL:https://institutelibrary.org/event/holiday-party-save-the-date/
LOCATION:The Institute LIbrary\, 847 Chapel Street\, New Haven\, CT\, 06510
CATEGORIES:Event
ATTACH;FMTTYPE=image/jpeg:https://institutelibrary.org/wp-content/uploads/2023/10/Seal-Logo-BLACK-2022-Holiday.jpg
END:VEVENT
END:VCALENDAR