BEGIN:VCALENDAR
VERSION:2.0
PRODID:-//The Institute Library - ECPv6.15.13//NONSGML v1.0//EN
CALSCALE:GREGORIAN
METHOD:PUBLISH
X-WR-CALNAME:The Institute Library
X-ORIGINAL-URL:https://institutelibrary.org
X-WR-CALDESC:Events for The Institute Library
REFRESH-INTERVAL;VALUE=DURATION:PT1H
X-Robots-Tag:noindex
X-PUBLISHED-TTL:PT1H
BEGIN:VTIMEZONE
TZID:America/New_York
BEGIN:DAYLIGHT
TZOFFSETFROM:-0500
TZOFFSETTO:-0400
TZNAME:EDT
DTSTART:20210314T070000
END:DAYLIGHT
BEGIN:STANDARD
TZOFFSETFROM:-0400
TZOFFSETTO:-0500
TZNAME:EST
DTSTART:20211107T060000
END:STANDARD
BEGIN:DAYLIGHT
TZOFFSETFROM:-0500
TZOFFSETTO:-0400
TZNAME:EDT
DTSTART:20220313T070000
END:DAYLIGHT
BEGIN:STANDARD
TZOFFSETFROM:-0400
TZOFFSETTO:-0500
TZNAME:EST
DTSTART:20221106T060000
END:STANDARD
BEGIN:DAYLIGHT
TZOFFSETFROM:-0500
TZOFFSETTO:-0400
TZNAME:EDT
DTSTART:20230312T070000
END:DAYLIGHT
BEGIN:STANDARD
TZOFFSETFROM:-0400
TZOFFSETTO:-0500
TZNAME:EST
DTSTART:20231105T060000
END:STANDARD
BEGIN:DAYLIGHT
TZOFFSETFROM:-0500
TZOFFSETTO:-0400
TZNAME:EDT
DTSTART:20240310T070000
END:DAYLIGHT
BEGIN:STANDARD
TZOFFSETFROM:-0400
TZOFFSETTO:-0500
TZNAME:EST
DTSTART:20241103T060000
END:STANDARD
END:VTIMEZONE
BEGIN:VEVENT
DTSTART;TZID=America/New_York:20221021T131500
DTEND;TZID=America/New_York:20231021T150000
DTSTAMP:20260424T083840
CREATED:20221012T183638Z
LAST-MODIFIED:20240724T235327Z
UID:4127-1666358100-1697900400@institutelibrary.org
SUMMARY:Happy Hour Jazz
DESCRIPTION:
URL:https://institutelibrary.org/event/happy-hour-jazz-2/
LOCATION:The Institute LIbrary\, 847 Chapel Street\, New Haven\, CT\, 06510
CATEGORIES:Jazz at the Institute Library
ATTACH;FMTTYPE=image/jpeg:https://institutelibrary.org/wp-content/uploads/2022/05/FridayJazzLogo2.jpg
END:VEVENT
BEGIN:VEVENT
DTSTART;TZID=America/New_York:20221021T131500
DTEND;TZID=America/New_York:20231021T150000
DTSTAMP:20260424T083840
CREATED:20221012T183638Z
LAST-MODIFIED:20240724T235327Z
UID:4127-1666358100-1697900400@institutelibrary.org
SUMMARY:Happy Hour Jazz
DESCRIPTION:
URL:https://institutelibrary.org/event/happy-hour-jazz-2/
LOCATION:The Institute LIbrary\, 847 Chapel Street\, New Haven\, CT\, 06510
CATEGORIES:Jazz at the Institute Library
ATTACH;FMTTYPE=image/jpeg:https://institutelibrary.org/wp-content/uploads/2022/05/FridayJazzLogo2.jpg
END:VEVENT
BEGIN:VEVENT
DTSTART;TZID=America/New_York:20221021T131500
DTEND;TZID=America/New_York:20231021T150000
DTSTAMP:20260424T083840
CREATED:20221012T183638Z
LAST-MODIFIED:20240724T235327Z
UID:4127-1666358100-1697900400@institutelibrary.org
SUMMARY:Happy Hour Jazz
DESCRIPTION:
URL:https://institutelibrary.org/event/happy-hour-jazz-2/
LOCATION:The Institute LIbrary\, 847 Chapel Street\, New Haven\, CT\, 06510
CATEGORIES:Jazz at the Institute Library
ATTACH;FMTTYPE=image/jpeg:https://institutelibrary.org/wp-content/uploads/2022/05/FridayJazzLogo2.jpg
END:VEVENT
BEGIN:VEVENT
DTSTART;TZID=America/New_York:20221021T131500
DTEND;TZID=America/New_York:20231021T150000
DTSTAMP:20260424T083840
CREATED:20221012T183638Z
LAST-MODIFIED:20240724T235327Z
UID:4127-1666358100-1697900400@institutelibrary.org
SUMMARY:Happy Hour Jazz
DESCRIPTION:
URL:https://institutelibrary.org/event/happy-hour-jazz-2/
LOCATION:The Institute LIbrary\, 847 Chapel Street\, New Haven\, CT\, 06510
CATEGORIES:Jazz at the Institute Library
ATTACH;FMTTYPE=image/jpeg:https://institutelibrary.org/wp-content/uploads/2022/05/FridayJazzLogo2.jpg
END:VEVENT
BEGIN:VEVENT
DTSTART;TZID=America/New_York:20221021T131500
DTEND;TZID=America/New_York:20231021T150000
DTSTAMP:20260424T083840
CREATED:20221012T183638Z
LAST-MODIFIED:20240724T235327Z
UID:4127-1666358100-1697900400@institutelibrary.org
SUMMARY:Happy Hour Jazz
DESCRIPTION:
URL:https://institutelibrary.org/event/happy-hour-jazz-2/
LOCATION:The Institute LIbrary\, 847 Chapel Street\, New Haven\, CT\, 06510
CATEGORIES:Jazz at the Institute Library
ATTACH;FMTTYPE=image/jpeg:https://institutelibrary.org/wp-content/uploads/2022/05/FridayJazzLogo2.jpg
END:VEVENT
BEGIN:VEVENT
DTSTART;TZID=America/New_York:20221021T131500
DTEND;TZID=America/New_York:20231021T150000
DTSTAMP:20260424T083840
CREATED:20221012T183638Z
LAST-MODIFIED:20240724T235327Z
UID:4127-1666358100-1697900400@institutelibrary.org
SUMMARY:Happy Hour Jazz
DESCRIPTION:
URL:https://institutelibrary.org/event/happy-hour-jazz-2/
LOCATION:The Institute LIbrary\, 847 Chapel Street\, New Haven\, CT\, 06510
CATEGORIES:Jazz at the Institute Library
ATTACH;FMTTYPE=image/jpeg:https://institutelibrary.org/wp-content/uploads/2022/05/FridayJazzLogo2.jpg
END:VEVENT
BEGIN:VEVENT
DTSTART;TZID=America/New_York:20221021T131500
DTEND;TZID=America/New_York:20231021T150000
DTSTAMP:20260424T083840
CREATED:20221012T183638Z
LAST-MODIFIED:20240724T235327Z
UID:4127-1666358100-1697900400@institutelibrary.org
SUMMARY:Happy Hour Jazz
DESCRIPTION:
URL:https://institutelibrary.org/event/happy-hour-jazz-2/
LOCATION:The Institute LIbrary\, 847 Chapel Street\, New Haven\, CT\, 06510
CATEGORIES:Jazz at the Institute Library
ATTACH;FMTTYPE=image/jpeg:https://institutelibrary.org/wp-content/uploads/2022/05/FridayJazzLogo2.jpg
END:VEVENT
BEGIN:VEVENT
DTSTART;TZID=America/New_York:20221021T131500
DTEND;TZID=America/New_York:20231021T150000
DTSTAMP:20260424T083840
CREATED:20221012T183638Z
LAST-MODIFIED:20240724T235327Z
UID:4127-1666358100-1697900400@institutelibrary.org
SUMMARY:Happy Hour Jazz
DESCRIPTION:
URL:https://institutelibrary.org/event/happy-hour-jazz-2/
LOCATION:The Institute LIbrary\, 847 Chapel Street\, New Haven\, CT\, 06510
CATEGORIES:Jazz at the Institute Library
ATTACH;FMTTYPE=image/jpeg:https://institutelibrary.org/wp-content/uploads/2022/05/FridayJazzLogo2.jpg
END:VEVENT
BEGIN:VEVENT
DTSTART;TZID=America/New_York:20221021T131500
DTEND;TZID=America/New_York:20231021T150000
DTSTAMP:20260424T083840
CREATED:20221012T183638Z
LAST-MODIFIED:20240724T235327Z
UID:4127-1666358100-1697900400@institutelibrary.org
SUMMARY:Happy Hour Jazz
DESCRIPTION:
URL:https://institutelibrary.org/event/happy-hour-jazz-2/
LOCATION:The Institute LIbrary\, 847 Chapel Street\, New Haven\, CT\, 06510
CATEGORIES:Jazz at the Institute Library
ATTACH;FMTTYPE=image/jpeg:https://institutelibrary.org/wp-content/uploads/2022/05/FridayJazzLogo2.jpg
END:VEVENT
BEGIN:VEVENT
DTSTART;TZID=America/New_York:20221021T131500
DTEND;TZID=America/New_York:20231021T150000
DTSTAMP:20260424T083840
CREATED:20221012T183638Z
LAST-MODIFIED:20240724T235327Z
UID:4127-1666358100-1697900400@institutelibrary.org
SUMMARY:Happy Hour Jazz
DESCRIPTION:
URL:https://institutelibrary.org/event/happy-hour-jazz-2/
LOCATION:The Institute LIbrary\, 847 Chapel Street\, New Haven\, CT\, 06510
CATEGORIES:Jazz at the Institute Library
ATTACH;FMTTYPE=image/jpeg:https://institutelibrary.org/wp-content/uploads/2022/05/FridayJazzLogo2.jpg
END:VEVENT
BEGIN:VEVENT
DTSTART;TZID=America/New_York:20221021T131500
DTEND;TZID=America/New_York:20231021T150000
DTSTAMP:20260424T083840
CREATED:20221012T183638Z
LAST-MODIFIED:20240724T235327Z
UID:4127-1666358100-1697900400@institutelibrary.org
SUMMARY:Happy Hour Jazz
DESCRIPTION:
URL:https://institutelibrary.org/event/happy-hour-jazz-2/
LOCATION:The Institute LIbrary\, 847 Chapel Street\, New Haven\, CT\, 06510
CATEGORIES:Jazz at the Institute Library
ATTACH;FMTTYPE=image/jpeg:https://institutelibrary.org/wp-content/uploads/2022/05/FridayJazzLogo2.jpg
END:VEVENT
BEGIN:VEVENT
DTSTART;TZID=America/New_York:20221021T131500
DTEND;TZID=America/New_York:20231021T150000
DTSTAMP:20260424T083840
CREATED:20221012T183638Z
LAST-MODIFIED:20240724T235327Z
UID:4127-1666358100-1697900400@institutelibrary.org
SUMMARY:Happy Hour Jazz
DESCRIPTION:
URL:https://institutelibrary.org/event/happy-hour-jazz-2/
LOCATION:The Institute LIbrary\, 847 Chapel Street\, New Haven\, CT\, 06510
CATEGORIES:Jazz at the Institute Library
ATTACH;FMTTYPE=image/jpeg:https://institutelibrary.org/wp-content/uploads/2022/05/FridayJazzLogo2.jpg
END:VEVENT
BEGIN:VEVENT
DTSTART;TZID=America/New_York:20221021T131500
DTEND;TZID=America/New_York:20231021T150000
DTSTAMP:20260424T083840
CREATED:20221012T183638Z
LAST-MODIFIED:20240724T235327Z
UID:4127-1666358100-1697900400@institutelibrary.org
SUMMARY:Happy Hour Jazz
DESCRIPTION:
URL:https://institutelibrary.org/event/happy-hour-jazz-2/
LOCATION:The Institute LIbrary\, 847 Chapel Street\, New Haven\, CT\, 06510
CATEGORIES:Jazz at the Institute Library
ATTACH;FMTTYPE=image/jpeg:https://institutelibrary.org/wp-content/uploads/2022/05/FridayJazzLogo2.jpg
END:VEVENT
BEGIN:VEVENT
DTSTART;TZID=America/New_York:20221021T131500
DTEND;TZID=America/New_York:20231021T150000
DTSTAMP:20260424T083840
CREATED:20221012T183638Z
LAST-MODIFIED:20240724T235327Z
UID:4127-1666358100-1697900400@institutelibrary.org
SUMMARY:Happy Hour Jazz
DESCRIPTION:
URL:https://institutelibrary.org/event/happy-hour-jazz-2/
LOCATION:The Institute LIbrary\, 847 Chapel Street\, New Haven\, CT\, 06510
CATEGORIES:Jazz at the Institute Library
ATTACH;FMTTYPE=image/jpeg:https://institutelibrary.org/wp-content/uploads/2022/05/FridayJazzLogo2.jpg
END:VEVENT
BEGIN:VEVENT
DTSTART;TZID=America/New_York:20221021T131500
DTEND;TZID=America/New_York:20231021T150000
DTSTAMP:20260424T083840
CREATED:20221012T183638Z
LAST-MODIFIED:20240724T235327Z
UID:4127-1666358100-1697900400@institutelibrary.org
SUMMARY:Happy Hour Jazz
DESCRIPTION:
URL:https://institutelibrary.org/event/happy-hour-jazz-2/
LOCATION:The Institute LIbrary\, 847 Chapel Street\, New Haven\, CT\, 06510
CATEGORIES:Jazz at the Institute Library
ATTACH;FMTTYPE=image/jpeg:https://institutelibrary.org/wp-content/uploads/2022/05/FridayJazzLogo2.jpg
END:VEVENT
BEGIN:VEVENT
DTSTART;TZID=America/New_York:20221021T131500
DTEND;TZID=America/New_York:20231021T150000
DTSTAMP:20260424T083840
CREATED:20221012T183638Z
LAST-MODIFIED:20240724T235327Z
UID:4127-1666358100-1697900400@institutelibrary.org
SUMMARY:Happy Hour Jazz
DESCRIPTION:
URL:https://institutelibrary.org/event/happy-hour-jazz-2/
LOCATION:The Institute LIbrary\, 847 Chapel Street\, New Haven\, CT\, 06510
CATEGORIES:Jazz at the Institute Library
ATTACH;FMTTYPE=image/jpeg:https://institutelibrary.org/wp-content/uploads/2022/05/FridayJazzLogo2.jpg
END:VEVENT
BEGIN:VEVENT
DTSTART;TZID=America/New_York:20221021T131500
DTEND;TZID=America/New_York:20231021T150000
DTSTAMP:20260424T083840
CREATED:20221012T183638Z
LAST-MODIFIED:20240724T235327Z
UID:4127-1666358100-1697900400@institutelibrary.org
SUMMARY:Happy Hour Jazz
DESCRIPTION:
URL:https://institutelibrary.org/event/happy-hour-jazz-2/
LOCATION:The Institute LIbrary\, 847 Chapel Street\, New Haven\, CT\, 06510
CATEGORIES:Jazz at the Institute Library
ATTACH;FMTTYPE=image/jpeg:https://institutelibrary.org/wp-content/uploads/2022/05/FridayJazzLogo2.jpg
END:VEVENT
BEGIN:VEVENT
DTSTART;TZID=America/New_York:20221021T131500
DTEND;TZID=America/New_York:20231021T150000
DTSTAMP:20260424T083840
CREATED:20221012T183638Z
LAST-MODIFIED:20240724T235327Z
UID:4127-1666358100-1697900400@institutelibrary.org
SUMMARY:Happy Hour Jazz
DESCRIPTION:
URL:https://institutelibrary.org/event/happy-hour-jazz-2/
LOCATION:The Institute LIbrary\, 847 Chapel Street\, New Haven\, CT\, 06510
CATEGORIES:Jazz at the Institute Library
ATTACH;FMTTYPE=image/jpeg:https://institutelibrary.org/wp-content/uploads/2022/05/FridayJazzLogo2.jpg
END:VEVENT
BEGIN:VEVENT
DTSTART;TZID=America/New_York:20221021T131500
DTEND;TZID=America/New_York:20231021T150000
DTSTAMP:20260424T083840
CREATED:20221012T183638Z
LAST-MODIFIED:20240724T235327Z
UID:4127-1666358100-1697900400@institutelibrary.org
SUMMARY:Happy Hour Jazz
DESCRIPTION:
URL:https://institutelibrary.org/event/happy-hour-jazz-2/
LOCATION:The Institute LIbrary\, 847 Chapel Street\, New Haven\, CT\, 06510
CATEGORIES:Jazz at the Institute Library
ATTACH;FMTTYPE=image/jpeg:https://institutelibrary.org/wp-content/uploads/2022/05/FridayJazzLogo2.jpg
END:VEVENT
BEGIN:VEVENT
DTSTART;TZID=America/New_York:20221021T131500
DTEND;TZID=America/New_York:20231021T150000
DTSTAMP:20260424T083840
CREATED:20221012T183638Z
LAST-MODIFIED:20240724T235327Z
UID:4127-1666358100-1697900400@institutelibrary.org
SUMMARY:Happy Hour Jazz
DESCRIPTION:
URL:https://institutelibrary.org/event/happy-hour-jazz-2/
LOCATION:The Institute LIbrary\, 847 Chapel Street\, New Haven\, CT\, 06510
CATEGORIES:Jazz at the Institute Library
ATTACH;FMTTYPE=image/jpeg:https://institutelibrary.org/wp-content/uploads/2022/05/FridayJazzLogo2.jpg
END:VEVENT
BEGIN:VEVENT
DTSTART;VALUE=DATE:20230602
DTEND;VALUE=DATE:20230917
DTSTAMP:20260424T083840
CREATED:20230426T214313Z
LAST-MODIFIED:20230426T214548Z
UID:4537-1685736000-1694894399@institutelibrary.org
SUMMARY:"OASIS" in the Gallery Upstairs
DESCRIPTION:Welcome! You are cordially invited to enjoy a summer art exhibit that invites us all to gather & take a breath of fresh air.  Come: refresh\, restore\, regale\, rest\, bask\, bathe\, relax\, commune\, inhale\, meditate\, and discover. Join the caravan\, as we travel to a creative refuge and a summer escape right here in downtown New Haven. \nOases\, or watering holes\, are sacred places where every animal can drink in peace\, and where weary travelers gather to tell stories and relax after their journey. It is the blooming in the desert\, a garden of delights in a cement city. Scarce and special\, they offer tranquility and refreshment. \nAnd of course\, libraries themselves are oases…. \nThis exhibit features original artwork alongside items from the Library’s collection. There will be free events scheduled for making\, gathering\, sharing\, and basking in the peaceful glow of this Oasis.
URL:https://institutelibrary.org/event/oasis-in-the-gallery-upstairs/
LOCATION:The Gallery Upstairs at The Institute Library\, 847 Chapel Street\, New Haven\, CT\, 06510\, United States
CATEGORIES:The Gallery Upstairs
END:VEVENT
BEGIN:VEVENT
DTSTART;TZID=America/New_York:20221021T131500
DTEND;TZID=America/New_York:20231021T150000
DTSTAMP:20260424T083840
CREATED:20221012T183638Z
LAST-MODIFIED:20240724T235327Z
UID:4127-1666358100-1697900400@institutelibrary.org
SUMMARY:Happy Hour Jazz
DESCRIPTION:
URL:https://institutelibrary.org/event/happy-hour-jazz-2/
LOCATION:The Institute LIbrary\, 847 Chapel Street\, New Haven\, CT\, 06510
CATEGORIES:Jazz at the Institute Library
ATTACH;FMTTYPE=image/jpeg:https://institutelibrary.org/wp-content/uploads/2022/05/FridayJazzLogo2.jpg
END:VEVENT
BEGIN:VEVENT
DTSTART;TZID=America/New_York:20221021T131500
DTEND;TZID=America/New_York:20231021T150000
DTSTAMP:20260424T083840
CREATED:20221012T183638Z
LAST-MODIFIED:20240724T235327Z
UID:4127-1666358100-1697900400@institutelibrary.org
SUMMARY:Happy Hour Jazz
DESCRIPTION:
URL:https://institutelibrary.org/event/happy-hour-jazz-2/
LOCATION:The Institute LIbrary\, 847 Chapel Street\, New Haven\, CT\, 06510
CATEGORIES:Jazz at the Institute Library
ATTACH;FMTTYPE=image/jpeg:https://institutelibrary.org/wp-content/uploads/2022/05/FridayJazzLogo2.jpg
END:VEVENT
BEGIN:VEVENT
DTSTART;TZID=America/New_York:20221021T131500
DTEND;TZID=America/New_York:20231021T150000
DTSTAMP:20260424T083840
CREATED:20221012T183638Z
LAST-MODIFIED:20240724T235327Z
UID:4127-1666358100-1697900400@institutelibrary.org
SUMMARY:Happy Hour Jazz
DESCRIPTION:
URL:https://institutelibrary.org/event/happy-hour-jazz-2/
LOCATION:The Institute LIbrary\, 847 Chapel Street\, New Haven\, CT\, 06510
CATEGORIES:Jazz at the Institute Library
ATTACH;FMTTYPE=image/jpeg:https://institutelibrary.org/wp-content/uploads/2022/05/FridayJazzLogo2.jpg
END:VEVENT
BEGIN:VEVENT
DTSTART;TZID=America/New_York:20221021T131500
DTEND;TZID=America/New_York:20231021T150000
DTSTAMP:20260424T083840
CREATED:20221012T183638Z
LAST-MODIFIED:20240724T235327Z
UID:4127-1666358100-1697900400@institutelibrary.org
SUMMARY:Happy Hour Jazz
DESCRIPTION:
URL:https://institutelibrary.org/event/happy-hour-jazz-2/
LOCATION:The Institute LIbrary\, 847 Chapel Street\, New Haven\, CT\, 06510
CATEGORIES:Jazz at the Institute Library
ATTACH;FMTTYPE=image/jpeg:https://institutelibrary.org/wp-content/uploads/2022/05/FridayJazzLogo2.jpg
END:VEVENT
BEGIN:VEVENT
DTSTART;TZID=America/New_York:20230810T130000
DTEND;TZID=America/New_York:20230810T150000
DTSTAMP:20260424T083840
CREATED:20230804T223622Z
LAST-MODIFIED:20230812T043651Z
UID:4607-1691672400-1691679600@institutelibrary.org
SUMMARY:A Time To Breathe: an Oasis Workshop
DESCRIPTION:YOU ARE INVITED! (BUT PLEASE RSVP)August 10\, 2023 from 5 to7 pmA Time To Breathe: an Oasis Workshop with exhibit curator Maxim Schmidt \nREAD ABOUT IT IN THE NEWS \nCome visualize your dreams…\nIn collaboration with Oasis\, artist and show organizer Maxim Schmidt will be hosting a two-hour hands-on collage workshop. Materials will be provided\, but feel free to bring your own as well. \nThis free event is open to everyone\, but there will be a donation jar to support future gallery programming. All contributions are greatly appreciated but not mandatory – what we truly want is YOU. \nAll ages and levels of experience are welcome. \nPlease RSVP to Gallery@InstituteLibrary.org\nWe have a capacity of 25 participants.
URL:https://institutelibrary.org/event/timetobreathe/
LOCATION:The Gallery Upstairs at The Institute Library\, 847 Chapel Street\, New Haven\, CT\, 06510\, United States
ATTACH;FMTTYPE=image/jpeg:https://institutelibrary.org/wp-content/uploads/2023/08/463fe6c1-eec5-fc64-cab6-0d5667822552-1-e1691174330929.jpg
END:VEVENT
BEGIN:VEVENT
DTSTART;TZID=America/New_York:20230413T150000
DTEND;TZID=America/New_York:20230413T170000
DTSTAMP:20260424T083840
CREATED:20230407T231727Z
LAST-MODIFIED:20230922T010159Z
UID:4490-1681398000-1681405200@institutelibrary.org
SUMMARY:Institute Library "In-Person" Story-Sharing Group
DESCRIPTION:The Story Sharing Group welcomes everyone to tell stories or to listen.  We give feedback to those who choose.  We are informal\, friendly\, and fun. \nCome to the Institute Library in-person only if you are vaccinated. \nFor questions\, contact the group coordinator\, Arnie Pritchard\, at apritchard01@snet.net.
URL:https://institutelibrary.org/event/institute-library-story-sharing-group-6-5/
LOCATION:The Institute LIbrary\, 847 Chapel Street\, New Haven\, CT\, 06510
CATEGORIES:Story Sharing
ATTACH;FMTTYPE=image/jpeg:https://institutelibrary.org/wp-content/uploads/2021/12/SG-LOGO.jpg
ORGANIZER;CN="Arnie Pritchard":MAILTO:apritchard01@snet.net
END:VEVENT
BEGIN:VEVENT
DTSTART;TZID=America/New_York:20230913T130000
DTEND;TZID=America/New_York:20230913T170000
DTSTAMP:20260424T083840
CREATED:20230805T160256Z
LAST-MODIFIED:20230912T224803Z
UID:4618-1694610000-1694624400@institutelibrary.org
SUMMARY:Put Your Camel to Bed! The Oasis Closing Party
DESCRIPTION:You are cordially invited come and say goodbye to Oasis\, our lovely\, chill summer show.\nThe Oasis Closing Reception:Put Your Camel To Bed!Wednesday\, September 13\, from 5-9 pm. We encourage you to invite your friends and loved ones for this night of celebration and activities. From 5-7 we have refreshments in the gallery\, and then we move down to the Biography room to a special oasis of storytelling games from 7-8 pm with plenty of time to mingle afterwards. Refreshments will be served and of course we always welcome contributions to the spread. Think good cocktail nibbles and fun libations. \nOasis features the work of: Ioana Barac\, Marsha Borden\, Trae Brooks\, Amira Brown\, Jody Clouse\, Jeanette Compton\, Susan Czark\, Laurie Flaherty\, Dan Gries\, Lys Guillorn \, John Hatch\, Abeer Hussain\, Helen Kauder\, Aidan Keefe\, kHyal\, Steph Kubish\, Linda Lindroth\, Andres Madariaga\, Kiara Matos\, V.V. Aldebaran McEvoy\, Tom Medwell\, Bailey Murphy\, Gerry Niemierowko\, ArtGuy Pat\, Karen Ponzio\, Alice Prael\, Kacey Ramirez\, DG Reid\, Melissa Coleridge Rich\, Judy Sirota Rosenthal\, Alison Safford\, Roxy Savage\, Scott Schuldt\, Lisa Siedenberg\, Emily Teall\, Kim Van Aelst\, Adam Viens\, Amy Wachtel\, & Doron Wolf \nThe Exhibition was organized by Martha Willette Lewis & Maxim Schmidt \nThe exhibit features an exciting textural mix of collage\, video\, assemblage\, ceramics\, painting\, sculpture\, bead work\, installation and more to refresh and enliven your senses.See a review in the New Haven Independent here: https://www.newhavenindependent.org/article/institute_library_oasis
URL:https://institutelibrary.org/event/oasis-closing-party/
LOCATION:The Gallery Upstairs at The Institute Library\, 847 Chapel Street\, New Haven\, CT\, 06510\, United States
ATTACH;FMTTYPE=image/jpeg:https://institutelibrary.org/wp-content/uploads/2023/05/FB_IMG_1685117960689-e1691173550123.jpg
END:VEVENT
BEGIN:VEVENT
DTSTART;TZID=America/New_York:20230413T150000
DTEND;TZID=America/New_York:20230413T170000
DTSTAMP:20260424T083840
CREATED:20230407T231727Z
LAST-MODIFIED:20230922T010159Z
UID:4490-1681398000-1681405200@institutelibrary.org
SUMMARY:Institute Library "In-Person" Story-Sharing Group
DESCRIPTION:The Story Sharing Group welcomes everyone to tell stories or to listen.  We give feedback to those who choose.  We are informal\, friendly\, and fun. \nCome to the Institute Library in-person only if you are vaccinated. \nFor questions\, contact the group coordinator\, Arnie Pritchard\, at apritchard01@snet.net.
URL:https://institutelibrary.org/event/institute-library-story-sharing-group-6-5/
LOCATION:The Institute LIbrary\, 847 Chapel Street\, New Haven\, CT\, 06510
CATEGORIES:Story Sharing
ATTACH;FMTTYPE=image/jpeg:https://institutelibrary.org/wp-content/uploads/2021/12/SG-LOGO.jpg
ORGANIZER;CN="Arnie Pritchard":MAILTO:apritchard01@snet.net
END:VEVENT
BEGIN:VEVENT
DTSTART;TZID=America/New_York:20230518T150000
DTEND;TZID=America/New_York:20230518T170000
DTSTAMP:20260424T083840
CREATED:20230407T232601Z
LAST-MODIFIED:20230621T023142Z
UID:4492-1684422000-1684429200@institutelibrary.org
SUMMARY:Institute Library "ZOOM ONLY" Story-Sharing Group
DESCRIPTION:The Story Sharing Group welcomes everyone to tell stories or to listen.  We give feedback to those who choose.  We are informal\, friendly\, and fun. \nThis meeting is being offered as a ZOOM ONLY meeting.\nJoin the Institute Library Story-Sharing group via  Zoom: https://us06web.zoom.us/j/82984857044 \nFor questions\, contact the group coordinator\, Arnie Pritchard\, at apritchard01@snet.net.
URL:https://institutelibrary.org/event/institute-library-zoom-only-story-sharing-group/
LOCATION:Institute Library via Zoom
CATEGORIES:Story Sharing
ATTACH;FMTTYPE=image/jpeg:https://institutelibrary.org/wp-content/uploads/2021/12/SG-LOGO.jpg
ORGANIZER;CN="Arnie Pritchard":MAILTO:apritchard01@snet.net
END:VEVENT
END:VCALENDAR