BEGIN:VCALENDAR
VERSION:2.0
PRODID:-//The Institute Library - ECPv6.15.13//NONSGML v1.0//EN
CALSCALE:GREGORIAN
METHOD:PUBLISH
X-WR-CALNAME:The Institute Library
X-ORIGINAL-URL:https://institutelibrary.org
X-WR-CALDESC:Events for The Institute Library
REFRESH-INTERVAL;VALUE=DURATION:PT1H
X-Robots-Tag:noindex
X-PUBLISHED-TTL:PT1H
BEGIN:VTIMEZONE
TZID:America/New_York
BEGIN:DAYLIGHT
TZOFFSETFROM:-0500
TZOFFSETTO:-0400
TZNAME:EDT
DTSTART:20210314T070000
END:DAYLIGHT
BEGIN:STANDARD
TZOFFSETFROM:-0400
TZOFFSETTO:-0500
TZNAME:EST
DTSTART:20211107T060000
END:STANDARD
BEGIN:DAYLIGHT
TZOFFSETFROM:-0500
TZOFFSETTO:-0400
TZNAME:EDT
DTSTART:20220313T070000
END:DAYLIGHT
BEGIN:STANDARD
TZOFFSETFROM:-0400
TZOFFSETTO:-0500
TZNAME:EST
DTSTART:20221106T060000
END:STANDARD
BEGIN:DAYLIGHT
TZOFFSETFROM:-0500
TZOFFSETTO:-0400
TZNAME:EDT
DTSTART:20230312T070000
END:DAYLIGHT
BEGIN:STANDARD
TZOFFSETFROM:-0400
TZOFFSETTO:-0500
TZNAME:EST
DTSTART:20231105T060000
END:STANDARD
BEGIN:DAYLIGHT
TZOFFSETFROM:-0500
TZOFFSETTO:-0400
TZNAME:EDT
DTSTART:20240310T070000
END:DAYLIGHT
BEGIN:STANDARD
TZOFFSETFROM:-0400
TZOFFSETTO:-0500
TZNAME:EST
DTSTART:20241103T060000
END:STANDARD
END:VTIMEZONE
BEGIN:VEVENT
DTSTART;TZID=America/New_York:20221107T130000
DTEND;TZID=America/New_York:20221107T153000
DTSTAMP:20260424T110436
CREATED:20221102T145645Z
LAST-MODIFIED:20230202T052702Z
UID:4148-1667826000-1667835000@institutelibrary.org
SUMMARY:BRIDGE
DESCRIPTION:A low key evening of bridge\, for people who know how and people who don’t know anything at all.
URL:https://institutelibrary.org/event/low-key-bridge-2/
LOCATION:The Institute LIbrary\, 847 Chapel Street\, New Haven\, CT\, 06510
CATEGORIES:BRIDGE
ATTACH;FMTTYPE=image/jpeg:https://institutelibrary.org/wp-content/uploads/2022/10/BRIDGE-ICON-SMALL.jpg
END:VEVENT
BEGIN:VEVENT
DTSTART;TZID=America/New_York:20221021T131500
DTEND;TZID=America/New_York:20231021T150000
DTSTAMP:20260424T110436
CREATED:20221012T183638Z
LAST-MODIFIED:20240724T235327Z
UID:4127-1666358100-1697900400@institutelibrary.org
SUMMARY:Happy Hour Jazz
DESCRIPTION:
URL:https://institutelibrary.org/event/happy-hour-jazz-2/
LOCATION:The Institute LIbrary\, 847 Chapel Street\, New Haven\, CT\, 06510
CATEGORIES:Jazz at the Institute Library
ATTACH;FMTTYPE=image/jpeg:https://institutelibrary.org/wp-content/uploads/2022/05/FridayJazzLogo2.jpg
END:VEVENT
BEGIN:VEVENT
DTSTART;TZID=America/New_York:20221021T131500
DTEND;TZID=America/New_York:20231021T150000
DTSTAMP:20260424T110436
CREATED:20221012T183638Z
LAST-MODIFIED:20240724T235327Z
UID:4127-1666358100-1697900400@institutelibrary.org
SUMMARY:Happy Hour Jazz
DESCRIPTION:
URL:https://institutelibrary.org/event/happy-hour-jazz-2/
LOCATION:The Institute LIbrary\, 847 Chapel Street\, New Haven\, CT\, 06510
CATEGORIES:Jazz at the Institute Library
ATTACH;FMTTYPE=image/jpeg:https://institutelibrary.org/wp-content/uploads/2022/05/FridayJazzLogo2.jpg
END:VEVENT
BEGIN:VEVENT
DTSTART;TZID=America/New_York:20221221T123000
DTEND;TZID=America/New_York:20221221T140000
DTSTAMP:20260424T110436
CREATED:20221216T060735Z
LAST-MODIFIED:20230202T055533Z
UID:4195-1671625800-1671631200@institutelibrary.org
SUMMARY:Sew Sew Social: A Sewing Bee @ The Institute Library
DESCRIPTION:Welcome to the Institute Library’s Sewing Bee! Bring your knitting\, crocheting\, sewing\, embroidery\, needlepoint\, cross-stitch\, quilting\, lace-making (!) or mending project. There are no organized classes\, demos\, or presentations — simply an opportunity to enjoy a casual evening with fellow creatives. We will meet every other Wednesday evening\, from 5:30 – 7:30 PM. Just ring the doorbell\, and we will let you in. No registration necessary. So what\, come sew!
URL:https://institutelibrary.org/event/sew-sew-social-a-sewing-bee-the-institute-library-8-2/
LOCATION:The Institute LIbrary\, 847 Chapel Street\, New Haven\, CT\, 06510
ATTACH;FMTTYPE=image/jpeg:https://institutelibrary.org/wp-content/uploads/2022/08/Sewing-Bee-Banner-918x371px.jpg
END:VEVENT
BEGIN:VEVENT
DTSTART;TZID=America/New_York:20221021T131500
DTEND;TZID=America/New_York:20231021T150000
DTSTAMP:20260424T110436
CREATED:20221012T183638Z
LAST-MODIFIED:20240724T235327Z
UID:4127-1666358100-1697900400@institutelibrary.org
SUMMARY:Happy Hour Jazz
DESCRIPTION:
URL:https://institutelibrary.org/event/happy-hour-jazz-2/
LOCATION:The Institute LIbrary\, 847 Chapel Street\, New Haven\, CT\, 06510
CATEGORIES:Jazz at the Institute Library
ATTACH;FMTTYPE=image/jpeg:https://institutelibrary.org/wp-content/uploads/2022/05/FridayJazzLogo2.jpg
END:VEVENT
BEGIN:VEVENT
DTSTART;TZID=America/New_York:20221021T131500
DTEND;TZID=America/New_York:20231021T150000
DTSTAMP:20260424T110436
CREATED:20221012T183638Z
LAST-MODIFIED:20240724T235327Z
UID:4127-1666358100-1697900400@institutelibrary.org
SUMMARY:Happy Hour Jazz
DESCRIPTION:
URL:https://institutelibrary.org/event/happy-hour-jazz-2/
LOCATION:The Institute LIbrary\, 847 Chapel Street\, New Haven\, CT\, 06510
CATEGORIES:Jazz at the Institute Library
ATTACH;FMTTYPE=image/jpeg:https://institutelibrary.org/wp-content/uploads/2022/05/FridayJazzLogo2.jpg
END:VEVENT
BEGIN:VEVENT
DTSTART;TZID=America/New_York:20221207T123000
DTEND;TZID=America/New_York:20221207T140000
DTSTAMP:20260424T110436
CREATED:20221216T060158Z
LAST-MODIFIED:20221216T060158Z
UID:4188-1670416200-1670421600@institutelibrary.org
SUMMARY:Sew Sew Social: A Sewing Bee @ The Institute Library
DESCRIPTION:Welcome to the Institute Library’s Sewing Bee! Bring your knitting\, crocheting\, sewing\, embroidery\, needlepoint\, cross-stitch\, quilting\, lace-making (!) or mending project. There are no organized classes\, demos\, or presentations — simply an opportunity to enjoy a casual evening with fellow creatives. We will meet every other Wednesday evening\, from 5:30 – 7:30 PM. Just ring the doorbell\, and we will let you in. No registration necessary. So what\, come sew!
URL:https://institutelibrary.org/event/sew-sew-social-a-sewing-bee-the-institute-library-8/
LOCATION:The Institute LIbrary\, 847 Chapel Street\, New Haven\, CT\, 06510
END:VEVENT
BEGIN:VEVENT
DTSTART;TZID=America/New_York:20221107T130000
DTEND;TZID=America/New_York:20221107T153000
DTSTAMP:20260424T110436
CREATED:20221102T145645Z
LAST-MODIFIED:20230202T052702Z
UID:4148-1667826000-1667835000@institutelibrary.org
SUMMARY:BRIDGE
DESCRIPTION:A low key evening of bridge\, for people who know how and people who don’t know anything at all.
URL:https://institutelibrary.org/event/low-key-bridge-2/
LOCATION:The Institute LIbrary\, 847 Chapel Street\, New Haven\, CT\, 06510
CATEGORIES:BRIDGE
ATTACH;FMTTYPE=image/jpeg:https://institutelibrary.org/wp-content/uploads/2022/10/BRIDGE-ICON-SMALL.jpg
END:VEVENT
BEGIN:VEVENT
DTSTART;TZID=America/New_York:20221202T130000
DTEND;TZID=America/New_York:20221202T150000
DTSTAMP:20260424T110436
CREATED:20221115T055736Z
LAST-MODIFIED:20221116T003944Z
UID:4158-1669986000-1669993200@institutelibrary.org
SUMMARY:Holiday Gathering
DESCRIPTION:Join us at the Institute Library to welcome in the holiday season. A lovely gathering for all to enjoy — music\, drink\, quality nibbles\, and divine company. This is how to start the month of December! \nMusical entertainment will be provided by The Yale Alley Cats\, and local a cappella vocal group Silkn’ Sounds’ Very Large Quartet. \nMembers! Care to join us December 2? Alley Cats and Silkn’ Sounds Await You… For current Library Members\, this event is free. Non-members are asked to purchase tickets ($10 each\, for all over the age of 12)\, easily done online by clicking here. \n\nPlease RSVP by clicking below on the appropriate response. \nI’m a Library Member & I’ll Be There! \nI Can’t Make It
URL:https://institutelibrary.org/event/holiday-gathering/
LOCATION:The Institute LIbrary\, 847 Chapel Street\, New Haven\, CT\, 06510
ATTACH;FMTTYPE=image/jpeg:https://institutelibrary.org/wp-content/uploads/2022/11/thumbnail_YAC-2021-22.jpg
END:VEVENT
BEGIN:VEVENT
DTSTART;TZID=America/New_York:20221202T120000
DTEND;TZID=America/New_York:20221202T130000
DTSTAMP:20260424T110436
CREATED:20221116T004202Z
LAST-MODIFIED:20221116T004202Z
UID:4169-1669982400-1669986000@institutelibrary.org
SUMMARY:Happy Hour Jazz
DESCRIPTION:
URL:https://institutelibrary.org/event/happy-hour-jazz-2-4/
LOCATION:The Institute LIbrary\, 847 Chapel Street\, New Haven\, CT\, 06510
CATEGORIES:Jazz at the Institute Library
ATTACH;FMTTYPE=image/jpeg:https://institutelibrary.org/wp-content/uploads/2022/05/FridayJazzLogo2.jpg
END:VEVENT
BEGIN:VEVENT
DTSTART;TZID=America/New_York:20221202T120000
DTEND;TZID=America/New_York:20221202T130000
DTSTAMP:20260424T110436
CREATED:20221116T003526Z
LAST-MODIFIED:20221116T003527Z
UID:4166-1669982400-1669986000@institutelibrary.org
SUMMARY:Happy Hour Jazz
DESCRIPTION:
URL:https://institutelibrary.org/event/happy-hour-jazz-2-3/
LOCATION:The Institute LIbrary\, 847 Chapel Street\, New Haven\, CT\, 06510
CATEGORIES:Jazz at the Institute Library
ATTACH;FMTTYPE=image/jpeg:https://institutelibrary.org/wp-content/uploads/2022/05/FridayJazzLogo2.jpg
END:VEVENT
BEGIN:VEVENT
DTSTART;TZID=America/New_York:20221021T131500
DTEND;TZID=America/New_York:20231021T150000
DTSTAMP:20260424T110436
CREATED:20221012T183638Z
LAST-MODIFIED:20240724T235327Z
UID:4127-1666358100-1697900400@institutelibrary.org
SUMMARY:Happy Hour Jazz
DESCRIPTION:
URL:https://institutelibrary.org/event/happy-hour-jazz-2/
LOCATION:The Institute LIbrary\, 847 Chapel Street\, New Haven\, CT\, 06510
CATEGORIES:Jazz at the Institute Library
ATTACH;FMTTYPE=image/jpeg:https://institutelibrary.org/wp-content/uploads/2022/05/FridayJazzLogo2.jpg
END:VEVENT
BEGIN:VEVENT
DTSTART;TZID=America/New_York:20221021T131500
DTEND;TZID=America/New_York:20231021T150000
DTSTAMP:20260424T110436
CREATED:20221012T183638Z
LAST-MODIFIED:20240724T235327Z
UID:4127-1666358100-1697900400@institutelibrary.org
SUMMARY:Happy Hour Jazz
DESCRIPTION:
URL:https://institutelibrary.org/event/happy-hour-jazz-2/
LOCATION:The Institute LIbrary\, 847 Chapel Street\, New Haven\, CT\, 06510
CATEGORIES:Jazz at the Institute Library
ATTACH;FMTTYPE=image/jpeg:https://institutelibrary.org/wp-content/uploads/2022/05/FridayJazzLogo2.jpg
END:VEVENT
BEGIN:VEVENT
DTSTART;TZID=America/New_York:20221102T133000
DTEND;TZID=America/New_York:20221102T153000
DTSTAMP:20260424T110436
CREATED:20220605T082413Z
LAST-MODIFIED:20221102T144729Z
UID:3902-1667395800-1667403000@institutelibrary.org
SUMMARY:Sew Sew Social: A Sewing Bee @ The Institute Library
DESCRIPTION:Welcome to the Institute Library’s Sewing Bee! Bring your knitting\, crocheting\, sewing\, embroidery\, needlepoint\, cross-stitch\, quilting\, lace-making (!) or mending project. There are no organized classes\, demos\, or presentations — simply an opportunity to enjoy a casual evening with fellow creatives. We will meet every other Wednesday evening\, from 5:30 – 7:30 PM. Just ring the doorbell\, and we will let you in. No registration necessary. So what\, come sew!
URL:https://institutelibrary.org/event/clone-sew-sew-social-a-sewing-bee-the-institute-library-copy-5/
LOCATION:The Institute LIbrary\, 847 Chapel Street\, New Haven\, CT\, 06510
ATTACH;FMTTYPE=image/jpeg:https://institutelibrary.org/wp-content/uploads/2022/05/image001-1.jpg
END:VEVENT
BEGIN:VEVENT
DTSTART;TZID=America/New_York:20221021T131500
DTEND;TZID=America/New_York:20231021T150000
DTSTAMP:20260424T110436
CREATED:20221012T183638Z
LAST-MODIFIED:20240724T235327Z
UID:4127-1666358100-1697900400@institutelibrary.org
SUMMARY:Happy Hour Jazz
DESCRIPTION:
URL:https://institutelibrary.org/event/happy-hour-jazz-2/
LOCATION:The Institute LIbrary\, 847 Chapel Street\, New Haven\, CT\, 06510
CATEGORIES:Jazz at the Institute Library
ATTACH;FMTTYPE=image/jpeg:https://institutelibrary.org/wp-content/uploads/2022/05/FridayJazzLogo2.jpg
END:VEVENT
BEGIN:VEVENT
DTSTART;TZID=America/New_York:20221107T130000
DTEND;TZID=America/New_York:20221107T153000
DTSTAMP:20260424T110436
CREATED:20221102T145645Z
LAST-MODIFIED:20230202T052702Z
UID:4148-1667826000-1667835000@institutelibrary.org
SUMMARY:BRIDGE
DESCRIPTION:A low key evening of bridge\, for people who know how and people who don’t know anything at all.
URL:https://institutelibrary.org/event/low-key-bridge-2/
LOCATION:The Institute LIbrary\, 847 Chapel Street\, New Haven\, CT\, 06510
CATEGORIES:BRIDGE
ATTACH;FMTTYPE=image/jpeg:https://institutelibrary.org/wp-content/uploads/2022/10/BRIDGE-ICON-SMALL.jpg
END:VEVENT
BEGIN:VEVENT
DTSTART;TZID=America/New_York:20221105T090000
DTEND;TZID=America/New_York:20221105T110000
DTSTAMP:20260424T110436
CREATED:20221012T165431Z
LAST-MODIFIED:20221012T165528Z
UID:4114-1667638800-1667646000@institutelibrary.org
SUMMARY:Rachel Kauder Nalebuff & Friends: OUR RED BOOK
DESCRIPTION:Rachel Nalebuff Kauder comes to celebrate the publication of Our Red Book\, a collection of essays\, oral histories\, and artworks about periods across all stages of life\, gathered by the editor of the New York Times bestselling anthology My Little Red Book. \n\nOur Red Book takes us through stories of first periods\, last periods\, missing periods\, and everything about bleeding that people wish they had been told. Weaving together powerful voices—from teenagers\, midwives\, Indigenous scholars\, Olympic athletes\, incarcerated writers\, disoriented fathers\, elected leaders who fought to make period products free\, friends transitioning genders\, grandmothers\, and lovers—the book invites us on a collective journey of growth and change\, with Rachel’s own voice as a guide.\n\nCopies of Our Red Book will be available for purchase thanks to New Haven’s newest indie bookstore\, Possible Futures. \n\nReaders will include: Nina Bentley\, Mindi Englart\, Nadia Gaskins\, Axel Gay\, Somah Haaland\, Nina Kauder\, Kica Matos\, Sofiya Moorem Amira Pierotti\, & Piper Zschack!
URL:https://institutelibrary.org/event/rachel-kauder-nalebuff-friends-our-red-book/
LOCATION:The Institute LIbrary\, 847 Chapel Street\, New Haven\, CT\, 06510
CATEGORIES:Literary Event
ATTACH;FMTTYPE=image/jpeg:https://institutelibrary.org/wp-content/uploads/2022/10/311273791_8372890666062214_6621568162853217007_n.jpg
END:VEVENT
BEGIN:VEVENT
DTSTART;TZID=America/New_York:20221021T131500
DTEND;TZID=America/New_York:20231021T150000
DTSTAMP:20260424T110436
CREATED:20221012T183638Z
LAST-MODIFIED:20240724T235327Z
UID:4127-1666358100-1697900400@institutelibrary.org
SUMMARY:Happy Hour Jazz
DESCRIPTION:
URL:https://institutelibrary.org/event/happy-hour-jazz-2/
LOCATION:The Institute LIbrary\, 847 Chapel Street\, New Haven\, CT\, 06510
CATEGORIES:Jazz at the Institute Library
ATTACH;FMTTYPE=image/jpeg:https://institutelibrary.org/wp-content/uploads/2022/05/FridayJazzLogo2.jpg
END:VEVENT
BEGIN:VEVENT
DTSTART;TZID=America/New_York:20221102T133000
DTEND;TZID=America/New_York:20221102T153000
DTSTAMP:20260424T110436
CREATED:20220605T082413Z
LAST-MODIFIED:20221102T144729Z
UID:3902-1667395800-1667403000@institutelibrary.org
SUMMARY:Sew Sew Social: A Sewing Bee @ The Institute Library
DESCRIPTION:Welcome to the Institute Library’s Sewing Bee! Bring your knitting\, crocheting\, sewing\, embroidery\, needlepoint\, cross-stitch\, quilting\, lace-making (!) or mending project. There are no organized classes\, demos\, or presentations — simply an opportunity to enjoy a casual evening with fellow creatives. We will meet every other Wednesday evening\, from 5:30 – 7:30 PM. Just ring the doorbell\, and we will let you in. No registration necessary. So what\, come sew!
URL:https://institutelibrary.org/event/clone-sew-sew-social-a-sewing-bee-the-institute-library-copy-5/
LOCATION:The Institute LIbrary\, 847 Chapel Street\, New Haven\, CT\, 06510
ATTACH;FMTTYPE=image/jpeg:https://institutelibrary.org/wp-content/uploads/2022/05/image001-1.jpg
END:VEVENT
BEGIN:VEVENT
DTSTART;TZID=America/New_York:20221021T131500
DTEND;TZID=America/New_York:20231021T150000
DTSTAMP:20260424T110436
CREATED:20221012T183638Z
LAST-MODIFIED:20240724T235327Z
UID:4127-1666358100-1697900400@institutelibrary.org
SUMMARY:Happy Hour Jazz
DESCRIPTION:
URL:https://institutelibrary.org/event/happy-hour-jazz-2/
LOCATION:The Institute LIbrary\, 847 Chapel Street\, New Haven\, CT\, 06510
CATEGORIES:Jazz at the Institute Library
ATTACH;FMTTYPE=image/jpeg:https://institutelibrary.org/wp-content/uploads/2022/05/FridayJazzLogo2.jpg
END:VEVENT
BEGIN:VEVENT
DTSTART;TZID=America/New_York:20221027T150000
DTEND;TZID=America/New_York:20221027T170000
DTSTAMP:20260424T110436
CREATED:20220930T044137Z
LAST-MODIFIED:20220930T044137Z
UID:4082-1666882800-1666890000@institutelibrary.org
SUMMARY:Tellabration: Storytelling workshop #4
DESCRIPTION:The fourth of a connected series of four workshops\, in which we will discuss a few storytelling issues\, and then participants will spend most of their time honing a story which they choose.  Feedback from other participants will be a major part of the story development.  Those who choose to do so will tell their stories at a “Tellabration”\, open to the public\, on November 2-3.\n\n\n\n\nFor registration see under October 6.
URL:https://institutelibrary.org/event/tellabration-storytelling-workshop-4/
LOCATION:The Institute LIbrary\, 847 Chapel Street\, New Haven\, CT\, 06510
CATEGORIES:Story Sharing
ATTACH;FMTTYPE=image/jpeg:https://institutelibrary.org/wp-content/uploads/2021/10/SGTELLABRATION-LOGO.jpg
ORGANIZER;CN="Arnie Pritchard":MAILTO:apritchard01@snet.net
END:VEVENT
BEGIN:VEVENT
DTSTART;TZID=America/New_York:20221026T133000
DTEND;TZID=America/New_York:20221026T153000
DTSTAMP:20260424T110436
CREATED:20220605T082129Z
LAST-MODIFIED:20221008T001808Z
UID:3893-1666791000-1666798200@institutelibrary.org
SUMMARY:Sew Sew Social: A Sewing Bee @ The Institute Library
DESCRIPTION:Welcome to the Institute Library’s Sewing Bee! Bring your knitting\, crocheting\, sewing\, embroidery\, needlepoint\, cross-stitch\, quilting\, lace-making (!) or mending project. There are no organized classes\, demos\, or presentations — simply an opportunity to enjoy a casual evening with fellow creatives. We will meet every other Wednesday evening\, from 5:30 – 7:30 PM. Just ring the doorbell\, and we will let you in. No registration necessary. So what\, come sew!
URL:https://institutelibrary.org/event/sew-sew-social-a-sewing-bee-the-institute-library-7/
LOCATION:The Institute LIbrary\, 847 Chapel Street\, New Haven\, CT\, 06510
ATTACH;FMTTYPE=image/jpeg:https://institutelibrary.org/wp-content/uploads/2022/05/image001-1.jpg
END:VEVENT
BEGIN:VEVENT
DTSTART;TZID=America/New_York:20221021T131500
DTEND;TZID=America/New_York:20231021T150000
DTSTAMP:20260424T110436
CREATED:20221012T183638Z
LAST-MODIFIED:20240724T235327Z
UID:4127-1666358100-1697900400@institutelibrary.org
SUMMARY:Happy Hour Jazz
DESCRIPTION:
URL:https://institutelibrary.org/event/happy-hour-jazz-2/
LOCATION:The Institute LIbrary\, 847 Chapel Street\, New Haven\, CT\, 06510
CATEGORIES:Jazz at the Institute Library
ATTACH;FMTTYPE=image/jpeg:https://institutelibrary.org/wp-content/uploads/2022/05/FridayJazzLogo2.jpg
END:VEVENT
BEGIN:VEVENT
DTSTART;TZID=America/New_York:20221020T150000
DTEND;TZID=America/New_York:20221020T170000
DTSTAMP:20260424T110436
CREATED:20220930T043845Z
LAST-MODIFIED:20220930T043929Z
UID:4080-1666278000-1666285200@institutelibrary.org
SUMMARY:Tellabration: Storytelling workshop #3
DESCRIPTION:The third of a connected series of four workshops\, in which we will discuss a few storytelling issues\, and then participants will spend most of their time honing a story which they choose.  Feedback from other participants will be a major part of the story development.  Those who choose to do so will tell their stories at a “Tellabration”\, open to the public\, on November 2-3.\n\nFor registration see under October 6
URL:https://institutelibrary.org/event/tellabration-storytelling-workshop-3/
LOCATION:The Institute LIbrary\, 847 Chapel Street\, New Haven\, CT\, 06510
CATEGORIES:Story Sharing
ATTACH;FMTTYPE=image/jpeg:https://institutelibrary.org/wp-content/uploads/2021/10/SGTELLABRATION-LOGO.jpg
ORGANIZER;CN="Arnie Pritchard":MAILTO:apritchard01@snet.net
END:VEVENT
BEGIN:VEVENT
DTSTART;TZID=America/New_York:20221019T133000
DTEND;TZID=America/New_York:20221019T150000
DTSTAMP:20260424T110436
CREATED:20221011T004821Z
LAST-MODIFIED:20221012T175640Z
UID:4105-1666186200-1666191600@institutelibrary.org
SUMMARY:It's a party\, and you are invited!
DESCRIPTION:Raise a glass at the Institute Library as we Raise the Roof! Click here for all of the details.\nOctober 19\, 2022 • 5:30 – 7:30\n847 Chapel Street\, New Haven\, CT\n 
URL:https://institutelibrary.org/event/its-a-party-and-you-are-invited/
LOCATION:The Institute LIbrary\, 847 Chapel Street\, New Haven\, CT\, 06510
ATTACH;FMTTYPE=image/png:https://institutelibrary.org/wp-content/uploads/2022/10/Screen-Shot-2022-10-12-at-9.55.36-AM.png
END:VEVENT
BEGIN:VEVENT
DTSTART;TZID=America/New_York:20221017T140000
DTEND;TZID=America/New_York:20221017T163000
DTSTAMP:20260424T110436
CREATED:20221013T054726Z
LAST-MODIFIED:20221013T055348Z
UID:4136-1666015200-1666024200@institutelibrary.org
SUMMARY:BRIDGE
DESCRIPTION:A low key evening of bridge\, for people who know how and people who don’t know anything at all.
URL:https://institutelibrary.org/event/low-key-bridge/
LOCATION:The Institute LIbrary\, 847 Chapel Street\, New Haven\, CT\, 06510
CATEGORIES:BRIDGE
ATTACH;FMTTYPE=image/jpeg:https://institutelibrary.org/wp-content/uploads/2022/10/BRIDGE-ICON-SMALL.jpg
END:VEVENT
BEGIN:VEVENT
DTSTART;TZID=America/New_York:20221014T133000
DTEND;TZID=America/New_York:20221014T150000
DTSTAMP:20260424T110436
CREATED:20221013T052636Z
LAST-MODIFIED:20221013T052815Z
UID:4133-1665754200-1665759600@institutelibrary.org
SUMMARY:Happy Hour Jazz
DESCRIPTION:
URL:https://institutelibrary.org/event/happy-hour-jazz-2-2/
LOCATION:The Institute LIbrary\, 847 Chapel Street\, New Haven\, CT\, 06510
CATEGORIES:Jazz at the Institute Library
ATTACH;FMTTYPE=image/jpeg:https://institutelibrary.org/wp-content/uploads/2022/05/FridayJazzLogo2.jpg
END:VEVENT
BEGIN:VEVENT
DTSTART;TZID=America/New_York:20221013T150000
DTEND;TZID=America/New_York:20221013T170000
DTSTAMP:20260424T110436
CREATED:20220930T043522Z
LAST-MODIFIED:20220930T043956Z
UID:4076-1665673200-1665680400@institutelibrary.org
SUMMARY:Tellabration: Storytelling workshop #2
DESCRIPTION:The second of a connected series of four workshops\, in which we will discuss a few storytelling issues\, and then participants will spend most of their time honing a story which they choose.  Feedback from other participants will be a major part of the story development.  Those who choose to do so will tell their stories at a “Tellabration”\, open to the public\, on November 2-3.\n\n\nFor registration see under October 6
URL:https://institutelibrary.org/event/clone-tellabration-storytelling-workshop-2/
LOCATION:The Institute LIbrary\, 847 Chapel Street\, New Haven\, CT\, 06510
CATEGORIES:Story Sharing
ATTACH;FMTTYPE=image/jpeg:https://institutelibrary.org/wp-content/uploads/2021/10/SGTELLABRATION-LOGO.jpg
ORGANIZER;CN="Arnie Pritchard":MAILTO:apritchard01@snet.net
END:VEVENT
BEGIN:VEVENT
DTSTART;TZID=America/New_York:20221012T133000
DTEND;TZID=America/New_York:20221012T153000
DTSTAMP:20260424T110436
CREATED:20220605T082051Z
LAST-MODIFIED:20221008T001835Z
UID:3891-1665581400-1665588600@institutelibrary.org
SUMMARY:Sew Sew Social: A Sewing Bee @ The Institute Library
DESCRIPTION:Welcome to the Institute Library’s Sewing Bee! Bring your knitting\, crocheting\, sewing\, embroidery\, needlepoint\, cross-stitch\, quilting\, lace-making (!) or mending project. There are no organized classes\, demos\, or presentations — simply an opportunity to enjoy a casual evening with fellow creatives. We will meet every other Wednesday evening\, from 5:30 – 7:30 PM. Just ring the doorbell\, and we will let you in. No registration necessary. So what\, come sew!
URL:https://institutelibrary.org/event/sew-sew-social-a-sewing-bee-the-institute-library-6/
LOCATION:The Institute LIbrary\, 847 Chapel Street\, New Haven\, CT\, 06510
ATTACH;FMTTYPE=image/jpeg:https://institutelibrary.org/wp-content/uploads/2022/05/image001-1.jpg
END:VEVENT
BEGIN:VEVENT
DTSTART;TZID=America/New_York:20221006T150000
DTEND;TZID=America/New_York:20221006T170000
DTSTAMP:20260424T110436
CREATED:20220930T043343Z
LAST-MODIFIED:20220930T044024Z
UID:4073-1665068400-1665075600@institutelibrary.org
SUMMARY:Tellabration: Storytelling workshop #1
DESCRIPTION:The first of a connected series of four workshops\, in which we will discuss a few storytelling issues\, and then participants will spend most of their time honing a story which they choose.  Feedback from other participants will be a major part of the story development.  Those who choose to do so will tell their stories at a “Tellabration”\, open to the public\, on November 2-3.\n\nTo register go to https://secure.lglforms.com/form_engine/s/T0R0xif00dLE1VmVx_VyAA.  This covers participation in all four workshops and in the Tellabration performance.
URL:https://institutelibrary.org/event/tellabration-storytelling-workshop-1/
LOCATION:The Institute LIbrary\, 847 Chapel Street\, New Haven\, CT\, 06510
CATEGORIES:Story Sharing
ATTACH;FMTTYPE=image/jpeg:https://institutelibrary.org/wp-content/uploads/2021/10/SGTELLABRATION-LOGO.jpg
ORGANIZER;CN="Arnie Pritchard":MAILTO:apritchard01@snet.net
END:VEVENT
END:VCALENDAR