BEGIN:VCALENDAR
VERSION:2.0
PRODID:-//The Institute Library - ECPv6.15.13//NONSGML v1.0//EN
CALSCALE:GREGORIAN
METHOD:PUBLISH
X-ORIGINAL-URL:https://institutelibrary.org
X-WR-CALDESC:Events for The Institute Library
REFRESH-INTERVAL;VALUE=DURATION:PT1H
X-Robots-Tag:noindex
X-PUBLISHED-TTL:PT1H
BEGIN:VTIMEZONE
TZID:America/New_York
BEGIN:DAYLIGHT
TZOFFSETFROM:-0500
TZOFFSETTO:-0400
TZNAME:EDT
DTSTART:20210314T070000
END:DAYLIGHT
BEGIN:STANDARD
TZOFFSETFROM:-0400
TZOFFSETTO:-0500
TZNAME:EST
DTSTART:20211107T060000
END:STANDARD
BEGIN:DAYLIGHT
TZOFFSETFROM:-0500
TZOFFSETTO:-0400
TZNAME:EDT
DTSTART:20220313T070000
END:DAYLIGHT
BEGIN:STANDARD
TZOFFSETFROM:-0400
TZOFFSETTO:-0500
TZNAME:EST
DTSTART:20221106T060000
END:STANDARD
BEGIN:DAYLIGHT
TZOFFSETFROM:-0500
TZOFFSETTO:-0400
TZNAME:EDT
DTSTART:20230312T070000
END:DAYLIGHT
BEGIN:STANDARD
TZOFFSETFROM:-0400
TZOFFSETTO:-0500
TZNAME:EST
DTSTART:20231105T060000
END:STANDARD
BEGIN:DAYLIGHT
TZOFFSETFROM:-0500
TZOFFSETTO:-0400
TZNAME:EDT
DTSTART:20240310T070000
END:DAYLIGHT
BEGIN:STANDARD
TZOFFSETFROM:-0400
TZOFFSETTO:-0500
TZNAME:EST
DTSTART:20241103T060000
END:STANDARD
BEGIN:DAYLIGHT
TZOFFSETFROM:-0500
TZOFFSETTO:-0400
TZNAME:EDT
DTSTART:20250309T070000
END:DAYLIGHT
BEGIN:STANDARD
TZOFFSETFROM:-0400
TZOFFSETTO:-0500
TZNAME:EST
DTSTART:20251102T060000
END:STANDARD
BEGIN:DAYLIGHT
TZOFFSETFROM:-0500
TZOFFSETTO:-0400
TZNAME:EDT
DTSTART:20260308T070000
END:DAYLIGHT
BEGIN:STANDARD
TZOFFSETFROM:-0400
TZOFFSETTO:-0500
TZNAME:EST
DTSTART:20261101T060000
END:STANDARD
END:VTIMEZONE
BEGIN:VEVENT
DTSTART;TZID=America/New_York:20250621T140000
DTEND;TZID=America/New_York:20250621T160000
DTSTAMP:20260424T011720
CREATED:20250612T142036Z
LAST-MODIFIED:20250612T142145Z
UID:5600-1750514400-1750521600@institutelibrary.org
SUMMARY:Voices of Change: Social Justice Reader Research Showcase
DESCRIPTION:Social Justice Readers present their original research exploring critical issues at the intersections of race\, gender\, class\, disability and justice. \nPlease RSVP: freda.grant@institutelibrary.org
URL:https://institutelibrary.org/event/social-justice-reader-research-showcase/
LOCATION:The Institute LIbrary\, 847 Chapel Street\, New Haven\, CT\, 06510
CATEGORIES:Social Justice Reader
ATTACH;FMTTYPE=image/jpeg:https://institutelibrary.org/wp-content/uploads/2025/06/SocialJusticeJune21_714x1000px.jpg
END:VEVENT
BEGIN:VEVENT
DTSTART;VALUE=DATE:20230623
DTEND;VALUE=DATE:20230625
DTSTAMP:20260424T011720
CREATED:20230526T231427Z
LAST-MODIFIED:20230526T231601Z
UID:4566-1687550400-1687636799@institutelibrary.org
SUMMARY:SJR Project Presentations
DESCRIPTION:Project presentations will be presented on Saturday\, June 24. Time and location to be determined.
URL:https://institutelibrary.org/event/sjr-project-presentations/
LOCATION:CT
CATEGORIES:Social Justice Reader
ATTACH;FMTTYPE=image/png:https://institutelibrary.org/wp-content/uploads/2022/06/Social_Justice_Reader_LOGO_1A-e1654184276601.png
END:VEVENT
BEGIN:VEVENT
DTSTART;TZID=America/New_York:20220614T130000
DTEND;TZID=America/New_York:20220614T150000
DTSTAMP:20260424T011720
CREATED:20220602T193403Z
LAST-MODIFIED:20220608T221228Z
UID:3834-1655211600-1655218800@institutelibrary.org
SUMMARY:SJR Readers Research Topic Presentations
DESCRIPTION:The Institute Library invites you to witness and celebrate the brilliant scholarship of the Social Justice Reader inaugural cohort of 2022! This year\, we had the opportunity to host seven New Haven high schoolers in a paid mentorship and research based fellowship program. Each Reader was encouraged to pursue an area of study related to race or social justice.\nWe are pleased and immensely proud to announce that the following  SJR Readers will be presenting their individual research projects on Tuesday\, June 14th from 5-7pm at the Institute Library.\nAmirah Harris\nSayniel Sawmadal\nAkida Ouro-Adei\nTristan Ward\nElsa Houlahan\nJonas Ward\nMyla Geberette\nWe hope you will join us in honoring the hard work of our local mentors and the Readers who have spent the last six months in collaboration\, building community and wealth of knowledge. Light fare and refreshments will be provided.
URL:https://institutelibrary.org/event/clone-sjr-research-topic-presentations/
LOCATION:The Institute LIbrary\, 847 Chapel Street\, New Haven\, CT\, 06510
CATEGORIES:Social Justice Reader
ATTACH;FMTTYPE=image/png:https://institutelibrary.org/wp-content/uploads/2022/06/Social_Justice_Reader_LOGO_1A-e1654184276601.png
END:VEVENT
END:VCALENDAR