BEGIN:VCALENDAR
VERSION:2.0
PRODID:-//The Institute Library - ECPv6.15.13//NONSGML v1.0//EN
CALSCALE:GREGORIAN
METHOD:PUBLISH
X-WR-CALNAME:The Institute Library
X-ORIGINAL-URL:https://institutelibrary.org
X-WR-CALDESC:Events for The Institute Library
REFRESH-INTERVAL;VALUE=DURATION:PT1H
X-Robots-Tag:noindex
X-PUBLISHED-TTL:PT1H
BEGIN:VTIMEZONE
TZID:America/New_York
BEGIN:DAYLIGHT
TZOFFSETFROM:-0500
TZOFFSETTO:-0400
TZNAME:EDT
DTSTART:20240310T070000
END:DAYLIGHT
BEGIN:STANDARD
TZOFFSETFROM:-0400
TZOFFSETTO:-0500
TZNAME:EST
DTSTART:20241103T060000
END:STANDARD
BEGIN:DAYLIGHT
TZOFFSETFROM:-0500
TZOFFSETTO:-0400
TZNAME:EDT
DTSTART:20250309T070000
END:DAYLIGHT
BEGIN:STANDARD
TZOFFSETFROM:-0400
TZOFFSETTO:-0500
TZNAME:EST
DTSTART:20251102T060000
END:STANDARD
BEGIN:DAYLIGHT
TZOFFSETFROM:-0500
TZOFFSETTO:-0400
TZNAME:EDT
DTSTART:20260308T070000
END:DAYLIGHT
BEGIN:STANDARD
TZOFFSETFROM:-0400
TZOFFSETTO:-0500
TZNAME:EST
DTSTART:20261101T060000
END:STANDARD
BEGIN:DAYLIGHT
TZOFFSETFROM:-0500
TZOFFSETTO:-0400
TZNAME:EDT
DTSTART:20270314T070000
END:DAYLIGHT
BEGIN:STANDARD
TZOFFSETFROM:-0400
TZOFFSETTO:-0500
TZNAME:EST
DTSTART:20271107T060000
END:STANDARD
END:VTIMEZONE
BEGIN:VEVENT
DTSTART;TZID=America/New_York:20250520T190000
DTEND;TZID=America/New_York:20250520T210000
DTSTAMP:20260425T073334
CREATED:20250114T012223Z
LAST-MODIFIED:20251209T021248Z
UID:5337-1747767600-1747774800@institutelibrary.org
SUMMARY:Listen Here: Short Stories Read Aloud
DESCRIPTION:Storytelling for grownups! Captivating short stories read aloud by actors from the New Haven Theater Company with a talk-back session to follow. Tea and cookies served.\nFree and open to the public!
URL:https://institutelibrary.org/event/listen-here-short-stories-read-aloud-6/
LOCATION:The Institute LIbrary\, 847 Chapel Street\, New Haven\, CT\, 06510
CATEGORIES:Literary Event
END:VEVENT
BEGIN:VEVENT
DTSTART;TZID=America/New_York:20250617T190000
DTEND;TZID=America/New_York:20250617T210000
DTSTAMP:20260425T073334
CREATED:20250114T012703Z
LAST-MODIFIED:20251209T021145Z
UID:5340-1750186800-1750194000@institutelibrary.org
SUMMARY:Listen Here: Short Stories Read Aloud
DESCRIPTION:Storytelling for grownups! Captivating short stories read aloud by actors from the New Haven Theater Company with a talk-back session to follow. Tea and cookies served.\nFree and open to the public!
URL:https://institutelibrary.org/event/listen-here-short-stories-read-aloud-7/
LOCATION:The Institute LIbrary\, 847 Chapel Street\, New Haven\, CT\, 06510
CATEGORIES:Literary Event
END:VEVENT
BEGIN:VEVENT
DTSTART;TZID=America/New_York:20250715T190000
DTEND;TZID=America/New_York:20250715T203000
DTSTAMP:20260425T073334
CREATED:20250708T130352Z
LAST-MODIFIED:20250708T225126Z
UID:5618-1752606000-1752611400@institutelibrary.org
SUMMARY:Outwitted and Outplayed? Inside the 2024 election: A Talk with Chris Whipple\, author of Uncharted: How Trump Beat Biden\, Harris\, and the Odds in the Wildest Campaign in History
DESCRIPTION:A relaxed conversation with Chris Whipple \n \nChris Whipple’s new book\, “Uncharted: How Trump Beat Biden\, Harris\, and the Odds in the Wildest Campaign in History” exposes how ambition\, conviction\, corruption\, and luck drove the most consequential election in modern history. Hear Chris relate never-told-before stories from inside both the Trump and Harris campaigns by way of political heavyweights such as Paul Manafort\, Jared and Ivanka Kushner\, Kellyanne Conway\, Leon Panetta\, and Biden chiefs-of-staff Ron Klain and Jeffrey Zients. Chris Whipple is a New York Times bestselling author and widely acclaimed documentary filmmaker\, speaker\, and Peabody and Emmy Award-winning journalist. A former producer at 60 Minutes\, he now contributes to The New York Times and The Washington Post\, and has written for Vanity Fair\, Politico\, and the Daily Beast\, among other outlets. He is the author of numerous groundbreaking political books\, including “The Gatekeepers: How the White House Chiefs of Staff Define Every Presidency” and “The Fight of His Life: Inside Joe Biden’s White House.” \nFree for those who are currently members of the Institute Library; non-members $10 (suggested contribution). \nLimited Seating\, please click here to RSVP or use the QR code below.
URL:https://institutelibrary.org/event/outwitted-and-outplayed-inside-the-2024-election-a-talk-with-chris-whipple-author-of-uncharted-how-trump-beat-biden-harris-and-the-odds-in-the-wildest-campaign-in-history/
LOCATION:CT
CATEGORIES:Literary Event
ATTACH;FMTTYPE=image/jpeg:https://institutelibrary.org/wp-content/uploads/2025/07/thumbnail_UNCHARTED-book-cover-.jpg
END:VEVENT
BEGIN:VEVENT
DTSTART;TZID=America/New_York:20251118T183000
DTEND;TZID=America/New_York:20251118T210000
DTSTAMP:20260425T073334
CREATED:20251106T135526Z
LAST-MODIFIED:20251209T012715Z
UID:5749-1763490600-1763499600@institutelibrary.org
SUMMARY:Listen Here!
DESCRIPTION:Short stories read by members of the New Haven Theater Company\, with talkback afterwards led by Bennett Lovett-Graff. Tea and cookies available for those who need caloric sustenance and warmth; stories and dialogue takes care of warming heart and soul. This event is free and open to the public; donations to the Institute Library are\, however\, welcomed.
URL:https://institutelibrary.org/event/listen-here-2/
LOCATION:The Institute LIbrary\, 847 Chapel Street\, New Haven\, CT\, 06510
CATEGORIES:Literary Event
END:VEVENT
BEGIN:VEVENT
DTSTART;TZID=America/New_York:20260409T190000
DTEND;TZID=America/New_York:20260409T210000
DTSTAMP:20260425T073334
CREATED:20260406T193146Z
LAST-MODIFIED:20260408T222327Z
UID:5889-1775761200-1775768400@institutelibrary.org
SUMMARY:The Institute Library Goes to Kansas?: A Special Event at the Institute Library
DESCRIPTION:A free\, open to the public talk about one of the most unlikely-sounding chapters in the history of The Institute Library: the chapter in which a group of members of this place (which was then known as The Young Mens’ Institute Library) decamped for Kansas to do their part to support the abolitionist movement in the developing American Midwest. \nA man named Baldwin deeded land in Wabaunsee\, Kansas\, to the Library. No\, really. And then a bunch of Library members went out to settle the land and… yeah. History happened. \nCome to the Library on Thursday\, April 9th and hear volunteers Frank Cochran and MT Taylor deliver a talk on their findings\, which are the result of astonishing research efforts on their part. Scouring archives here in New Haven and in Kansas\, Frank and MT made some astounding discoveries.
URL:https://institutelibrary.org/event/the-institute-library-goes-to-kansas-a-special-event-at-the-institute-library/
LOCATION:The Institute LIbrary\, 847 Chapel Street\, New Haven\, CT\, 06510
CATEGORIES:Literary Event
ATTACH;FMTTYPE=image/jpeg:https://institutelibrary.org/wp-content/uploads/2026/04/09683ca8-89b1-4b75-9c0c-a4623969adeb.jpeg
END:VEVENT
BEGIN:VEVENT
DTSTART;TZID=America/New_York:20260421T190000
DTEND;TZID=America/New_York:20260421T210000
DTSTAMP:20260425T073334
CREATED:20260319T021109Z
LAST-MODIFIED:20260319T021109Z
UID:5877-1776798000-1776805200@institutelibrary.org
SUMMARY:Listen Here! -- April 21
DESCRIPTION:Short stories read by members of the New Haven Theater Company\, with talkback afterwards led by Bennett Lovett-Graff. Tea and cookies available for those who need caloric sustenance and warmth; stories and dialogue takes care of warming heart and soul. This event is free and open to the public; donations to the Institute Library are\, however\, welcomed.
URL:https://institutelibrary.org/event/listen-here-april-21/
LOCATION:The Institute LIbrary\, 847 Chapel Street\, New Haven\, CT\, 06510
CATEGORIES:Literary Event
ATTACH;FMTTYPE=image/jpeg:https://institutelibrary.org/wp-content/uploads/2016/12/listen_here-poe-bubble.jpg
END:VEVENT
BEGIN:VEVENT
DTSTART;TZID=America/New_York:20260519T190000
DTEND;TZID=America/New_York:20260519T210000
DTSTAMP:20260425T073334
CREATED:20260319T021232Z
LAST-MODIFIED:20260319T021232Z
UID:5879-1779217200-1779224400@institutelibrary.org
SUMMARY:Listen Here! -- May 19\, 2026
DESCRIPTION:Short stories read by members of the New Haven Theater Company\, with talkback afterwards led by Bennett Lovett-Graff. Tea and cookies available for those who need caloric sustenance and warmth; stories and dialogue takes care of warming heart and soul. This event is free and open to the public; donations to the Institute Library are\, however\, welcomed.
URL:https://institutelibrary.org/event/listen-here-may-19-2026/
LOCATION:The Institute LIbrary\, 847 Chapel Street\, New Haven\, CT\, 06510
CATEGORIES:Literary Event
ATTACH;FMTTYPE=image/jpeg:https://institutelibrary.org/wp-content/uploads/2016/12/listen_here-poe-bubble.jpg
END:VEVENT
BEGIN:VEVENT
DTSTART;TZID=America/New_York:20260616T190000
DTEND;TZID=America/New_York:20260616T210000
DTSTAMP:20260425T073334
CREATED:20260319T021347Z
LAST-MODIFIED:20260319T021459Z
UID:5881-1781636400-1781643600@institutelibrary.org
SUMMARY:Listen Here! -- June 16\, 2026
DESCRIPTION:Short stories read by members of the New Haven Theater Company\, with talkback afterwards led by Bennett Lovett-Graff. Tea and cookies available for those who need caloric sustenance and warmth; stories and dialogue takes care of warming heart and soul. This event is free and open to the public; donations to the Institute Library are\, however\, welcomed.
URL:https://institutelibrary.org/event/clone-listen-here-june-16-2026/
LOCATION:The Institute LIbrary\, 847 Chapel Street\, New Haven\, CT\, 06510
CATEGORIES:Literary Event
ATTACH;FMTTYPE=image/jpeg:https://institutelibrary.org/wp-content/uploads/2016/12/listen_here-poe-bubble.jpg
END:VEVENT
END:VCALENDAR