BEGIN:VCALENDAR
VERSION:2.0
PRODID:-//The Institute Library - ECPv6.15.13//NONSGML v1.0//EN
CALSCALE:GREGORIAN
METHOD:PUBLISH
X-WR-CALNAME:The Institute Library
X-ORIGINAL-URL:https://institutelibrary.org
X-WR-CALDESC:Events for The Institute Library
REFRESH-INTERVAL;VALUE=DURATION:PT1H
X-Robots-Tag:noindex
X-PUBLISHED-TTL:PT1H
BEGIN:VTIMEZONE
TZID:America/New_York
BEGIN:DAYLIGHT
TZOFFSETFROM:-0500
TZOFFSETTO:-0400
TZNAME:EDT
DTSTART:20240310T070000
END:DAYLIGHT
BEGIN:STANDARD
TZOFFSETFROM:-0400
TZOFFSETTO:-0500
TZNAME:EST
DTSTART:20241103T060000
END:STANDARD
BEGIN:DAYLIGHT
TZOFFSETFROM:-0500
TZOFFSETTO:-0400
TZNAME:EDT
DTSTART:20250309T070000
END:DAYLIGHT
BEGIN:STANDARD
TZOFFSETFROM:-0400
TZOFFSETTO:-0500
TZNAME:EST
DTSTART:20251102T060000
END:STANDARD
BEGIN:DAYLIGHT
TZOFFSETFROM:-0500
TZOFFSETTO:-0400
TZNAME:EDT
DTSTART:20260308T070000
END:DAYLIGHT
BEGIN:STANDARD
TZOFFSETFROM:-0400
TZOFFSETTO:-0500
TZNAME:EST
DTSTART:20261101T060000
END:STANDARD
END:VTIMEZONE
BEGIN:VEVENT
DTSTART;TZID=America/New_York:20250320T173000
DTEND;TZID=America/New_York:20250320T193000
DTSTAMP:20260424T053819
CREATED:20250307T020721Z
LAST-MODIFIED:20250307T024603Z
UID:5429-1742491800-1742499000@institutelibrary.org
SUMMARY:This Ain’t No Book Club
DESCRIPTION:A free\, open to the public opportunity for readers who can’t seem to find time to just sit and read. It’s a book club minus the assigned reading\, minus the literary peacocking\, minus the interpersonal drama. Come sit in one of our chairs\, and focus on whatever book you choose — either Bring Your Own Book or pluck one off our shelves! This program is free and open to the public; we do want to remind people who’ve never been here before that the Institute Library can only be reached by walking up a flight of stairs\, and the Library is not ADA-compliant. Feel like you need a cup of tea? That can be arranged. Questions: Email the Operations Manager: Eva@InstituteLibrary.org
URL:https://institutelibrary.org/event/this-aint-no-book-club/
LOCATION:The Institute LIbrary\, 847 Chapel Street\, New Haven\, CT\, 06510
CATEGORIES:Literary Event
ATTACH;FMTTYPE=image/png:https://institutelibrary.org/wp-content/uploads/2025/03/This-Aint-No-Book-Club-.png
END:VEVENT
END:VCALENDAR