BEGIN:VCALENDAR
VERSION:2.0
PRODID:-//The Institute Library - ECPv6.15.13//NONSGML v1.0//EN
CALSCALE:GREGORIAN
METHOD:PUBLISH
X-WR-CALNAME:The Institute Library
X-ORIGINAL-URL:https://institutelibrary.org
X-WR-CALDESC:Events for The Institute Library
REFRESH-INTERVAL;VALUE=DURATION:PT1H
X-Robots-Tag:noindex
X-PUBLISHED-TTL:PT1H
BEGIN:VTIMEZONE
TZID:America/New_York
BEGIN:DAYLIGHT
TZOFFSETFROM:-0500
TZOFFSETTO:-0400
TZNAME:EDT
DTSTART:20240310T070000
END:DAYLIGHT
BEGIN:STANDARD
TZOFFSETFROM:-0400
TZOFFSETTO:-0500
TZNAME:EST
DTSTART:20241103T060000
END:STANDARD
BEGIN:DAYLIGHT
TZOFFSETFROM:-0500
TZOFFSETTO:-0400
TZNAME:EDT
DTSTART:20250309T070000
END:DAYLIGHT
BEGIN:STANDARD
TZOFFSETFROM:-0400
TZOFFSETTO:-0500
TZNAME:EST
DTSTART:20251102T060000
END:STANDARD
BEGIN:DAYLIGHT
TZOFFSETFROM:-0500
TZOFFSETTO:-0400
TZNAME:EDT
DTSTART:20260308T070000
END:DAYLIGHT
BEGIN:STANDARD
TZOFFSETFROM:-0400
TZOFFSETTO:-0500
TZNAME:EST
DTSTART:20261101T060000
END:STANDARD
END:VTIMEZONE
BEGIN:VEVENT
DTSTART;TZID=America/New_York:20250311T190000
DTEND;TZID=America/New_York:20250311T210000
DTSTAMP:20260424T024447
CREATED:20250114T011241Z
LAST-MODIFIED:20250114T011241Z
UID:5331-1741719600-1741726800@institutelibrary.org
SUMMARY:Listen Here: Short Stories Read Aloud
DESCRIPTION:Storytelling for grownups! Captivating short stories read aloud by actors from the New Haven Theater Company with a talk-back session to follow. Tea and cookies served.\nFree and open to the public!
URL:https://institutelibrary.org/event/listen-here-short-stories-read-aloud-4/
LOCATION:The Institute LIbrary\, 847 Chapel Street\, New Haven\, CT\, 06510
CATEGORIES:Literary Event
ATTACH;FMTTYPE=image/jpeg:https://institutelibrary.org/wp-content/uploads/2025/01/Author_Charles-Dickens.jpg
END:VEVENT
BEGIN:VEVENT
DTSTART;TZID=America/New_York:20250320T173000
DTEND;TZID=America/New_York:20250320T193000
DTSTAMP:20260424T024447
CREATED:20250307T020721Z
LAST-MODIFIED:20250307T024603Z
UID:5429-1742491800-1742499000@institutelibrary.org
SUMMARY:This Ain’t No Book Club
DESCRIPTION:A free\, open to the public opportunity for readers who can’t seem to find time to just sit and read. It’s a book club minus the assigned reading\, minus the literary peacocking\, minus the interpersonal drama. Come sit in one of our chairs\, and focus on whatever book you choose — either Bring Your Own Book or pluck one off our shelves! This program is free and open to the public; we do want to remind people who’ve never been here before that the Institute Library can only be reached by walking up a flight of stairs\, and the Library is not ADA-compliant. Feel like you need a cup of tea? That can be arranged. Questions: Email the Operations Manager: Eva@InstituteLibrary.org
URL:https://institutelibrary.org/event/this-aint-no-book-club/
LOCATION:The Institute LIbrary\, 847 Chapel Street\, New Haven\, CT\, 06510
CATEGORIES:Literary Event
ATTACH;FMTTYPE=image/png:https://institutelibrary.org/wp-content/uploads/2025/03/This-Aint-No-Book-Club-.png
END:VEVENT
BEGIN:VEVENT
DTSTART;TZID=America/New_York:20250329T130000
DTEND;TZID=America/New_York:20250329T150000
DTSTAMP:20260424T024447
CREATED:20250307T022338Z
LAST-MODIFIED:20250307T032247Z
UID:5442-1743253200-1743260400@institutelibrary.org
SUMMARY:The Charter Oak Pen Club Meets The Institute Library
DESCRIPTION:None of us can have as many virtues as the fountain-pen\, or half its cussedness; but we can try.”  — Mark Twain. \nJoin us on Saturday March 29th\, from 1 to 3 pm\, for a gathering of New England fountain pen lovers. Jonathan Weinberg\, artist and curator of the Maurice Sendak Foundation\, will lead a discussion and demonstration of the wonders of fountain pens for writing and drawing. Some of his fellow members of the Charter Oak Pen Club will talk about collecting vintage pens and the differences between old and new pens. If you share the fountain pen addiction\, you are welcome to bring some of your own favorites. For those new to the world of pen collecting\, there will be plenty of advice on how to get started and the opportunity to try out new and old pens. Everyone is welcome!
URL:https://institutelibrary.org/event/the-charter-oak-pen-club-meets-the-institute-library/
LOCATION:CT
CATEGORIES:Literary Event
ATTACH;FMTTYPE=image/jpeg:https://institutelibrary.org/wp-content/uploads/2025/03/Revised-Charter-Oak-Logo-02-26-25.jpg
END:VEVENT
END:VCALENDAR