BEGIN:VCALENDAR
VERSION:2.0
PRODID:-//The Institute Library - ECPv6.15.13//NONSGML v1.0//EN
CALSCALE:GREGORIAN
METHOD:PUBLISH
X-WR-CALNAME:The Institute Library
X-ORIGINAL-URL:https://institutelibrary.org
X-WR-CALDESC:Events for The Institute Library
REFRESH-INTERVAL;VALUE=DURATION:PT1H
X-Robots-Tag:noindex
X-PUBLISHED-TTL:PT1H
BEGIN:VTIMEZONE
TZID:America/New_York
BEGIN:DAYLIGHT
TZOFFSETFROM:-0500
TZOFFSETTO:-0400
TZNAME:EDT
DTSTART:20200308T070000
END:DAYLIGHT
BEGIN:STANDARD
TZOFFSETFROM:-0400
TZOFFSETTO:-0500
TZNAME:EST
DTSTART:20201101T060000
END:STANDARD
BEGIN:DAYLIGHT
TZOFFSETFROM:-0500
TZOFFSETTO:-0400
TZNAME:EDT
DTSTART:20210314T070000
END:DAYLIGHT
BEGIN:STANDARD
TZOFFSETFROM:-0400
TZOFFSETTO:-0500
TZNAME:EST
DTSTART:20211107T060000
END:STANDARD
BEGIN:DAYLIGHT
TZOFFSETFROM:-0500
TZOFFSETTO:-0400
TZNAME:EDT
DTSTART:20220313T070000
END:DAYLIGHT
BEGIN:STANDARD
TZOFFSETFROM:-0400
TZOFFSETTO:-0500
TZNAME:EST
DTSTART:20221106T060000
END:STANDARD
BEGIN:DAYLIGHT
TZOFFSETFROM:-0500
TZOFFSETTO:-0400
TZNAME:EDT
DTSTART:20230312T070000
END:DAYLIGHT
BEGIN:STANDARD
TZOFFSETFROM:-0400
TZOFFSETTO:-0500
TZNAME:EST
DTSTART:20231105T060000
END:STANDARD
END:VTIMEZONE
BEGIN:VEVENT
DTSTART;TZID=America/New_York:20220304T123000
DTEND;TZID=America/New_York:20220304T140000
DTSTAMP:20260424T091441
CREATED:20220325T011832Z
LAST-MODIFIED:20220502T042525Z
UID:3677-1646397000-1646402400@institutelibrary.org
SUMMARY:Friday Happy Hour Jazz
DESCRIPTION:FRIDAY HAPPY HOUR JAZZ — 5:30-7:00 Every Friday \nBYOB beverage and treat; join a congenial little group up on the third floor of the Institute Library to listen to recordings you forgot about or never knew about — and stick around a bit to discuss the music! In March\, Frank Cochran will not be available for the 18th or 25th’s programs\, so regulars are encouraged to be brave and do some programming in his stead. \nFriday Happy Hour Jazz is presented in concert with and support from Jazz Haven.  \nPlease consider making a $5 donation when you come to Friday Happy Hour Jazz. 
URL:https://institutelibrary.org/event/friday-happy-hour-jazz-4/
LOCATION:The Institute LIbrary\, 847 Chapel Street\, New Haven\, CT\, 06510
CATEGORIES:Jazz at the Institute Library
ATTACH;FMTTYPE=image/jpeg:https://institutelibrary.org/wp-content/uploads/2022/05/FridayJazzLogo2.jpg
END:VEVENT
BEGIN:VEVENT
DTSTART;TZID=America/New_York:20211217T123000
DTEND;TZID=America/New_York:20211217T140000
DTSTAMP:20260424T091441
CREATED:20211210T230334Z
LAST-MODIFIED:20211210T230334Z
UID:3629-1639744200-1639749600@institutelibrary.org
SUMMARY:Friday Happy Hour Jazz
DESCRIPTION:Listening to: Earl “Fatha” Hynes\, Ellis Larkins\, and Oscar Peterson \nBYOB beverage and treat; join a congenial little group up on the third floor of the Institute Library to listen to recordings you forgot about or never knew about — and stick around a bit to discuss the music! \nFriday Happy Hour Jazz is presented in concert with and support from Jazz Haven.  \nPlease consider making a $5 donation when you come to Friday Happy Hour Jazz. 
URL:https://institutelibrary.org/event/friday-happy-hour-jazz-2/
LOCATION:The Institute LIbrary\, 847 Chapel Street\, New Haven\, CT\, 06510
CATEGORIES:Jazz at the Institute Library
ATTACH;FMTTYPE=image/png:https://institutelibrary.org/wp-content/uploads/2021/09/FridayJazz-with-Seal-Logo.png
END:VEVENT
BEGIN:VEVENT
DTSTART;TZID=America/New_York:20211210T123000
DTEND;TZID=America/New_York:20211210T140000
DTSTAMP:20260424T091441
CREATED:20211210T230609Z
LAST-MODIFIED:20211210T230838Z
UID:3633-1639139400-1639144800@institutelibrary.org
SUMMARY:Friday Happy Hour Jazz
DESCRIPTION:Listening to: Eddie South\, Joe Venuti\, and Stuff Smith  \nBYOB beverage and treat; join a congenial little group up on the third floor of the Institute Library to listen to recordings you forgot about or never knew about — and stick around a bit to discuss the music! \nFriday Happy Hour Jazz is presented in concert with and support from Jazz Haven.  \nPlease consider making a $5 donation when you come to Friday Happy Hour Jazz. 
URL:https://institutelibrary.org/event/friday-happy-hour-jazz-3/
LOCATION:The Institute LIbrary\, 847 Chapel Street\, New Haven\, CT\, 06510
CATEGORIES:Jazz at the Institute Library
ATTACH;FMTTYPE=image/png:https://institutelibrary.org/wp-content/uploads/2021/09/FridayJazz-with-Seal-Logo.png
END:VEVENT
END:VCALENDAR