BEGIN:VCALENDAR
VERSION:2.0
PRODID:-//The Institute Library - ECPv6.15.13//NONSGML v1.0//EN
CALSCALE:GREGORIAN
METHOD:PUBLISH
X-ORIGINAL-URL:https://institutelibrary.org
X-WR-CALDESC:Events for The Institute Library
REFRESH-INTERVAL;VALUE=DURATION:PT1H
X-Robots-Tag:noindex
X-PUBLISHED-TTL:PT1H
BEGIN:VTIMEZONE
TZID:America/New_York
BEGIN:DAYLIGHT
TZOFFSETFROM:-0500
TZOFFSETTO:-0400
TZNAME:EDT
DTSTART:20200308T070000
END:DAYLIGHT
BEGIN:STANDARD
TZOFFSETFROM:-0400
TZOFFSETTO:-0500
TZNAME:EST
DTSTART:20201101T060000
END:STANDARD
BEGIN:DAYLIGHT
TZOFFSETFROM:-0500
TZOFFSETTO:-0400
TZNAME:EDT
DTSTART:20210314T070000
END:DAYLIGHT
BEGIN:STANDARD
TZOFFSETFROM:-0400
TZOFFSETTO:-0500
TZNAME:EST
DTSTART:20211107T060000
END:STANDARD
BEGIN:DAYLIGHT
TZOFFSETFROM:-0500
TZOFFSETTO:-0400
TZNAME:EDT
DTSTART:20220313T070000
END:DAYLIGHT
BEGIN:STANDARD
TZOFFSETFROM:-0400
TZOFFSETTO:-0500
TZNAME:EST
DTSTART:20221106T060000
END:STANDARD
BEGIN:DAYLIGHT
TZOFFSETFROM:-0500
TZOFFSETTO:-0400
TZNAME:EDT
DTSTART:20230312T070000
END:DAYLIGHT
BEGIN:STANDARD
TZOFFSETFROM:-0400
TZOFFSETTO:-0500
TZNAME:EST
DTSTART:20231105T060000
END:STANDARD
BEGIN:DAYLIGHT
TZOFFSETFROM:-0500
TZOFFSETTO:-0400
TZNAME:EDT
DTSTART:20240310T070000
END:DAYLIGHT
BEGIN:STANDARD
TZOFFSETFROM:-0400
TZOFFSETTO:-0500
TZNAME:EST
DTSTART:20241103T060000
END:STANDARD
END:VTIMEZONE
BEGIN:VEVENT
DTSTART;TZID=America/New_York:20221021T131500
DTEND;TZID=America/New_York:20231021T150000
DTSTAMP:20260424T060949
CREATED:20221012T183638Z
LAST-MODIFIED:20240724T235327Z
UID:4127-1666358100-1697900400@institutelibrary.org
SUMMARY:Happy Hour Jazz
DESCRIPTION:
URL:https://institutelibrary.org/event/happy-hour-jazz-2/
LOCATION:The Institute LIbrary\, 847 Chapel Street\, New Haven\, CT\, 06510
CATEGORIES:Jazz at the Institute Library
ATTACH;FMTTYPE=image/jpeg:https://institutelibrary.org/wp-content/uploads/2022/05/FridayJazzLogo2.jpg
END:VEVENT
BEGIN:VEVENT
DTSTART;TZID=America/New_York:20221021T131500
DTEND;TZID=America/New_York:20231021T150000
DTSTAMP:20260424T060949
CREATED:20221012T183638Z
LAST-MODIFIED:20240724T235327Z
UID:4127-1666358100-1697900400@institutelibrary.org
SUMMARY:Happy Hour Jazz
DESCRIPTION:
URL:https://institutelibrary.org/event/happy-hour-jazz-2/
LOCATION:The Institute LIbrary\, 847 Chapel Street\, New Haven\, CT\, 06510
CATEGORIES:Jazz at the Institute Library
ATTACH;FMTTYPE=image/jpeg:https://institutelibrary.org/wp-content/uploads/2022/05/FridayJazzLogo2.jpg
END:VEVENT
BEGIN:VEVENT
DTSTART;TZID=America/New_York:20221021T131500
DTEND;TZID=America/New_York:20231021T150000
DTSTAMP:20260424T060949
CREATED:20221012T183638Z
LAST-MODIFIED:20240724T235327Z
UID:4127-1666358100-1697900400@institutelibrary.org
SUMMARY:Happy Hour Jazz
DESCRIPTION:
URL:https://institutelibrary.org/event/happy-hour-jazz-2/
LOCATION:The Institute LIbrary\, 847 Chapel Street\, New Haven\, CT\, 06510
CATEGORIES:Jazz at the Institute Library
ATTACH;FMTTYPE=image/jpeg:https://institutelibrary.org/wp-content/uploads/2022/05/FridayJazzLogo2.jpg
END:VEVENT
BEGIN:VEVENT
DTSTART;TZID=America/New_York:20221021T131500
DTEND;TZID=America/New_York:20231021T150000
DTSTAMP:20260424T060949
CREATED:20221012T183638Z
LAST-MODIFIED:20240724T235327Z
UID:4127-1666358100-1697900400@institutelibrary.org
SUMMARY:Happy Hour Jazz
DESCRIPTION:
URL:https://institutelibrary.org/event/happy-hour-jazz-2/
LOCATION:The Institute LIbrary\, 847 Chapel Street\, New Haven\, CT\, 06510
CATEGORIES:Jazz at the Institute Library
ATTACH;FMTTYPE=image/jpeg:https://institutelibrary.org/wp-content/uploads/2022/05/FridayJazzLogo2.jpg
END:VEVENT
BEGIN:VEVENT
DTSTART;TZID=America/New_York:20221021T131500
DTEND;TZID=America/New_York:20231021T150000
DTSTAMP:20260424T060949
CREATED:20221012T183638Z
LAST-MODIFIED:20240724T235327Z
UID:4127-1666358100-1697900400@institutelibrary.org
SUMMARY:Happy Hour Jazz
DESCRIPTION:
URL:https://institutelibrary.org/event/happy-hour-jazz-2/
LOCATION:The Institute LIbrary\, 847 Chapel Street\, New Haven\, CT\, 06510
CATEGORIES:Jazz at the Institute Library
ATTACH;FMTTYPE=image/jpeg:https://institutelibrary.org/wp-content/uploads/2022/05/FridayJazzLogo2.jpg
END:VEVENT
BEGIN:VEVENT
DTSTART;TZID=America/New_York:20221202T120000
DTEND;TZID=America/New_York:20221202T130000
DTSTAMP:20260424T060949
CREATED:20221116T004202Z
LAST-MODIFIED:20221116T004202Z
UID:4169-1669982400-1669986000@institutelibrary.org
SUMMARY:Happy Hour Jazz
DESCRIPTION:
URL:https://institutelibrary.org/event/happy-hour-jazz-2-4/
LOCATION:The Institute LIbrary\, 847 Chapel Street\, New Haven\, CT\, 06510
CATEGORIES:Jazz at the Institute Library
ATTACH;FMTTYPE=image/jpeg:https://institutelibrary.org/wp-content/uploads/2022/05/FridayJazzLogo2.jpg
END:VEVENT
BEGIN:VEVENT
DTSTART;TZID=America/New_York:20221202T120000
DTEND;TZID=America/New_York:20221202T130000
DTSTAMP:20260424T060949
CREATED:20221116T003526Z
LAST-MODIFIED:20221116T003527Z
UID:4166-1669982400-1669986000@institutelibrary.org
SUMMARY:Happy Hour Jazz
DESCRIPTION:
URL:https://institutelibrary.org/event/happy-hour-jazz-2-3/
LOCATION:The Institute LIbrary\, 847 Chapel Street\, New Haven\, CT\, 06510
CATEGORIES:Jazz at the Institute Library
ATTACH;FMTTYPE=image/jpeg:https://institutelibrary.org/wp-content/uploads/2022/05/FridayJazzLogo2.jpg
END:VEVENT
BEGIN:VEVENT
DTSTART;TZID=America/New_York:20221021T131500
DTEND;TZID=America/New_York:20231021T150000
DTSTAMP:20260424T060949
CREATED:20221012T183638Z
LAST-MODIFIED:20240724T235327Z
UID:4127-1666358100-1697900400@institutelibrary.org
SUMMARY:Happy Hour Jazz
DESCRIPTION:
URL:https://institutelibrary.org/event/happy-hour-jazz-2/
LOCATION:The Institute LIbrary\, 847 Chapel Street\, New Haven\, CT\, 06510
CATEGORIES:Jazz at the Institute Library
ATTACH;FMTTYPE=image/jpeg:https://institutelibrary.org/wp-content/uploads/2022/05/FridayJazzLogo2.jpg
END:VEVENT
BEGIN:VEVENT
DTSTART;TZID=America/New_York:20221021T131500
DTEND;TZID=America/New_York:20231021T150000
DTSTAMP:20260424T060949
CREATED:20221012T183638Z
LAST-MODIFIED:20240724T235327Z
UID:4127-1666358100-1697900400@institutelibrary.org
SUMMARY:Happy Hour Jazz
DESCRIPTION:
URL:https://institutelibrary.org/event/happy-hour-jazz-2/
LOCATION:The Institute LIbrary\, 847 Chapel Street\, New Haven\, CT\, 06510
CATEGORIES:Jazz at the Institute Library
ATTACH;FMTTYPE=image/jpeg:https://institutelibrary.org/wp-content/uploads/2022/05/FridayJazzLogo2.jpg
END:VEVENT
BEGIN:VEVENT
DTSTART;TZID=America/New_York:20221021T131500
DTEND;TZID=America/New_York:20231021T150000
DTSTAMP:20260424T060949
CREATED:20221012T183638Z
LAST-MODIFIED:20240724T235327Z
UID:4127-1666358100-1697900400@institutelibrary.org
SUMMARY:Happy Hour Jazz
DESCRIPTION:
URL:https://institutelibrary.org/event/happy-hour-jazz-2/
LOCATION:The Institute LIbrary\, 847 Chapel Street\, New Haven\, CT\, 06510
CATEGORIES:Jazz at the Institute Library
ATTACH;FMTTYPE=image/jpeg:https://institutelibrary.org/wp-content/uploads/2022/05/FridayJazzLogo2.jpg
END:VEVENT
BEGIN:VEVENT
DTSTART;TZID=America/New_York:20221021T131500
DTEND;TZID=America/New_York:20231021T150000
DTSTAMP:20260424T060949
CREATED:20221012T183638Z
LAST-MODIFIED:20240724T235327Z
UID:4127-1666358100-1697900400@institutelibrary.org
SUMMARY:Happy Hour Jazz
DESCRIPTION:
URL:https://institutelibrary.org/event/happy-hour-jazz-2/
LOCATION:The Institute LIbrary\, 847 Chapel Street\, New Haven\, CT\, 06510
CATEGORIES:Jazz at the Institute Library
ATTACH;FMTTYPE=image/jpeg:https://institutelibrary.org/wp-content/uploads/2022/05/FridayJazzLogo2.jpg
END:VEVENT
BEGIN:VEVENT
DTSTART;TZID=America/New_York:20221021T131500
DTEND;TZID=America/New_York:20231021T150000
DTSTAMP:20260424T060949
CREATED:20221012T183638Z
LAST-MODIFIED:20240724T235327Z
UID:4127-1666358100-1697900400@institutelibrary.org
SUMMARY:Happy Hour Jazz
DESCRIPTION:
URL:https://institutelibrary.org/event/happy-hour-jazz-2/
LOCATION:The Institute LIbrary\, 847 Chapel Street\, New Haven\, CT\, 06510
CATEGORIES:Jazz at the Institute Library
ATTACH;FMTTYPE=image/jpeg:https://institutelibrary.org/wp-content/uploads/2022/05/FridayJazzLogo2.jpg
END:VEVENT
BEGIN:VEVENT
DTSTART;TZID=America/New_York:20221021T131500
DTEND;TZID=America/New_York:20231021T150000
DTSTAMP:20260424T060949
CREATED:20221012T183638Z
LAST-MODIFIED:20240724T235327Z
UID:4127-1666358100-1697900400@institutelibrary.org
SUMMARY:Happy Hour Jazz
DESCRIPTION:
URL:https://institutelibrary.org/event/happy-hour-jazz-2/
LOCATION:The Institute LIbrary\, 847 Chapel Street\, New Haven\, CT\, 06510
CATEGORIES:Jazz at the Institute Library
ATTACH;FMTTYPE=image/jpeg:https://institutelibrary.org/wp-content/uploads/2022/05/FridayJazzLogo2.jpg
END:VEVENT
BEGIN:VEVENT
DTSTART;TZID=America/New_York:20221014T133000
DTEND;TZID=America/New_York:20221014T150000
DTSTAMP:20260424T060949
CREATED:20221013T052636Z
LAST-MODIFIED:20221013T052815Z
UID:4133-1665754200-1665759600@institutelibrary.org
SUMMARY:Happy Hour Jazz
DESCRIPTION:
URL:https://institutelibrary.org/event/happy-hour-jazz-2-2/
LOCATION:The Institute LIbrary\, 847 Chapel Street\, New Haven\, CT\, 06510
CATEGORIES:Jazz at the Institute Library
ATTACH;FMTTYPE=image/jpeg:https://institutelibrary.org/wp-content/uploads/2022/05/FridayJazzLogo2.jpg
END:VEVENT
BEGIN:VEVENT
DTSTART;TZID=America/New_York:20220527T133000
DTEND;TZID=America/New_York:20220527T150000
DTSTAMP:20260424T060949
CREATED:20220503T055221Z
LAST-MODIFIED:20220503T055347Z
UID:3779-1653658200-1653663600@institutelibrary.org
SUMMARY:Friday Happy Hour Jazz: Memorial Day Weekend: No Jazz. (Take Five.)
DESCRIPTION:FRIDAY HAPPY HOUR JAZZ — 5:30-7:00 Every Friday \nListening to Memorial Day Weekend: No Jazz.(Take Five.) \n 
URL:https://institutelibrary.org/event/friday-happy-hour-jazz-memorial-day-weekend-no-jazz-take-five/
LOCATION:The Institute LIbrary\, 847 Chapel Street\, New Haven\, CT\, 06510
CATEGORIES:Jazz at the Institute Library
ATTACH;FMTTYPE=image/jpeg:https://institutelibrary.org/wp-content/uploads/2022/05/FridayJazzLogo2.jpg
END:VEVENT
BEGIN:VEVENT
DTSTART;TZID=America/New_York:20220520T133000
DTEND;TZID=America/New_York:20220520T150000
DTSTAMP:20260424T060949
CREATED:20220503T055048Z
LAST-MODIFIED:20220503T055048Z
UID:3777-1653053400-1653058800@institutelibrary.org
SUMMARY:Friday Happy Hour Jazz: George Russell compositions; Bill Evans\, soloist
DESCRIPTION:FRIDAY HAPPY HOUR JAZZ — 5:30-7:00 Every Friday \nListening to George Russell compositions; Bill Evans\, soloist \nBYOB beverage and treat; join a congenial little group up on the third floor of the Institute Library to listen to recordings you forgot about or never knew about — and stick around a bit to discuss the music! \nFriday Happy Hour Jazz is presented in concert with and support from Jazz Haven.  \nPlease consider making a $5 donation when you come to Friday Happy Hour Jazz. 
URL:https://institutelibrary.org/event/friday-happy-hour-jazz-george-russell-compositions-bill-evans-soloist/
LOCATION:The Institute LIbrary\, 847 Chapel Street\, New Haven\, CT\, 06510
CATEGORIES:Jazz at the Institute Library
ATTACH;FMTTYPE=image/jpeg:https://institutelibrary.org/wp-content/uploads/2022/05/FridayJazzLogo2.jpg
END:VEVENT
BEGIN:VEVENT
DTSTART;TZID=America/New_York:20220513T133000
DTEND;TZID=America/New_York:20220513T150000
DTSTAMP:20260424T060949
CREATED:20220503T055005Z
LAST-MODIFIED:20220503T055005Z
UID:3775-1652448600-1652454000@institutelibrary.org
SUMMARY:Friday Happy Hour Jazz: Modern European Bands
DESCRIPTION:FRIDAY HAPPY HOUR JAZZ — 5:30-7:00 Every Friday \nListening to Modern European Bands \nBYOB beverage and treat; join a congenial little group up on the third floor of the Institute Library to listen to recordings you forgot about or never knew about — and stick around a bit to discuss the music! \nFriday Happy Hour Jazz is presented in concert with and support from Jazz Haven.  \nPlease consider making a $5 donation when you come to Friday Happy Hour Jazz. 
URL:https://institutelibrary.org/event/friday-happy-hour-jazz-modern-european-bands/
LOCATION:The Institute LIbrary\, 847 Chapel Street\, New Haven\, CT\, 06510
CATEGORIES:Jazz at the Institute Library
ATTACH;FMTTYPE=image/jpeg:https://institutelibrary.org/wp-content/uploads/2022/05/FridayJazzLogo2.jpg
END:VEVENT
BEGIN:VEVENT
DTSTART;TZID=America/New_York:20220506T133000
DTEND;TZID=America/New_York:20220506T150000
DTSTAMP:20260424T060949
CREATED:20220503T054900Z
LAST-MODIFIED:20220503T054914Z
UID:3772-1651843800-1651849200@institutelibrary.org
SUMMARY:Friday Happy Hour Jazz: Kenny Dorham and Lee Morgan
DESCRIPTION:FRIDAY HAPPY HOUR JAZZ — 5:30-7:00 Every Friday \nListening to Kenny Dorham and Lee Morgan \nBYOB beverage and treat; join a congenial little group up on the third floor of the Institute Library to listen to recordings you forgot about or never knew about — and stick around a bit to discuss the music! \nFriday Happy Hour Jazz is presented in concert with and support from Jazz Haven.  \nPlease consider making a $5 donation when you come to Friday Happy Hour Jazz. 
URL:https://institutelibrary.org/event/friday-happy-hour-jazz-kenny-dorham-and-lee-morgan/
LOCATION:The Institute LIbrary\, 847 Chapel Street\, New Haven\, CT\, 06510
CATEGORIES:Jazz at the Institute Library
ATTACH;FMTTYPE=image/jpeg:https://institutelibrary.org/wp-content/uploads/2022/05/FridayJazzLogo2.jpg
END:VEVENT
BEGIN:VEVENT
DTSTART;TZID=America/New_York:20220429T133000
DTEND;TZID=America/New_York:20220429T150000
DTSTAMP:20260424T060949
CREATED:20220410T170556Z
LAST-MODIFIED:20220502T042345Z
UID:3719-1651239000-1651244400@institutelibrary.org
SUMMARY:Friday Happy Hour Jazz: Tentative plan -- Mal Waldron
DESCRIPTION:FRIDAY HAPPY HOUR JAZZ — 5:30-7:00 Every Friday \nListening to Tentative plan — Mal Waldron \nBYOB beverage and treat; join a congenial little group up on the third floor of the Institute Library to listen to recordings you forgot about or never knew about — and stick around a bit to discuss the music! \nFriday Happy Hour Jazz is presented in concert with and support from Jazz Haven.  \nPlease consider making a $5 donation when you come to Friday Happy Hour Jazz. 
URL:https://institutelibrary.org/event/friday-happy-hour-jazz-tentative-plan-mal-waldron/
LOCATION:The Institute LIbrary\, 847 Chapel Street\, New Haven\, CT\, 06510
CATEGORIES:Jazz at the Institute Library
ATTACH;FMTTYPE=image/jpeg:https://institutelibrary.org/wp-content/uploads/2022/05/FridayJazzLogo2.jpg
END:VEVENT
BEGIN:VEVENT
DTSTART;TZID=America/New_York:20220422T133000
DTEND;TZID=America/New_York:20220422T150000
DTSTAMP:20260424T060949
CREATED:20220410T170515Z
LAST-MODIFIED:20220502T042418Z
UID:3717-1650634200-1650639600@institutelibrary.org
SUMMARY:Friday Happy Hour Jazz: Modern Jazz Quartet
DESCRIPTION:FRIDAY HAPPY HOUR JAZZ — 5:30-7:00 Every Friday \nListening to Modern Jazz Quartet  \nBYOB beverage and treat; join a congenial little group up on the third floor of the Institute Library to listen to recordings you forgot about or never knew about — and stick around a bit to discuss the music! \nFriday Happy Hour Jazz is presented in concert with and support from Jazz Haven.  \nPlease consider making a $5 donation when you come to Friday Happy Hour Jazz. 
URL:https://institutelibrary.org/event/friday-happy-hour-jazz-modern-jazz-quartet/
LOCATION:The Institute LIbrary\, 847 Chapel Street\, New Haven\, CT\, 06510
CATEGORIES:Jazz at the Institute Library
ATTACH;FMTTYPE=image/jpeg:https://institutelibrary.org/wp-content/uploads/2022/05/FridayJazzLogo2.jpg
END:VEVENT
BEGIN:VEVENT
DTSTART;TZID=America/New_York:20220415T133000
DTEND;TZID=America/New_York:20220415T150000
DTSTAMP:20260424T060949
CREATED:20220410T170427Z
LAST-MODIFIED:20220502T042444Z
UID:3715-1650029400-1650034800@institutelibrary.org
SUMMARY:Friday Happy Hour Jazz: Helen Hines & Ethel Ennius
DESCRIPTION:FRIDAY HAPPY HOUR JAZZ — 5:30-7:00 Every Friday \nListening to Helen Hines & Ethel Ennius \nBYOB beverage and treat; join a congenial little group up on the third floor of the Institute Library to listen to recordings you forgot about or never knew about — and stick around a bit to discuss the music! \nFriday Happy Hour Jazz is presented in concert with and support from Jazz Haven.  \nPlease consider making a $5 donation when you come to Friday Happy Hour Jazz. 
URL:https://institutelibrary.org/event/friday-happy-hour-jazz-helen-hines-ethel-ennius/
LOCATION:The Institute LIbrary\, 847 Chapel Street\, New Haven\, CT\, 06510
CATEGORIES:Jazz at the Institute Library
ATTACH;FMTTYPE=image/jpeg:https://institutelibrary.org/wp-content/uploads/2022/05/FridayJazzLogo2.jpg
END:VEVENT
BEGIN:VEVENT
DTSTART;TZID=America/New_York:20220325T133000
DTEND;TZID=America/New_York:20220325T150000
DTSTAMP:20260424T060949
CREATED:20220325T012307Z
LAST-MODIFIED:20220502T042157Z
UID:3686-1648215000-1648220400@institutelibrary.org
SUMMARY:Friday Happy Hour Jazz
DESCRIPTION:FRIDAY HAPPY HOUR JAZZ — 5:30-7:00 Every Friday \nBYOB beverage and treat; join a congenial little group up on the third floor of the Institute Library to listen to recordings you forgot about or never knew about — and stick around a bit to discuss the music! In March\, Frank Cochran will not be available for the 18th or 25th’s programs\, so regulars are encouraged to be brave and do some programming in his stead. \nFriday Happy Hour Jazz is presented in concert with and support from Jazz Haven.  \nPlease consider making a $5 donation when you come to Friday Happy Hour Jazz. 
URL:https://institutelibrary.org/event/friday-happy-hour-jazz-5/
LOCATION:The Institute LIbrary\, 847 Chapel Street\, New Haven\, CT\, 06510
CATEGORIES:Jazz at the Institute Library
ATTACH;FMTTYPE=image/jpeg:https://institutelibrary.org/wp-content/uploads/2022/05/FridayJazzLogo2.jpg
END:VEVENT
BEGIN:VEVENT
DTSTART;TZID=America/New_York:20220318T133000
DTEND;TZID=America/New_York:20220318T150000
DTSTAMP:20260424T060949
CREATED:20220325T012158Z
LAST-MODIFIED:20220502T042127Z
UID:3683-1647610200-1647615600@institutelibrary.org
SUMMARY:Friday Happy Hour Jazz
DESCRIPTION:FRIDAY HAPPY HOUR JAZZ — 5:30-7:00 Every Friday \nBYOB beverage and treat; join a congenial little group up on the third floor of the Institute Library to listen to recordings you forgot about or never knew about — and stick around a bit to discuss the music! In March\, Frank Cochran will not be available for the 18th or 25th’s programs\, so regulars are encouraged to be brave and do some programming in his stead. \nFriday Happy Hour Jazz is presented in concert with and support from Jazz Haven.  \nPlease consider making a $5 donation when you come to Friday Happy Hour Jazz. 
URL:https://institutelibrary.org/event/clone-friday-happy-hour-jazz-copy/
LOCATION:The Institute LIbrary\, 847 Chapel Street\, New Haven\, CT\, 06510
CATEGORIES:Jazz at the Institute Library
ATTACH;FMTTYPE=image/jpeg:https://institutelibrary.org/wp-content/uploads/2022/05/FridayJazzLogo2.jpg
END:VEVENT
BEGIN:VEVENT
DTSTART;TZID=America/New_York:20220311T123000
DTEND;TZID=America/New_York:20220311T140000
DTSTAMP:20260424T060949
CREATED:20220325T012039Z
LAST-MODIFIED:20220502T042046Z
UID:3681-1647001800-1647007200@institutelibrary.org
SUMMARY:Friday Happy Hour Jazz -Mary Lou Williams and other spiritually-oriented musicians
DESCRIPTION:FRIDAY HAPPY HOUR JAZZ — 5:30-7:00 Every Friday\nMary Lou Williams and other spiritually-oriented musicians \nBYOB beverage and treat; join a congenial little group up on the third floor of the Institute Library to listen to recordings you forgot about or never knew about — and stick around a bit to discuss the music! In March\, Frank Cochran will not be available for the 18th or 25th’s programs\, so regulars are encouraged to be brave and do some programming in his stead. \nFriday Happy Hour Jazz is presented in concert with and support from Jazz Haven.  \nPlease consider making a $5 donation when you come to Friday Happy Hour Jazz. 
URL:https://institutelibrary.org/event/friday-happy-hour-jazz-mary-lou-williams-and-other-spiritually-oriented-musicians/
LOCATION:The Institute LIbrary\, 847 Chapel Street\, New Haven\, CT\, 06510
CATEGORIES:Jazz at the Institute Library
ATTACH;FMTTYPE=image/jpeg:https://institutelibrary.org/wp-content/uploads/2022/05/FridayJazzLogo2.jpg
END:VEVENT
BEGIN:VEVENT
DTSTART;TZID=America/New_York:20220304T123000
DTEND;TZID=America/New_York:20220304T140000
DTSTAMP:20260424T060949
CREATED:20220325T011832Z
LAST-MODIFIED:20220502T042525Z
UID:3677-1646397000-1646402400@institutelibrary.org
SUMMARY:Friday Happy Hour Jazz
DESCRIPTION:FRIDAY HAPPY HOUR JAZZ — 5:30-7:00 Every Friday \nBYOB beverage and treat; join a congenial little group up on the third floor of the Institute Library to listen to recordings you forgot about or never knew about — and stick around a bit to discuss the music! In March\, Frank Cochran will not be available for the 18th or 25th’s programs\, so regulars are encouraged to be brave and do some programming in his stead. \nFriday Happy Hour Jazz is presented in concert with and support from Jazz Haven.  \nPlease consider making a $5 donation when you come to Friday Happy Hour Jazz. 
URL:https://institutelibrary.org/event/friday-happy-hour-jazz-4/
LOCATION:The Institute LIbrary\, 847 Chapel Street\, New Haven\, CT\, 06510
CATEGORIES:Jazz at the Institute Library
ATTACH;FMTTYPE=image/jpeg:https://institutelibrary.org/wp-content/uploads/2022/05/FridayJazzLogo2.jpg
END:VEVENT
BEGIN:VEVENT
DTSTART;TZID=America/New_York:20211217T123000
DTEND;TZID=America/New_York:20211217T140000
DTSTAMP:20260424T060949
CREATED:20211210T230334Z
LAST-MODIFIED:20211210T230334Z
UID:3629-1639744200-1639749600@institutelibrary.org
SUMMARY:Friday Happy Hour Jazz
DESCRIPTION:Listening to: Earl “Fatha” Hynes\, Ellis Larkins\, and Oscar Peterson \nBYOB beverage and treat; join a congenial little group up on the third floor of the Institute Library to listen to recordings you forgot about or never knew about — and stick around a bit to discuss the music! \nFriday Happy Hour Jazz is presented in concert with and support from Jazz Haven.  \nPlease consider making a $5 donation when you come to Friday Happy Hour Jazz. 
URL:https://institutelibrary.org/event/friday-happy-hour-jazz-2/
LOCATION:The Institute LIbrary\, 847 Chapel Street\, New Haven\, CT\, 06510
CATEGORIES:Jazz at the Institute Library
ATTACH;FMTTYPE=image/png:https://institutelibrary.org/wp-content/uploads/2021/09/FridayJazz-with-Seal-Logo.png
END:VEVENT
BEGIN:VEVENT
DTSTART;TZID=America/New_York:20211210T123000
DTEND;TZID=America/New_York:20211210T140000
DTSTAMP:20260424T060949
CREATED:20211210T230609Z
LAST-MODIFIED:20211210T230838Z
UID:3633-1639139400-1639144800@institutelibrary.org
SUMMARY:Friday Happy Hour Jazz
DESCRIPTION:Listening to: Eddie South\, Joe Venuti\, and Stuff Smith  \nBYOB beverage and treat; join a congenial little group up on the third floor of the Institute Library to listen to recordings you forgot about or never knew about — and stick around a bit to discuss the music! \nFriday Happy Hour Jazz is presented in concert with and support from Jazz Haven.  \nPlease consider making a $5 donation when you come to Friday Happy Hour Jazz. 
URL:https://institutelibrary.org/event/friday-happy-hour-jazz-3/
LOCATION:The Institute LIbrary\, 847 Chapel Street\, New Haven\, CT\, 06510
CATEGORIES:Jazz at the Institute Library
ATTACH;FMTTYPE=image/png:https://institutelibrary.org/wp-content/uploads/2021/09/FridayJazz-with-Seal-Logo.png
END:VEVENT
END:VCALENDAR