BEGIN:VCALENDAR
VERSION:2.0
PRODID:-//The Institute Library - ECPv6.15.13//NONSGML v1.0//EN
CALSCALE:GREGORIAN
METHOD:PUBLISH
X-ORIGINAL-URL:https://institutelibrary.org
X-WR-CALDESC:Events for The Institute Library
REFRESH-INTERVAL;VALUE=DURATION:PT1H
X-Robots-Tag:noindex
X-PUBLISHED-TTL:PT1H
BEGIN:VTIMEZONE
TZID:America/New_York
BEGIN:DAYLIGHT
TZOFFSETFROM:-0500
TZOFFSETTO:-0400
TZNAME:EDT
DTSTART:20230312T070000
END:DAYLIGHT
BEGIN:STANDARD
TZOFFSETFROM:-0400
TZOFFSETTO:-0500
TZNAME:EST
DTSTART:20231105T060000
END:STANDARD
BEGIN:DAYLIGHT
TZOFFSETFROM:-0500
TZOFFSETTO:-0400
TZNAME:EDT
DTSTART:20240310T070000
END:DAYLIGHT
BEGIN:STANDARD
TZOFFSETFROM:-0400
TZOFFSETTO:-0500
TZNAME:EST
DTSTART:20241103T060000
END:STANDARD
BEGIN:DAYLIGHT
TZOFFSETFROM:-0500
TZOFFSETTO:-0400
TZNAME:EDT
DTSTART:20250309T070000
END:DAYLIGHT
BEGIN:STANDARD
TZOFFSETFROM:-0400
TZOFFSETTO:-0500
TZNAME:EST
DTSTART:20251102T060000
END:STANDARD
BEGIN:DAYLIGHT
TZOFFSETFROM:-0500
TZOFFSETTO:-0400
TZNAME:EDT
DTSTART:20260308T070000
END:DAYLIGHT
BEGIN:STANDARD
TZOFFSETFROM:-0400
TZOFFSETTO:-0500
TZNAME:EST
DTSTART:20261101T060000
END:STANDARD
END:VTIMEZONE
BEGIN:VEVENT
DTSTART;VALUE=DATE:20250131
DTEND;VALUE=DATE:20250201
DTSTAMP:20260423T153500
CREATED:20250131T035614Z
LAST-MODIFIED:20250131T041756Z
UID:5371-1738281600-1738367999@institutelibrary.org
SUMMARY:David Lynch Homage presented by Little Acorn Productions
DESCRIPTION:Six movies\, six screen times. Please go to LITTLE ACORN PRODUCTIONS  for details.  \nAmerican filmmaker David Lynch: a unique filmmaker\, the likes of which we aren’t real likely to see again. Little Acorn Productions brings us a series of films spanning Lynch’s career\, featuring stone cold classics and sometimes-overlooked gems. Admission to each screening is $5.00; proceeds go to benefit the California Fire Fighters Foundation (to support fire fighters in the Los Angeles firefighting effort and honor Lynch’s deep connection to Hollywood) and the Institute Library. Movies to be screened: Eraserhead; Dune; The Elephant Man; Blue Velvet; The Straight Story; Twin Peaks: Fire Walk with Me. Please refer to Little Acorn Productions website for screen times and ticket purchasing.  \nBUY TICKETS
URL:https://institutelibrary.org/event/little-acorn-productions-presents-homage-to-david-lynch/
LOCATION:The Institute LIbrary\, 847 Chapel Street\, New Haven\, CT\, 06510
CATEGORIES:Film
ATTACH;FMTTYPE=image/png:https://institutelibrary.org/wp-content/uploads/2025/01/Screen-Shot-2025-01-30-at-12.03.07-PM.png
END:VEVENT
BEGIN:VEVENT
DTSTART;VALUE=DATE:20250131
DTEND;VALUE=DATE:20250201
DTSTAMP:20260423T153500
CREATED:20250131T035614Z
LAST-MODIFIED:20250131T041756Z
UID:5371-1738281600-1738367999@institutelibrary.org
SUMMARY:David Lynch Homage presented by Little Acorn Productions
DESCRIPTION:Six movies\, six screen times. Please go to LITTLE ACORN PRODUCTIONS  for details.  \nAmerican filmmaker David Lynch: a unique filmmaker\, the likes of which we aren’t real likely to see again. Little Acorn Productions brings us a series of films spanning Lynch’s career\, featuring stone cold classics and sometimes-overlooked gems. Admission to each screening is $5.00; proceeds go to benefit the California Fire Fighters Foundation (to support fire fighters in the Los Angeles firefighting effort and honor Lynch’s deep connection to Hollywood) and the Institute Library. Movies to be screened: Eraserhead; Dune; The Elephant Man; Blue Velvet; The Straight Story; Twin Peaks: Fire Walk with Me. Please refer to Little Acorn Productions website for screen times and ticket purchasing.  \nBUY TICKETS
URL:https://institutelibrary.org/event/little-acorn-productions-presents-homage-to-david-lynch/
LOCATION:The Institute LIbrary\, 847 Chapel Street\, New Haven\, CT\, 06510
CATEGORIES:Film
ATTACH;FMTTYPE=image/png:https://institutelibrary.org/wp-content/uploads/2025/01/Screen-Shot-2025-01-30-at-12.03.07-PM.png
END:VEVENT
BEGIN:VEVENT
DTSTART;VALUE=DATE:20250131
DTEND;VALUE=DATE:20250201
DTSTAMP:20260423T153500
CREATED:20250131T035614Z
LAST-MODIFIED:20250131T041756Z
UID:5371-1738281600-1738367999@institutelibrary.org
SUMMARY:David Lynch Homage presented by Little Acorn Productions
DESCRIPTION:Six movies\, six screen times. Please go to LITTLE ACORN PRODUCTIONS  for details.  \nAmerican filmmaker David Lynch: a unique filmmaker\, the likes of which we aren’t real likely to see again. Little Acorn Productions brings us a series of films spanning Lynch’s career\, featuring stone cold classics and sometimes-overlooked gems. Admission to each screening is $5.00; proceeds go to benefit the California Fire Fighters Foundation (to support fire fighters in the Los Angeles firefighting effort and honor Lynch’s deep connection to Hollywood) and the Institute Library. Movies to be screened: Eraserhead; Dune; The Elephant Man; Blue Velvet; The Straight Story; Twin Peaks: Fire Walk with Me. Please refer to Little Acorn Productions website for screen times and ticket purchasing.  \nBUY TICKETS
URL:https://institutelibrary.org/event/little-acorn-productions-presents-homage-to-david-lynch/
LOCATION:The Institute LIbrary\, 847 Chapel Street\, New Haven\, CT\, 06510
CATEGORIES:Film
ATTACH;FMTTYPE=image/png:https://institutelibrary.org/wp-content/uploads/2025/01/Screen-Shot-2025-01-30-at-12.03.07-PM.png
END:VEVENT
BEGIN:VEVENT
DTSTART;TZID=America/New_York:20241031T183000
DTEND;TZID=America/New_York:20241031T203000
DTSTAMP:20260423T153500
CREATED:20241017T030347Z
LAST-MODIFIED:20241016T231424Z
UID:5265-1730399400-1730406600@institutelibrary.org
SUMMARY:Achtung\, October: A Girl Walks Home Alone at Night\, directed by Ana Lily Amirpour
DESCRIPTION:Already regarded as a contemporary classic\, this tense indie film\, shot in California\, is an Iranian Vampire Western\, which sounds good for a Hallowe’en movie. Starring Sheila Vand as The Girl\, this movie’s fan base grows every year since its 2014 release. Run time: 101 minutes. \nThis film series is free and open to the public\, but we strongly encourage attendees to make a $10 donation to cover costs associated with holding these screenings. Donations can be made in cash night of the event\, or online at Movie Series at the Institute Library \nTIME:\nDoors at 6:30\nMovie at 7:00 \n 
URL:https://institutelibrary.org/event/achtung-october-a-girl-walks-home-alone-at-night-directed-by-ana-lily-amirpour/
LOCATION:The Institute LIbrary\, 847 Chapel Street\, New Haven\, CT\, 06510
CATEGORIES:Film
ATTACH;FMTTYPE=image/jpeg:https://institutelibrary.org/wp-content/uploads/2024/10/Girl-Walks-Home-Alone-at-Night-.jpeg
END:VEVENT
BEGIN:VEVENT
DTSTART;TZID=America/New_York:20241024T183000
DTEND;TZID=America/New_York:20241024T203000
DTSTAMP:20260423T153500
CREATED:20241017T030110Z
LAST-MODIFIED:20241016T231517Z
UID:5263-1729794600-1729801800@institutelibrary.org
SUMMARY:Achtung\, October: Fritz Lang’s M\, starring Peter Lorre
DESCRIPTION:A classic of German expressionism\, M is often cited as one of the most blood-chilling movies ever made. Peter Lorre stars as someone who you wouldn’t hire to babysit your children. Released in 1931\, M  is a stone-cold classic\, a movie worth reading up on before seeing: a cinematic landmark. Run time: 111 minutes. NR. Subtitled. \nThis film series is free and open to the public\, but we strongly encourage attendees to make a $10 donation to cover costs associated with holding these screenings. Donations can be made in cash night of the event\, or online at Movie Series at the Institute Library \nDoors at 6:30\nMovie at 7:00
URL:https://institutelibrary.org/event/achtung-october-fritz-langs-m-starring-peter-lorre/
LOCATION:The Institute LIbrary\, 847 Chapel Street\, New Haven\, CT\, 06510
CATEGORIES:Film
ATTACH;FMTTYPE=image/jpeg:https://institutelibrary.org/wp-content/uploads/2024/10/Fritz-Lang-M-.jpg
END:VEVENT
BEGIN:VEVENT
DTSTART;TZID=America/New_York:20240926T143000
DTEND;TZID=America/New_York:20240926T170000
DTSTAMP:20260423T153500
CREATED:20240807T030014Z
LAST-MODIFIED:20240821T185240Z
UID:5144-1727361000-1727370000@institutelibrary.org
SUMMARY:Bonsoir\, Mes Amis: A Screening of Breathless
DESCRIPTION:Doors open at 6:30  | Movie starts 7:00\nThe stars are aligning and we will be screening another series of three films: this time\, French flicks are the name of the game. The first movie\, Beauty and the Beast\, will be screened on Thursday August 29th — the second two movies will have their moments in the dark on September 8th and 26th. The movie screenings have proven sufficiently popular we’ve decided to ask for RSVPs to ensure seating space for all who come.\n\n\n$10 Suggested Donation hugely appreciated merci beaucoup à nos amies!\n \nPlease RSVP : Breathless \nOnline donation link here TAILORED SPECIFICALLY FOR THIS SERIES \n \nThis series is presented  with assistance from our cherished friends at Best Video in Hamden\, CT.
URL:https://institutelibrary.org/event/bonsoir-mes-amis-a-screening-of-breathless/
LOCATION:The Institute LIbrary\, 847 Chapel Street\, New Haven\, CT\, 06510
CATEGORIES:Film
ATTACH;FMTTYPE=image/png:https://institutelibrary.org/wp-content/uploads/2024/08/Screen-Shot-2024-08-20-at-3.15.34-PM.png
END:VEVENT
BEGIN:VEVENT
DTSTART;TZID=America/New_York:20240912T143000
DTEND;TZID=America/New_York:20240912T170000
DTSTAMP:20260423T153500
CREATED:20240807T025807Z
LAST-MODIFIED:20240807T231727Z
UID:5142-1726151400-1726160400@institutelibrary.org
SUMMARY:Bonsoir\, Mes Amis: A Screening of Orpheus
DESCRIPTION:Doors open at 6:30  | Movie starts 7:00\nThe stars are aligning and we will be screening another series of three films: this time\, French flicks are the name of the game. The first movie\, Beauty and the Beast\, will be screened on Thursday August 29th — the second two movies will have their moments in the dark on September 8th and 26th. The movie screenings have proven sufficiently popular we’ve decided to ask for RSVPs to ensure seating space for all who come.\n\n\n$10 Suggested Donation hugely appreciated merci beaucoup à nos amies!\n \nPlease RSVP : Orpheus\nOnline donation link here TAILORED SPECIFICALLY FOR THIS SERIES \n \nThis series is presented  with assistance from our cherished friends at Best Video in Hamden\, CT.
URL:https://institutelibrary.org/event/bonsoir-mes-amis-a-screening-of-orpheus/
LOCATION:The Institute LIbrary\, 847 Chapel Street\, New Haven\, CT\, 06510
CATEGORIES:Film
ATTACH;FMTTYPE=image/png:https://institutelibrary.org/wp-content/uploads/2024/08/Orpheus-Screenshot-.png
END:VEVENT
BEGIN:VEVENT
DTSTART;TZID=America/New_York:20240829T143000
DTEND;TZID=America/New_York:20240829T170000
DTSTAMP:20260423T153500
CREATED:20240807T025227Z
LAST-MODIFIED:20240807T031805Z
UID:5134-1724941800-1724950800@institutelibrary.org
SUMMARY:Bonsoir\, Mes Amis: A Screening of Beauty and the Beast 
DESCRIPTION:Doors open at 6:30  | Movie starts 7:00\nThe stars are aligning and we will be screening another series of three films: this time\, French flicks are the name of the game. The first movie\, Beauty and the Beast\, will be screened on Thursday August 29th — the second two movies will have their moments in the dark on September 8th and 26th. The movie screenings have proven sufficiently popular we’ve decided to ask for RSVPs to ensure seating space for all who come.\n\n\n$10 Suggested Donation hugely appreciated merci beaucoup à nos amies!\n \nPlease RSVP : Beauty and the Beast \nOnline donation link here TAILORED SPECIFICALLY FOR THIS SERIES \n \nThis series is presented  with assistance from our cherished friends at Best Video in Hamden\, CT.
URL:https://institutelibrary.org/event/bonsoir-mes-amis-a-screening-of-beauty-and-the-beast/
LOCATION:The Institute LIbrary\, 847 Chapel Street\, New Haven\, CT\, 06510
CATEGORIES:Film
ATTACH;FMTTYPE=image/png:https://institutelibrary.org/wp-content/uploads/2024/08/Beauty-and-the-Beast-Screenshot.png
END:VEVENT
BEGIN:VEVENT
DTSTART;TZID=America/New_York:20240725T143000
DTEND;TZID=America/New_York:20240725T173000
DTSTAMP:20260423T153500
CREATED:20240612T084642Z
LAST-MODIFIED:20240630T220143Z
UID:5071-1721917800-1721928600@institutelibrary.org
SUMMARY:Italian Cinema:  Le Notte de Cabiria (Nights of Cabiria) (Fellini\, 1957\, not rated)
DESCRIPTION:Le Notte de Cabiria (Nights of Cabiria) (Fellini\, 1957\, not rated) \nDoors open at 6:30\, movie starts at 7:00 \nCiao\, Bella: Classic Italian Cinema\, screened at the Institute Library. A short summer film series\, designed for you to enjoy and escape from Life as You Know It. Movies shown with subtitles (NOT dubbed). These events are free and open to all ($10 suggested donation\, if you can swing it): No RSVP or ticket required. \nItalian ices provided to enrich your movie-going experience.\nGot questions? Email Eva@InstituteLibrary.org
URL:https://institutelibrary.org/event/italian-cinema-le-notte-de-cabiria-nights-of-cabiria-fellini-1957-not-rated/
LOCATION:The Institute LIbrary\, 847 Chapel Street\, New Haven\, CT\, 06510
CATEGORIES:Film
ATTACH;FMTTYPE=image/png:https://institutelibrary.org/wp-content/uploads/2024/06/Ciao-Bella.png
END:VEVENT
BEGIN:VEVENT
DTSTART;TZID=America/New_York:20240711T143000
DTEND;TZID=America/New_York:20240711T173000
DTSTAMP:20260423T153500
CREATED:20240612T084307Z
LAST-MODIFIED:20240630T214813Z
UID:5069-1720708200-1720719000@institutelibrary.org
SUMMARY:Italian Cinema: Mamma Roma (Pasolini\, 1962\, not rated)
DESCRIPTION:Mamma Roma (Pasolini\, 1962\, not rated) \nDoors open at 6:30\, movie starts at 7:00 \nCiao\, Bella: Classic Italian Cinema\, screened at the Institute Library. A short summer film series\, designed for you to enjoy and escape from Life as You Know It. Movies shown with subtitles (NOT dubbed). These events are free and open to all ($10 suggested donation\, if you can swing it): No RSVP or ticket required. \nItalian ices provided to enrich your movie-going experience.\nGot questions? Email Eva@InstituteLibrary.org
URL:https://institutelibrary.org/event/italian-cinema-mamma-roma-pasolini-1962-not-rated/
LOCATION:The Institute LIbrary\, 847 Chapel Street\, New Haven\, CT\, 06510
CATEGORIES:Film
ATTACH;FMTTYPE=image/png:https://institutelibrary.org/wp-content/uploads/2024/06/Ciao-Bella.png
END:VEVENT
BEGIN:VEVENT
DTSTART;TZID=America/New_York:20240625T143000
DTEND;TZID=America/New_York:20240625T173000
DTSTAMP:20260423T153500
CREATED:20240612T084027Z
LAST-MODIFIED:20240630T214928Z
UID:5065-1719325800-1719336600@institutelibrary.org
SUMMARY:Italian Cinema: La Citta della Donne (City of Women)(Fellini\, 1980\, rated R)
DESCRIPTION:La Citta della Donne (City of Women) (Fellini\, 1980\, rated R) \nDoors open at 6:30\, movie starts at 7:00 \nCiao\, Bella: Classic Italian Cinema\, screened at the Institute Library. A short summer film series\, designed for you to enjoy and escape from Life as You Know It. Movies shown with subtitles (NOT dubbed). These events are free and open to all ($10 suggested donation\, if you can swing it): No RSVP or ticket required. \nItalian ices provided to enrich your movie-going experience.\nGot questions? Email Eva@InstituteLibrary.org
URL:https://institutelibrary.org/event/italian-cinema-la-citta-della-donne-city-of-womenfellini-1980-rated-r/
LOCATION:The Institute LIbrary\, 847 Chapel Street\, New Haven\, CT\, 06510
CATEGORIES:Film
ATTACH;FMTTYPE=image/png:https://institutelibrary.org/wp-content/uploads/2024/06/Ciao-Bella.png
END:VEVENT
BEGIN:VEVENT
DTSTART;TZID=America/New_York:20240209T130000
DTEND;TZID=America/New_York:20240209T150000
DTSTAMP:20260423T153500
CREATED:20240201T224612Z
LAST-MODIFIED:20240202T034942Z
UID:4883-1707483600-1707490800@institutelibrary.org
SUMMARY:Special Film Event: The Age of Love
DESCRIPTION:Free Screening • Refreshments\nFRIDAY\, FEBRUARY 9 • 6-8 PM\nLimited Seating\nRSVP NOW! Use this form to RSVP
URL:https://institutelibrary.org/event/special-film-event-the-age-of-love/
LOCATION:The Institute LIbrary\, 847 Chapel Street\, New Haven\, CT\, 06510
CATEGORIES:Film
ATTACH;FMTTYPE=image/jpeg:https://institutelibrary.org/wp-content/uploads/2024/02/TAOL-INSTITUTE-LIBRARY-FLYER-2024-1-1.jpg
END:VEVENT
END:VCALENDAR