BEGIN:VCALENDAR
VERSION:2.0
PRODID:-//The Institute Library - ECPv6.15.13//NONSGML v1.0//EN
CALSCALE:GREGORIAN
METHOD:PUBLISH
X-WR-CALNAME:The Institute Library
X-ORIGINAL-URL:https://institutelibrary.org
X-WR-CALDESC:Events for The Institute Library
REFRESH-INTERVAL;VALUE=DURATION:PT1H
X-Robots-Tag:noindex
X-PUBLISHED-TTL:PT1H
BEGIN:VTIMEZONE
TZID:America/New_York
BEGIN:DAYLIGHT
TZOFFSETFROM:-0500
TZOFFSETTO:-0400
TZNAME:EDT
DTSTART:20240310T070000
END:DAYLIGHT
BEGIN:STANDARD
TZOFFSETFROM:-0400
TZOFFSETTO:-0500
TZNAME:EST
DTSTART:20241103T060000
END:STANDARD
BEGIN:DAYLIGHT
TZOFFSETFROM:-0500
TZOFFSETTO:-0400
TZNAME:EDT
DTSTART:20250309T070000
END:DAYLIGHT
BEGIN:STANDARD
TZOFFSETFROM:-0400
TZOFFSETTO:-0500
TZNAME:EST
DTSTART:20251102T060000
END:STANDARD
BEGIN:DAYLIGHT
TZOFFSETFROM:-0500
TZOFFSETTO:-0400
TZNAME:EDT
DTSTART:20260308T070000
END:DAYLIGHT
BEGIN:STANDARD
TZOFFSETFROM:-0400
TZOFFSETTO:-0500
TZNAME:EST
DTSTART:20261101T060000
END:STANDARD
END:VTIMEZONE
BEGIN:VEVENT
DTSTART;TZID=America/New_York:20251005T080000
DTEND;TZID=America/New_York:20251214T170000
DTSTAMP:20260423T090900
CREATED:20251007T214804Z
LAST-MODIFIED:20251007T214859Z
UID:5729-1759651200-1765731600@institutelibrary.org
SUMMARY:In the Gallery: Glorious Index 2025
DESCRIPTION:A group exhibition of small works by artists participating in New Haven’s Open Studios. \nOctober 4-December 14\, 2025
URL:https://institutelibrary.org/event/glorious-index-2025/
LOCATION:The Institute LIbrary\, 847 Chapel Street\, New Haven\, CT\, 06510
ATTACH;FMTTYPE=image/jpeg:https://institutelibrary.org/wp-content/uploads/2025/10/33d17bce-b2fb-960c-2057-7ea8dbb9138d.jpg
END:VEVENT
BEGIN:VEVENT
DTSTART;TZID=America/New_York:20251211T183000
DTEND;TZID=America/New_York:20251211T210000
DTSTAMP:20260423T090900
CREATED:20251121T172440Z
LAST-MODIFIED:20251122T021040Z
UID:5761-1765477800-1765486800@institutelibrary.org
SUMMARY:A Cozy Evening with Brian Ember: Roasting Holiday Chestnuts in the Institute Library
DESCRIPTION:Some know the vocalist Brian Ember for his operatic turns in Vermont; some know his dramatic performances at local music venues in New Haven. This evening\, Brian will realize a dream: performing a run of classic secular holiday songs. Think Bing Crosby\, think Bowie; think Irving Berlin; think of a pink feathered boa. Think and make plans to be here for this very special evening. \nDoors at 6:30\nStart time: 7:00\nEnd time: 9:00 \nTickets required: $25 each; seating limited to 50. \nTWO WAYS TO BUY TICKETS:\n• To purchase with a credit card\, click here.\n• To purchase using a cash app\, click here.
URL:https://institutelibrary.org/event/a-cozy-evening-with-brian-ember-roasting-holiday-chestnuts-in-the-institute-library/
LOCATION:The Institute LIbrary\, 847 Chapel Street\, New Haven\, CT\, 06510
CATEGORIES:Musical Event
ATTACH;FMTTYPE=image/jpeg:https://institutelibrary.org/wp-content/uploads/2025/11/Holiday-Embers-cover.jpg
END:VEVENT
END:VCALENDAR