BEGIN:VCALENDAR
VERSION:2.0
PRODID:-//The Institute Library - ECPv6.15.13//NONSGML v1.0//EN
CALSCALE:GREGORIAN
METHOD:PUBLISH
X-WR-CALNAME:The Institute Library
X-ORIGINAL-URL:https://institutelibrary.org
X-WR-CALDESC:Events for The Institute Library
REFRESH-INTERVAL;VALUE=DURATION:PT1H
X-Robots-Tag:noindex
X-PUBLISHED-TTL:PT1H
BEGIN:VTIMEZONE
TZID:America/New_York
BEGIN:DAYLIGHT
TZOFFSETFROM:-0500
TZOFFSETTO:-0400
TZNAME:EDT
DTSTART:20240310T070000
END:DAYLIGHT
BEGIN:STANDARD
TZOFFSETFROM:-0400
TZOFFSETTO:-0500
TZNAME:EST
DTSTART:20241103T060000
END:STANDARD
BEGIN:DAYLIGHT
TZOFFSETFROM:-0500
TZOFFSETTO:-0400
TZNAME:EDT
DTSTART:20250309T070000
END:DAYLIGHT
BEGIN:STANDARD
TZOFFSETFROM:-0400
TZOFFSETTO:-0500
TZNAME:EST
DTSTART:20251102T060000
END:STANDARD
BEGIN:DAYLIGHT
TZOFFSETFROM:-0500
TZOFFSETTO:-0400
TZNAME:EDT
DTSTART:20260308T070000
END:DAYLIGHT
BEGIN:STANDARD
TZOFFSETFROM:-0400
TZOFFSETTO:-0500
TZNAME:EST
DTSTART:20261101T060000
END:STANDARD
END:VTIMEZONE
BEGIN:VEVENT
DTSTART;VALUE=DATE:20250708
DTEND;VALUE=DATE:20250907
DTSTAMP:20260423T075608
CREATED:20250708T222213Z
LAST-MODIFIED:20250708T222213Z
UID:5647-1751932800-1757203199@institutelibrary.org
SUMMARY:Precious: Gathering What We Love.
DESCRIPTION:Precious: Gathering What We Love. Curiosities\, Cabinets\, Connoisseurship & Collecting | 7/10-9/6\nOpening Reception\, Thursday\, 7/10\, 6-8pm
URL:https://institutelibrary.org/event/precious-gathering-what-we-love/
LOCATION:The Gallery Upstairs at The Institute Library\, 847 Chapel Street\, New Haven\, CT\, 06510\, United States
CATEGORIES:The Gallery Upstairs
END:VEVENT
BEGIN:VEVENT
DTSTART;TZID=America/New_York:20250715T190000
DTEND;TZID=America/New_York:20250715T203000
DTSTAMP:20260423T075608
CREATED:20250708T130352Z
LAST-MODIFIED:20250708T225126Z
UID:5618-1752606000-1752611400@institutelibrary.org
SUMMARY:Outwitted and Outplayed? Inside the 2024 election: A Talk with Chris Whipple\, author of Uncharted: How Trump Beat Biden\, Harris\, and the Odds in the Wildest Campaign in History
DESCRIPTION:A relaxed conversation with Chris Whipple \n \nChris Whipple’s new book\, “Uncharted: How Trump Beat Biden\, Harris\, and the Odds in the Wildest Campaign in History” exposes how ambition\, conviction\, corruption\, and luck drove the most consequential election in modern history. Hear Chris relate never-told-before stories from inside both the Trump and Harris campaigns by way of political heavyweights such as Paul Manafort\, Jared and Ivanka Kushner\, Kellyanne Conway\, Leon Panetta\, and Biden chiefs-of-staff Ron Klain and Jeffrey Zients. Chris Whipple is a New York Times bestselling author and widely acclaimed documentary filmmaker\, speaker\, and Peabody and Emmy Award-winning journalist. A former producer at 60 Minutes\, he now contributes to The New York Times and The Washington Post\, and has written for Vanity Fair\, Politico\, and the Daily Beast\, among other outlets. He is the author of numerous groundbreaking political books\, including “The Gatekeepers: How the White House Chiefs of Staff Define Every Presidency” and “The Fight of His Life: Inside Joe Biden’s White House.” \nFree for those who are currently members of the Institute Library; non-members $10 (suggested contribution). \nLimited Seating\, please click here to RSVP or use the QR code below.
URL:https://institutelibrary.org/event/outwitted-and-outplayed-inside-the-2024-election-a-talk-with-chris-whipple-author-of-uncharted-how-trump-beat-biden-harris-and-the-odds-in-the-wildest-campaign-in-history/
LOCATION:CT
CATEGORIES:Literary Event
ATTACH;FMTTYPE=image/jpeg:https://institutelibrary.org/wp-content/uploads/2025/07/thumbnail_UNCHARTED-book-cover-.jpg
END:VEVENT
END:VCALENDAR