BEGIN:VCALENDAR
VERSION:2.0
PRODID:-//The Institute Library - ECPv6.15.13//NONSGML v1.0//EN
CALSCALE:GREGORIAN
METHOD:PUBLISH
X-WR-CALNAME:The Institute Library
X-ORIGINAL-URL:https://institutelibrary.org
X-WR-CALDESC:Events for The Institute Library
REFRESH-INTERVAL;VALUE=DURATION:PT1H
X-Robots-Tag:noindex
X-PUBLISHED-TTL:PT1H
BEGIN:VTIMEZONE
TZID:America/New_York
BEGIN:DAYLIGHT
TZOFFSETFROM:-0500
TZOFFSETTO:-0400
TZNAME:EDT
DTSTART:20230312T070000
END:DAYLIGHT
BEGIN:STANDARD
TZOFFSETFROM:-0400
TZOFFSETTO:-0500
TZNAME:EST
DTSTART:20231105T060000
END:STANDARD
BEGIN:DAYLIGHT
TZOFFSETFROM:-0500
TZOFFSETTO:-0400
TZNAME:EDT
DTSTART:20240310T070000
END:DAYLIGHT
BEGIN:STANDARD
TZOFFSETFROM:-0400
TZOFFSETTO:-0500
TZNAME:EST
DTSTART:20241103T060000
END:STANDARD
BEGIN:DAYLIGHT
TZOFFSETFROM:-0500
TZOFFSETTO:-0400
TZNAME:EDT
DTSTART:20250309T070000
END:DAYLIGHT
BEGIN:STANDARD
TZOFFSETFROM:-0400
TZOFFSETTO:-0500
TZNAME:EST
DTSTART:20251102T060000
END:STANDARD
END:VTIMEZONE
BEGIN:VEVENT
DTSTART;VALUE=DATE:20241004
DTEND;VALUE=DATE:20241215
DTSTAMP:20260423T090901
CREATED:20240920T194250Z
LAST-MODIFIED:20240920T194250Z
UID:5220-1728072000-1734202799@institutelibrary.org
SUMMARY:Glorious Index: New Haven Fall Open Studios\, 2024
DESCRIPTION:Hours: Tues – Fri: 11-5 / Sat: 12-2\nSun & Mon: Closed
URL:https://institutelibrary.org/event/glorious-index-new-haven-fall-open-studios-2024/
LOCATION:CT
CATEGORIES:The Gallery Upstairs
ATTACH;FMTTYPE=image/jpeg:https://institutelibrary.org/wp-content/uploads/2024/09/index-final.open_.studios.jpg
END:VEVENT
BEGIN:VEVENT
DTSTART;TZID=America/New_York:20241015T183000
DTEND;TZID=America/New_York:20241015T203000
DTSTAMP:20260423T090901
CREATED:20241017T025816Z
LAST-MODIFIED:20241016T233317Z
UID:5261-1729017000-1729024200@institutelibrary.org
SUMMARY:Listen Here!
DESCRIPTION:Bennett Lovett-Graff returns to shepherd you through an evening of classic short fiction\, read aloud by actors from the New Haven Theater Company. This evening\, we will hear two stories by Raymond Carver: “Cathedral” and “Fat”. \nThis event is free and open to the public\, but donations to the Institute Library are deeply appreciated.
URL:https://institutelibrary.org/event/listen-here/
LOCATION:The Institute LIbrary\, 847 Chapel Street\, New Haven\, CT\, 06510
CATEGORIES:Literary Event
ATTACH;FMTTYPE=image/jpeg:https://institutelibrary.org/wp-content/uploads/2016/12/listen_here-poe-bubble.jpg
END:VEVENT
END:VCALENDAR