BEGIN:VCALENDAR
VERSION:2.0
PRODID:-//The Institute Library - ECPv6.15.13//NONSGML v1.0//EN
CALSCALE:GREGORIAN
METHOD:PUBLISH
X-ORIGINAL-URL:https://institutelibrary.org
X-WR-CALDESC:Events for The Institute Library
REFRESH-INTERVAL;VALUE=DURATION:PT1H
X-Robots-Tag:noindex
X-PUBLISHED-TTL:PT1H
BEGIN:VTIMEZONE
TZID:America/New_York
BEGIN:DAYLIGHT
TZOFFSETFROM:-0500
TZOFFSETTO:-0400
TZNAME:EDT
DTSTART:20230312T070000
END:DAYLIGHT
BEGIN:STANDARD
TZOFFSETFROM:-0400
TZOFFSETTO:-0500
TZNAME:EST
DTSTART:20231105T060000
END:STANDARD
BEGIN:DAYLIGHT
TZOFFSETFROM:-0500
TZOFFSETTO:-0400
TZNAME:EDT
DTSTART:20240310T070000
END:DAYLIGHT
BEGIN:STANDARD
TZOFFSETFROM:-0400
TZOFFSETTO:-0500
TZNAME:EST
DTSTART:20241103T060000
END:STANDARD
BEGIN:DAYLIGHT
TZOFFSETFROM:-0500
TZOFFSETTO:-0400
TZNAME:EDT
DTSTART:20250309T070000
END:DAYLIGHT
BEGIN:STANDARD
TZOFFSETFROM:-0400
TZOFFSETTO:-0500
TZNAME:EST
DTSTART:20251102T060000
END:STANDARD
END:VTIMEZONE
BEGIN:VEVENT
DTSTART;TZID=America/New_York:20240921T120000
DTEND;TZID=America/New_York:20240921T140000
DTSTAMP:20260423T122305
CREATED:20240914T002041Z
LAST-MODIFIED:20240914T064526Z
UID:5206-1726920000-1726927200@institutelibrary.org
SUMMARY:Poet Joan Kwon Glass reading from her new collection of poetry\, Daughter of Three Gone Kingdoms (Perugia Press\, 2024)
DESCRIPTION:Doors open at 4:00\nTea/reading concludes by 6:00\n \n\n\nWinner of the 2024 Perugia Press Poetry Prize\, Daughter of Three Gone Kingdoms explores themes familiar to those who know Kwon’s work: it’s described as part lamentation and part hymn—an illumination of diasporic hungers\, hauntings\, absence\, and resilience. This collection “explores colonialism and “postcolonialism” through disordered eating\, suicide loss\, religious damage\, familial estrangement\, addiction\, motherhood\, and recovery. These poems ask urgent questions: What does it mean to be a mixed-race survivor of generational traumas in a world that often insists on binaries and singular narratives? What role does “hunger” play in navigating life in the diaspora? And\, ultimately\, what is required to raise an American daughter while forging a path forward?” Joan Kwon Glass\, Milford Poet Laureate\, is known for her searching\, thoughtful earlier works\, Night Swim (2023)\, Pancakes for a Dead Boy (2022)\, and If Rust Can Grow on the Moon (2022). She is the editor of Harbor Review\, and the winner of numerous awards and prizes for her work. This event is free and open to the public. \nView event on Facebook.
URL:https://institutelibrary.org/event/poet-joan-kwon-glass-reading-from-her-new-collection-of-poetry-daughter-of-three-gone-kingdoms-perugia-press-2024/
LOCATION:The Institute LIbrary\, 847 Chapel Street\, New Haven\, CT\, 06510
CATEGORIES:Literary Event
ATTACH;FMTTYPE=image/png:https://institutelibrary.org/wp-content/uploads/2024/09/Book-Cover-Glass-.png
END:VEVENT
END:VCALENDAR