BEGIN:VCALENDAR
VERSION:2.0
PRODID:-//The Institute Library - ECPv6.15.13//NONSGML v1.0//EN
CALSCALE:GREGORIAN
METHOD:PUBLISH
X-WR-CALNAME:The Institute Library
X-ORIGINAL-URL:https://institutelibrary.org
X-WR-CALDESC:Events for The Institute Library
REFRESH-INTERVAL;VALUE=DURATION:PT1H
X-Robots-Tag:noindex
X-PUBLISHED-TTL:PT1H
BEGIN:VTIMEZONE
TZID:America/New_York
BEGIN:DAYLIGHT
TZOFFSETFROM:-0500
TZOFFSETTO:-0400
TZNAME:EDT
DTSTART:20230312T070000
END:DAYLIGHT
BEGIN:STANDARD
TZOFFSETFROM:-0400
TZOFFSETTO:-0500
TZNAME:EST
DTSTART:20231105T060000
END:STANDARD
BEGIN:DAYLIGHT
TZOFFSETFROM:-0500
TZOFFSETTO:-0400
TZNAME:EDT
DTSTART:20240310T070000
END:DAYLIGHT
BEGIN:STANDARD
TZOFFSETFROM:-0400
TZOFFSETTO:-0500
TZNAME:EST
DTSTART:20241103T060000
END:STANDARD
BEGIN:DAYLIGHT
TZOFFSETFROM:-0500
TZOFFSETTO:-0400
TZNAME:EDT
DTSTART:20250309T070000
END:DAYLIGHT
BEGIN:STANDARD
TZOFFSETFROM:-0400
TZOFFSETTO:-0500
TZNAME:EST
DTSTART:20251102T060000
END:STANDARD
END:VTIMEZONE
BEGIN:VEVENT
DTSTART;VALUE=DATE:20240529
DTEND;VALUE=DATE:20240909
DTSTAMP:20260423T121936
CREATED:20240529T001739Z
LAST-MODIFIED:20240529T002024Z
UID:5058-1717012800-1725825599@institutelibrary.org
SUMMARY:De-Circulated: An Interpretation of Banned Books\, Art by Karen Duncan Pape
DESCRIPTION:De-Circulated: An Interpretation of Banned Books\, Art by Karen Duncan Pape\nPosters by Jeanne  Criscola and featuring favorite banned books from the Library and our Community. \nWhat books are being banned and where?\nSee Karen Pape’s updated list here: \nhttps://mcusercontent.com/1c3aeb8c5e84e311c51042004/files/6b67ffc2-b6b4-d5c5-a8fc-d2b2ad15429b/banned_books_inprogess_to_print.pdf \nDe-Circulated opens with a party on Thursday\, May 30 6-8 pm\nand runs through September 8 when we will close with a ticketed adult-only event related to the show- a banned book burlesque cabaret by Madame Thalia and friends.For this live performance the library will be transformed into a multi-media speakeasy. \nYou don’t want to miss this.
URL:https://institutelibrary.org/event/de-circulated-an-interpretation-of-banned-books-art-by-karen-duncan-pape/
LOCATION:The Gallery Upstairs at The Institute Library\, 847 Chapel Street\, New Haven\, CT\, 06510\, United States
CATEGORIES:The Gallery Upstairs
ATTACH;FMTTYPE=image/jpeg:https://institutelibrary.org/wp-content/uploads/2024/05/decirculated-evite-mwl-copy-1.jpg
END:VEVENT
BEGIN:VEVENT
DTSTART;TZID=America/New_York:20240829T143000
DTEND;TZID=America/New_York:20240829T170000
DTSTAMP:20260423T121936
CREATED:20240807T025227Z
LAST-MODIFIED:20240807T031805Z
UID:5134-1724941800-1724950800@institutelibrary.org
SUMMARY:Bonsoir\, Mes Amis: A Screening of Beauty and the Beast 
DESCRIPTION:Doors open at 6:30  | Movie starts 7:00\nThe stars are aligning and we will be screening another series of three films: this time\, French flicks are the name of the game. The first movie\, Beauty and the Beast\, will be screened on Thursday August 29th — the second two movies will have their moments in the dark on September 8th and 26th. The movie screenings have proven sufficiently popular we’ve decided to ask for RSVPs to ensure seating space for all who come.\n\n\n$10 Suggested Donation hugely appreciated merci beaucoup à nos amies!\n \nPlease RSVP : Beauty and the Beast \nOnline donation link here TAILORED SPECIFICALLY FOR THIS SERIES \n \nThis series is presented  with assistance from our cherished friends at Best Video in Hamden\, CT.
URL:https://institutelibrary.org/event/bonsoir-mes-amis-a-screening-of-beauty-and-the-beast/
LOCATION:The Institute LIbrary\, 847 Chapel Street\, New Haven\, CT\, 06510
CATEGORIES:Film
ATTACH;FMTTYPE=image/png:https://institutelibrary.org/wp-content/uploads/2024/08/Beauty-and-the-Beast-Screenshot.png
END:VEVENT
END:VCALENDAR