BEGIN:VCALENDAR
VERSION:2.0
PRODID:-//The Institute Library - ECPv6.15.13//NONSGML v1.0//EN
CALSCALE:GREGORIAN
METHOD:PUBLISH
X-WR-CALNAME:The Institute Library
X-ORIGINAL-URL:https://institutelibrary.org
X-WR-CALDESC:Events for The Institute Library
REFRESH-INTERVAL;VALUE=DURATION:PT1H
X-Robots-Tag:noindex
X-PUBLISHED-TTL:PT1H
BEGIN:VTIMEZONE
TZID:America/New_York
BEGIN:DAYLIGHT
TZOFFSETFROM:-0500
TZOFFSETTO:-0400
TZNAME:EDT
DTSTART:20210314T070000
END:DAYLIGHT
BEGIN:STANDARD
TZOFFSETFROM:-0400
TZOFFSETTO:-0500
TZNAME:EST
DTSTART:20211107T060000
END:STANDARD
BEGIN:DAYLIGHT
TZOFFSETFROM:-0500
TZOFFSETTO:-0400
TZNAME:EDT
DTSTART:20220313T070000
END:DAYLIGHT
BEGIN:STANDARD
TZOFFSETFROM:-0400
TZOFFSETTO:-0500
TZNAME:EST
DTSTART:20221106T060000
END:STANDARD
BEGIN:DAYLIGHT
TZOFFSETFROM:-0500
TZOFFSETTO:-0400
TZNAME:EDT
DTSTART:20230312T070000
END:DAYLIGHT
BEGIN:STANDARD
TZOFFSETFROM:-0400
TZOFFSETTO:-0500
TZNAME:EST
DTSTART:20231105T060000
END:STANDARD
BEGIN:DAYLIGHT
TZOFFSETFROM:-0500
TZOFFSETTO:-0400
TZNAME:EDT
DTSTART:20240310T070000
END:DAYLIGHT
BEGIN:STANDARD
TZOFFSETFROM:-0400
TZOFFSETTO:-0500
TZNAME:EST
DTSTART:20241103T060000
END:STANDARD
END:VTIMEZONE
BEGIN:VEVENT
DTSTART;TZID=America/New_York:20221021T131500
DTEND;TZID=America/New_York:20231021T150000
DTSTAMP:20260424T115341
CREATED:20221012T183638Z
LAST-MODIFIED:20240724T235327Z
UID:4127-1666358100-1697900400@institutelibrary.org
SUMMARY:Happy Hour Jazz
DESCRIPTION:
URL:https://institutelibrary.org/event/happy-hour-jazz-2/
LOCATION:The Institute LIbrary\, 847 Chapel Street\, New Haven\, CT\, 06510
CATEGORIES:Jazz at the Institute Library
ATTACH;FMTTYPE=image/jpeg:https://institutelibrary.org/wp-content/uploads/2022/05/FridayJazzLogo2.jpg
END:VEVENT
BEGIN:VEVENT
DTSTART;TZID=America/New_York:20221021T131500
DTEND;TZID=America/New_York:20231021T150000
DTSTAMP:20260424T115341
CREATED:20221012T183638Z
LAST-MODIFIED:20240724T235327Z
UID:4127-1666358100-1697900400@institutelibrary.org
SUMMARY:Happy Hour Jazz
DESCRIPTION:
URL:https://institutelibrary.org/event/happy-hour-jazz-2/
LOCATION:The Institute LIbrary\, 847 Chapel Street\, New Haven\, CT\, 06510
CATEGORIES:Jazz at the Institute Library
ATTACH;FMTTYPE=image/jpeg:https://institutelibrary.org/wp-content/uploads/2022/05/FridayJazzLogo2.jpg
END:VEVENT
BEGIN:VEVENT
DTSTART;TZID=America/New_York:20221021T131500
DTEND;TZID=America/New_York:20231021T150000
DTSTAMP:20260424T115341
CREATED:20221012T183638Z
LAST-MODIFIED:20240724T235327Z
UID:4127-1666358100-1697900400@institutelibrary.org
SUMMARY:Happy Hour Jazz
DESCRIPTION:
URL:https://institutelibrary.org/event/happy-hour-jazz-2/
LOCATION:The Institute LIbrary\, 847 Chapel Street\, New Haven\, CT\, 06510
CATEGORIES:Jazz at the Institute Library
ATTACH;FMTTYPE=image/jpeg:https://institutelibrary.org/wp-content/uploads/2022/05/FridayJazzLogo2.jpg
END:VEVENT
BEGIN:VEVENT
DTSTART;TZID=America/New_York:20221021T131500
DTEND;TZID=America/New_York:20231021T150000
DTSTAMP:20260424T115341
CREATED:20221012T183638Z
LAST-MODIFIED:20240724T235327Z
UID:4127-1666358100-1697900400@institutelibrary.org
SUMMARY:Happy Hour Jazz
DESCRIPTION:
URL:https://institutelibrary.org/event/happy-hour-jazz-2/
LOCATION:The Institute LIbrary\, 847 Chapel Street\, New Haven\, CT\, 06510
CATEGORIES:Jazz at the Institute Library
ATTACH;FMTTYPE=image/jpeg:https://institutelibrary.org/wp-content/uploads/2022/05/FridayJazzLogo2.jpg
END:VEVENT
BEGIN:VEVENT
DTSTART;TZID=America/New_York:20221021T131500
DTEND;TZID=America/New_York:20231021T150000
DTSTAMP:20260424T115341
CREATED:20221012T183638Z
LAST-MODIFIED:20240724T235327Z
UID:4127-1666358100-1697900400@institutelibrary.org
SUMMARY:Happy Hour Jazz
DESCRIPTION:
URL:https://institutelibrary.org/event/happy-hour-jazz-2/
LOCATION:The Institute LIbrary\, 847 Chapel Street\, New Haven\, CT\, 06510
CATEGORIES:Jazz at the Institute Library
ATTACH;FMTTYPE=image/jpeg:https://institutelibrary.org/wp-content/uploads/2022/05/FridayJazzLogo2.jpg
END:VEVENT
BEGIN:VEVENT
DTSTART;TZID=America/New_York:20221021T131500
DTEND;TZID=America/New_York:20231021T150000
DTSTAMP:20260424T115341
CREATED:20221012T183638Z
LAST-MODIFIED:20240724T235327Z
UID:4127-1666358100-1697900400@institutelibrary.org
SUMMARY:Happy Hour Jazz
DESCRIPTION:
URL:https://institutelibrary.org/event/happy-hour-jazz-2/
LOCATION:The Institute LIbrary\, 847 Chapel Street\, New Haven\, CT\, 06510
CATEGORIES:Jazz at the Institute Library
ATTACH;FMTTYPE=image/jpeg:https://institutelibrary.org/wp-content/uploads/2022/05/FridayJazzLogo2.jpg
END:VEVENT
BEGIN:VEVENT
DTSTART;TZID=America/New_York:20221021T131500
DTEND;TZID=America/New_York:20231021T150000
DTSTAMP:20260424T115341
CREATED:20221012T183638Z
LAST-MODIFIED:20240724T235327Z
UID:4127-1666358100-1697900400@institutelibrary.org
SUMMARY:Happy Hour Jazz
DESCRIPTION:
URL:https://institutelibrary.org/event/happy-hour-jazz-2/
LOCATION:The Institute LIbrary\, 847 Chapel Street\, New Haven\, CT\, 06510
CATEGORIES:Jazz at the Institute Library
ATTACH;FMTTYPE=image/jpeg:https://institutelibrary.org/wp-content/uploads/2022/05/FridayJazzLogo2.jpg
END:VEVENT
BEGIN:VEVENT
DTSTART;TZID=America/New_York:20221021T131500
DTEND;TZID=America/New_York:20231021T150000
DTSTAMP:20260424T115341
CREATED:20221012T183638Z
LAST-MODIFIED:20240724T235327Z
UID:4127-1666358100-1697900400@institutelibrary.org
SUMMARY:Happy Hour Jazz
DESCRIPTION:
URL:https://institutelibrary.org/event/happy-hour-jazz-2/
LOCATION:The Institute LIbrary\, 847 Chapel Street\, New Haven\, CT\, 06510
CATEGORIES:Jazz at the Institute Library
ATTACH;FMTTYPE=image/jpeg:https://institutelibrary.org/wp-content/uploads/2022/05/FridayJazzLogo2.jpg
END:VEVENT
BEGIN:VEVENT
DTSTART;TZID=America/New_York:20221021T131500
DTEND;TZID=America/New_York:20231021T150000
DTSTAMP:20260424T115341
CREATED:20221012T183638Z
LAST-MODIFIED:20240724T235327Z
UID:4127-1666358100-1697900400@institutelibrary.org
SUMMARY:Happy Hour Jazz
DESCRIPTION:
URL:https://institutelibrary.org/event/happy-hour-jazz-2/
LOCATION:The Institute LIbrary\, 847 Chapel Street\, New Haven\, CT\, 06510
CATEGORIES:Jazz at the Institute Library
ATTACH;FMTTYPE=image/jpeg:https://institutelibrary.org/wp-content/uploads/2022/05/FridayJazzLogo2.jpg
END:VEVENT
BEGIN:VEVENT
DTSTART;TZID=America/New_York:20221021T131500
DTEND;TZID=America/New_York:20231021T150000
DTSTAMP:20260424T115341
CREATED:20221012T183638Z
LAST-MODIFIED:20240724T235327Z
UID:4127-1666358100-1697900400@institutelibrary.org
SUMMARY:Happy Hour Jazz
DESCRIPTION:
URL:https://institutelibrary.org/event/happy-hour-jazz-2/
LOCATION:The Institute LIbrary\, 847 Chapel Street\, New Haven\, CT\, 06510
CATEGORIES:Jazz at the Institute Library
ATTACH;FMTTYPE=image/jpeg:https://institutelibrary.org/wp-content/uploads/2022/05/FridayJazzLogo2.jpg
END:VEVENT
BEGIN:VEVENT
DTSTART;TZID=America/New_York:20221021T131500
DTEND;TZID=America/New_York:20231021T150000
DTSTAMP:20260424T115341
CREATED:20221012T183638Z
LAST-MODIFIED:20240724T235327Z
UID:4127-1666358100-1697900400@institutelibrary.org
SUMMARY:Happy Hour Jazz
DESCRIPTION:
URL:https://institutelibrary.org/event/happy-hour-jazz-2/
LOCATION:The Institute LIbrary\, 847 Chapel Street\, New Haven\, CT\, 06510
CATEGORIES:Jazz at the Institute Library
ATTACH;FMTTYPE=image/jpeg:https://institutelibrary.org/wp-content/uploads/2022/05/FridayJazzLogo2.jpg
END:VEVENT
BEGIN:VEVENT
DTSTART;TZID=America/New_York:20221021T131500
DTEND;TZID=America/New_York:20231021T150000
DTSTAMP:20260424T115341
CREATED:20221012T183638Z
LAST-MODIFIED:20240724T235327Z
UID:4127-1666358100-1697900400@institutelibrary.org
SUMMARY:Happy Hour Jazz
DESCRIPTION:
URL:https://institutelibrary.org/event/happy-hour-jazz-2/
LOCATION:The Institute LIbrary\, 847 Chapel Street\, New Haven\, CT\, 06510
CATEGORIES:Jazz at the Institute Library
ATTACH;FMTTYPE=image/jpeg:https://institutelibrary.org/wp-content/uploads/2022/05/FridayJazzLogo2.jpg
END:VEVENT
BEGIN:VEVENT
DTSTART;TZID=America/New_York:20221021T131500
DTEND;TZID=America/New_York:20231021T150000
DTSTAMP:20260424T115341
CREATED:20221012T183638Z
LAST-MODIFIED:20240724T235327Z
UID:4127-1666358100-1697900400@institutelibrary.org
SUMMARY:Happy Hour Jazz
DESCRIPTION:
URL:https://institutelibrary.org/event/happy-hour-jazz-2/
LOCATION:The Institute LIbrary\, 847 Chapel Street\, New Haven\, CT\, 06510
CATEGORIES:Jazz at the Institute Library
ATTACH;FMTTYPE=image/jpeg:https://institutelibrary.org/wp-content/uploads/2022/05/FridayJazzLogo2.jpg
END:VEVENT
BEGIN:VEVENT
DTSTART;TZID=America/New_York:20221021T131500
DTEND;TZID=America/New_York:20231021T150000
DTSTAMP:20260424T115341
CREATED:20221012T183638Z
LAST-MODIFIED:20240724T235327Z
UID:4127-1666358100-1697900400@institutelibrary.org
SUMMARY:Happy Hour Jazz
DESCRIPTION:
URL:https://institutelibrary.org/event/happy-hour-jazz-2/
LOCATION:The Institute LIbrary\, 847 Chapel Street\, New Haven\, CT\, 06510
CATEGORIES:Jazz at the Institute Library
ATTACH;FMTTYPE=image/jpeg:https://institutelibrary.org/wp-content/uploads/2022/05/FridayJazzLogo2.jpg
END:VEVENT
BEGIN:VEVENT
DTSTART;TZID=America/New_York:20221021T131500
DTEND;TZID=America/New_York:20231021T150000
DTSTAMP:20260424T115341
CREATED:20221012T183638Z
LAST-MODIFIED:20240724T235327Z
UID:4127-1666358100-1697900400@institutelibrary.org
SUMMARY:Happy Hour Jazz
DESCRIPTION:
URL:https://institutelibrary.org/event/happy-hour-jazz-2/
LOCATION:The Institute LIbrary\, 847 Chapel Street\, New Haven\, CT\, 06510
CATEGORIES:Jazz at the Institute Library
ATTACH;FMTTYPE=image/jpeg:https://institutelibrary.org/wp-content/uploads/2022/05/FridayJazzLogo2.jpg
END:VEVENT
BEGIN:VEVENT
DTSTART;TZID=America/New_York:20221021T131500
DTEND;TZID=America/New_York:20231021T150000
DTSTAMP:20260424T115341
CREATED:20221012T183638Z
LAST-MODIFIED:20240724T235327Z
UID:4127-1666358100-1697900400@institutelibrary.org
SUMMARY:Happy Hour Jazz
DESCRIPTION:
URL:https://institutelibrary.org/event/happy-hour-jazz-2/
LOCATION:The Institute LIbrary\, 847 Chapel Street\, New Haven\, CT\, 06510
CATEGORIES:Jazz at the Institute Library
ATTACH;FMTTYPE=image/jpeg:https://institutelibrary.org/wp-content/uploads/2022/05/FridayJazzLogo2.jpg
END:VEVENT
BEGIN:VEVENT
DTSTART;TZID=America/New_York:20221021T131500
DTEND;TZID=America/New_York:20231021T150000
DTSTAMP:20260424T115341
CREATED:20221012T183638Z
LAST-MODIFIED:20240724T235327Z
UID:4127-1666358100-1697900400@institutelibrary.org
SUMMARY:Happy Hour Jazz
DESCRIPTION:
URL:https://institutelibrary.org/event/happy-hour-jazz-2/
LOCATION:The Institute LIbrary\, 847 Chapel Street\, New Haven\, CT\, 06510
CATEGORIES:Jazz at the Institute Library
ATTACH;FMTTYPE=image/jpeg:https://institutelibrary.org/wp-content/uploads/2022/05/FridayJazzLogo2.jpg
END:VEVENT
BEGIN:VEVENT
DTSTART;TZID=America/New_York:20221021T131500
DTEND;TZID=America/New_York:20231021T150000
DTSTAMP:20260424T115341
CREATED:20221012T183638Z
LAST-MODIFIED:20240724T235327Z
UID:4127-1666358100-1697900400@institutelibrary.org
SUMMARY:Happy Hour Jazz
DESCRIPTION:
URL:https://institutelibrary.org/event/happy-hour-jazz-2/
LOCATION:The Institute LIbrary\, 847 Chapel Street\, New Haven\, CT\, 06510
CATEGORIES:Jazz at the Institute Library
ATTACH;FMTTYPE=image/jpeg:https://institutelibrary.org/wp-content/uploads/2022/05/FridayJazzLogo2.jpg
END:VEVENT
BEGIN:VEVENT
DTSTART;TZID=America/New_York:20221021T131500
DTEND;TZID=America/New_York:20231021T150000
DTSTAMP:20260424T115341
CREATED:20221012T183638Z
LAST-MODIFIED:20240724T235327Z
UID:4127-1666358100-1697900400@institutelibrary.org
SUMMARY:Happy Hour Jazz
DESCRIPTION:
URL:https://institutelibrary.org/event/happy-hour-jazz-2/
LOCATION:The Institute LIbrary\, 847 Chapel Street\, New Haven\, CT\, 06510
CATEGORIES:Jazz at the Institute Library
ATTACH;FMTTYPE=image/jpeg:https://institutelibrary.org/wp-content/uploads/2022/05/FridayJazzLogo2.jpg
END:VEVENT
BEGIN:VEVENT
DTSTART;TZID=America/New_York:20221021T131500
DTEND;TZID=America/New_York:20231021T150000
DTSTAMP:20260424T115341
CREATED:20221012T183638Z
LAST-MODIFIED:20240724T235327Z
UID:4127-1666358100-1697900400@institutelibrary.org
SUMMARY:Happy Hour Jazz
DESCRIPTION:
URL:https://institutelibrary.org/event/happy-hour-jazz-2/
LOCATION:The Institute LIbrary\, 847 Chapel Street\, New Haven\, CT\, 06510
CATEGORIES:Jazz at the Institute Library
ATTACH;FMTTYPE=image/jpeg:https://institutelibrary.org/wp-content/uploads/2022/05/FridayJazzLogo2.jpg
END:VEVENT
BEGIN:VEVENT
DTSTART;VALUE=DATE:20230310
DTEND;VALUE=DATE:20230507
DTSTAMP:20260424T115341
CREATED:20230301T011641Z
LAST-MODIFIED:20230301T013851Z
UID:4417-1678474800-1683403199@institutelibrary.org
SUMMARY:Sound & Vision II: For the Record
DESCRIPTION:Sound & Vision II: For the Record\nCelebrating Feminism\, Music and Visual Art with a Group Exhibition  of Imaginary Album Covers!\n• Opening Reception: Saturday\, March 11\, 2023 | 4-6 pm\n• Wednesday\, May 3\, 2023 | Closing event in the gallery with an afterparty at Cafe 9 in honor of Women’s History Month.\nThe art exhibition For the Record is a feminist celebration of music and visual art. It will take place at the historic Institute Library in New Haven from March 11 through May 6 in honor of Women’s History Month. The exhibit features dozens of artists who submitted through open call to make imaginary record album covers. The title—For the Record—comes from setting the “record” straight. Being allowed to speak- or sing- for ourselves\, in our own true voices. This is a diverse and inclusive exploration of the roles of women in music. \nFor the Record will not only feature memorabilia from notable musicians but also album covers designed by local artists\, and some treasures unearthed from WPKN’s extensive vinyl archive. \nFor the Record was curated by Martha Willette Lewis as a collaboration between The Institute Library\, WPKN Community Radio and Café 9. The exhibit will feature an opening reception on March 11 with a May 6 closing reception and dance party to wind the whole thing down in style. The Gallery Upstairs at The Institute Library is located at the Institute Library\, 847 Chapel Street\, New Haven CT. \nDon’t miss this fun\, festive and imaginative exploration of feminism and creativity!
URL:https://institutelibrary.org/event/4417/
LOCATION:The Gallery Upstairs at The Institute Library\, 847 Chapel Street\, New Haven\, CT\, 06510\, United States
ATTACH;FMTTYPE=image/jpeg:https://institutelibrary.org/wp-content/uploads/2023/02/final-evite-for-the-record-copy.jpg
END:VEVENT
BEGIN:VEVENT
DTSTART;TZID=America/New_York:20221021T131500
DTEND;TZID=America/New_York:20231021T150000
DTSTAMP:20260424T115341
CREATED:20221012T183638Z
LAST-MODIFIED:20240724T235327Z
UID:4127-1666358100-1697900400@institutelibrary.org
SUMMARY:Happy Hour Jazz
DESCRIPTION:
URL:https://institutelibrary.org/event/happy-hour-jazz-2/
LOCATION:The Institute LIbrary\, 847 Chapel Street\, New Haven\, CT\, 06510
CATEGORIES:Jazz at the Institute Library
ATTACH;FMTTYPE=image/jpeg:https://institutelibrary.org/wp-content/uploads/2022/05/FridayJazzLogo2.jpg
END:VEVENT
BEGIN:VEVENT
DTSTART;TZID=America/New_York:20221021T131500
DTEND;TZID=America/New_York:20231021T150000
DTSTAMP:20260424T115341
CREATED:20221012T183638Z
LAST-MODIFIED:20240724T235327Z
UID:4127-1666358100-1697900400@institutelibrary.org
SUMMARY:Happy Hour Jazz
DESCRIPTION:
URL:https://institutelibrary.org/event/happy-hour-jazz-2/
LOCATION:The Institute LIbrary\, 847 Chapel Street\, New Haven\, CT\, 06510
CATEGORIES:Jazz at the Institute Library
ATTACH;FMTTYPE=image/jpeg:https://institutelibrary.org/wp-content/uploads/2022/05/FridayJazzLogo2.jpg
END:VEVENT
BEGIN:VEVENT
DTSTART;TZID=America/New_York:20221021T131500
DTEND;TZID=America/New_York:20231021T150000
DTSTAMP:20260424T115341
CREATED:20221012T183638Z
LAST-MODIFIED:20240724T235327Z
UID:4127-1666358100-1697900400@institutelibrary.org
SUMMARY:Happy Hour Jazz
DESCRIPTION:
URL:https://institutelibrary.org/event/happy-hour-jazz-2/
LOCATION:The Institute LIbrary\, 847 Chapel Street\, New Haven\, CT\, 06510
CATEGORIES:Jazz at the Institute Library
ATTACH;FMTTYPE=image/jpeg:https://institutelibrary.org/wp-content/uploads/2022/05/FridayJazzLogo2.jpg
END:VEVENT
BEGIN:VEVENT
DTSTART;TZID=America/New_York:20221021T131500
DTEND;TZID=America/New_York:20231021T150000
DTSTAMP:20260424T115341
CREATED:20221012T183638Z
LAST-MODIFIED:20240724T235327Z
UID:4127-1666358100-1697900400@institutelibrary.org
SUMMARY:Happy Hour Jazz
DESCRIPTION:
URL:https://institutelibrary.org/event/happy-hour-jazz-2/
LOCATION:The Institute LIbrary\, 847 Chapel Street\, New Haven\, CT\, 06510
CATEGORIES:Jazz at the Institute Library
ATTACH;FMTTYPE=image/jpeg:https://institutelibrary.org/wp-content/uploads/2022/05/FridayJazzLogo2.jpg
END:VEVENT
BEGIN:VEVENT
DTSTART;TZID=America/New_York:20221021T131500
DTEND;TZID=America/New_York:20231021T150000
DTSTAMP:20260424T115341
CREATED:20221012T183638Z
LAST-MODIFIED:20240724T235327Z
UID:4127-1666358100-1697900400@institutelibrary.org
SUMMARY:Happy Hour Jazz
DESCRIPTION:
URL:https://institutelibrary.org/event/happy-hour-jazz-2/
LOCATION:The Institute LIbrary\, 847 Chapel Street\, New Haven\, CT\, 06510
CATEGORIES:Jazz at the Institute Library
ATTACH;FMTTYPE=image/jpeg:https://institutelibrary.org/wp-content/uploads/2022/05/FridayJazzLogo2.jpg
END:VEVENT
BEGIN:VEVENT
DTSTART;TZID=America/New_York:20221021T131500
DTEND;TZID=America/New_York:20231021T150000
DTSTAMP:20260424T115341
CREATED:20221012T183638Z
LAST-MODIFIED:20240724T235327Z
UID:4127-1666358100-1697900400@institutelibrary.org
SUMMARY:Happy Hour Jazz
DESCRIPTION:
URL:https://institutelibrary.org/event/happy-hour-jazz-2/
LOCATION:The Institute LIbrary\, 847 Chapel Street\, New Haven\, CT\, 06510
CATEGORIES:Jazz at the Institute Library
ATTACH;FMTTYPE=image/jpeg:https://institutelibrary.org/wp-content/uploads/2022/05/FridayJazzLogo2.jpg
END:VEVENT
BEGIN:VEVENT
DTSTART;TZID=America/New_York:20221021T131500
DTEND;TZID=America/New_York:20231021T150000
DTSTAMP:20260424T115341
CREATED:20221012T183638Z
LAST-MODIFIED:20240724T235327Z
UID:4127-1666358100-1697900400@institutelibrary.org
SUMMARY:Happy Hour Jazz
DESCRIPTION:
URL:https://institutelibrary.org/event/happy-hour-jazz-2/
LOCATION:The Institute LIbrary\, 847 Chapel Street\, New Haven\, CT\, 06510
CATEGORIES:Jazz at the Institute Library
ATTACH;FMTTYPE=image/jpeg:https://institutelibrary.org/wp-content/uploads/2022/05/FridayJazzLogo2.jpg
END:VEVENT
BEGIN:VEVENT
DTSTART;TZID=America/New_York:20230429T120000
DTEND;TZID=America/New_York:20230429T140000
DTSTAMP:20260424T115341
CREATED:20230329T023943Z
LAST-MODIFIED:20230329T024041Z
UID:4456-1682769600-1682776800@institutelibrary.org
SUMMARY:Shapeshifting & Dodging Haunts: The Poetics of Haunted Bodies & Haunted Land | A Reading and Conversation between Joan Kwon Glass and Shanta Lee
DESCRIPTION:Shanta Lee  and Joan Kwon Glass: Two Poets\nLee and Glass will discuss their recent projects (Black Metamorphosis and Night Swim\, respectively) in dialogue with one another\, and with YOU!\nBlack Metamorphosis Shanta Lee\nhttps://joankwonglass.com
URL:https://institutelibrary.org/event/shapeshifting-dodging-haunts-the-poetics-of-haunted-bodies-haunted-land-a-reading-and-conversation-between-joan-kwon-glass-and-shanta-lee/
LOCATION:The Institute LIbrary\, 847 Chapel Street\, New Haven\, CT\, 06510
CATEGORIES:Event
END:VEVENT
END:VCALENDAR