BEGIN:VCALENDAR
VERSION:2.0
PRODID:-//The Institute Library - ECPv6.15.13//NONSGML v1.0//EN
CALSCALE:GREGORIAN
METHOD:PUBLISH
X-WR-CALNAME:The Institute Library
X-ORIGINAL-URL:https://institutelibrary.org
X-WR-CALDESC:Events for The Institute Library
REFRESH-INTERVAL;VALUE=DURATION:PT1H
X-Robots-Tag:noindex
X-PUBLISHED-TTL:PT1H
BEGIN:VTIMEZONE
TZID:America/New_York
BEGIN:DAYLIGHT
TZOFFSETFROM:-0500
TZOFFSETTO:-0400
TZNAME:EDT
DTSTART:20210314T070000
END:DAYLIGHT
BEGIN:STANDARD
TZOFFSETFROM:-0400
TZOFFSETTO:-0500
TZNAME:EST
DTSTART:20211107T060000
END:STANDARD
BEGIN:DAYLIGHT
TZOFFSETFROM:-0500
TZOFFSETTO:-0400
TZNAME:EDT
DTSTART:20220313T070000
END:DAYLIGHT
BEGIN:STANDARD
TZOFFSETFROM:-0400
TZOFFSETTO:-0500
TZNAME:EST
DTSTART:20221106T060000
END:STANDARD
BEGIN:DAYLIGHT
TZOFFSETFROM:-0500
TZOFFSETTO:-0400
TZNAME:EDT
DTSTART:20230312T070000
END:DAYLIGHT
BEGIN:STANDARD
TZOFFSETFROM:-0400
TZOFFSETTO:-0500
TZNAME:EST
DTSTART:20231105T060000
END:STANDARD
END:VTIMEZONE
BEGIN:VEVENT
DTSTART;VALUE=DATE:20220715
DTEND;VALUE=DATE:20220923
DTSTAMP:20260425T094105
CREATED:20220714T144001Z
LAST-MODIFIED:20220714T144200Z
UID:3972-1657915200-1663876799@institutelibrary.org
SUMMARY:In the Gallery Upstairs: Decoys & Mimics
DESCRIPTION:  \nJuly 16-September 22\, 2022\nDecoys  &  Mimics is a group exhibition designed to fake you out this summer with books\, objects\, and images. This open-call exhibition mixes books in our collection with decoys\, mimics\, faux\, imitations\, ersatz\, parodies\, fakes\, forgeries\, deceptions\, and—more positively—works addressing transformation\, morphing\, passing\, changing\, and becoming. It’s a beguiling blend of fantasy\, humor\, and mordant wit addressing the now\, the was\, and the never-was….. \nSummer reading has never been so tricky.
URL:https://institutelibrary.org/event/in-the-gallery-upstairs-decoys-mimics/
LOCATION:The Gallery Upstairs at The Institute Library\, 847 Chapel Street\, New Haven\, CT\, 06510\, United States
CATEGORIES:The Gallery Upstairs
ATTACH;FMTTYPE=image/jpeg:https://institutelibrary.org/wp-content/uploads/2022/07/decoy-color-poster-cropped.jpg
END:VEVENT
BEGIN:VEVENT
DTSTART;TZID=America/New_York:20220825T133000
DTEND;TZID=America/New_York:20220825T153000
DTSTAMP:20260425T094105
CREATED:20220605T081757Z
LAST-MODIFIED:20220605T081808Z
UID:3882-1661434200-1661441400@institutelibrary.org
SUMMARY:Sew Sew Social: A Sewing Bee @ The Institute Library
DESCRIPTION:Welcome to the Institute Library’s Sewing Bee! Bring your knitting\, crocheting\, sewing\, embroidery\, needlepoint\, cross-stitch\, quilting\, lace-making (!) or mending project. There are no organized classes\, demos\, or presentations — simply an opportunity to enjoy a casual evening with fellow creatives. We will meet every other Thursday evening\, from 5:30 – 7:30 PM. Just ring the doorbell\, and we will let you in. No registration necessary. So what\, come sew!
URL:https://institutelibrary.org/event/clone-sew-sew-social-a-sewing-bee-the-institute-library-copy-2/
LOCATION:The Institute LIbrary\, 847 Chapel Street\, New Haven\, CT\, 06510
ATTACH;FMTTYPE=image/jpeg:https://institutelibrary.org/wp-content/uploads/2022/05/image001-1.jpg
END:VEVENT
END:VCALENDAR